Workbook

Sheet AB285 Requirements
A12: AB 285 Disproportionate Data Tracking Template
B14: School Year: | C14: 26-27 | E14: School Name: | F14: FuturEdge Academy ES | G14: School Code: | H14: 75401
E16: District: | F16: FuturEdge Charter Academy | G16: District Code: | H16: 75
B18: Contact Name: | C18: Kristen Guthrie | F18: Contact Email: | G18: kristen.guthrie@futuredgeacademy.org
B21: With the passage of Assembly Bill (AB) 285 during the 82nd Legislative Session (2023), each public school is
B22: required to collect quarterly data related to student discipline and the progressive discipline of pupils and onsite
B23: review of disciplinary decisions. The metrics include:
B25: The number of expulsions and suspensions of pupils
B26: The number of vacant staff positions in the school
B27: The average class size for each grade in the school
B28: The implementation of each progressive discipline plan based on restorative justice
B29: The training received by teachers and administrators regarding each progressive discipline plan based on restoravive justice
B30: The number of placements of pupils in another school
B31: The ratio of pupils to school counselors, school psychologists, and school social workers
B33: The data must be aggregated by the types of offense and into the following subgroups:
B35: Pupils who are economically disadvantaged
... B69: eschaldach@unr.edu

Sheet Standardized Definitions
A1: Standardized Discipline Definitions
A3: Disparities in school discipline - The consequences experienced by subgroups of students (e.g., based on
A4: race/ethnicity, disability, and sexual orientation) who are disproportionately or differentially disciplined
A5: at school, including minor behavior incidents and major behavior referrals, and are overrepresented in
A6: rates of exclusionary discipline (school suspension and expulsion).
A8: Disproportionality - A particular group (based on any personal characteristic) being represented in a
A9: given category at a significantly higher or lower rate than other groups.
A10: https://safesupportivelearning.ed.gov/addressing-root-causes-disparities-school-discipline
A12: Standardized Definitions for Student Offenses and Sanctions
A13: The passage of Assembly Bill (AB) 490 in 2019 amended Chapter 385A of Nevada Revised Statutes (NRS) by adding a new section regarding the collection and reporting of student discipline data. Section 2 of NRS 385A.840 requires the Nevada Department of Education (NDE) to “establish standard definitions of an offense for which a pupil may be disciplined and any related sanctions.

Sheet INPUT HERE
B2: School Name | C2: School Year | D2: EntityID | E2: Contact Person | F2: Contact Email
B3: FuturEdge Charter Academy | C3: 2026-2027 | D3: 75401 | E3: Kristen Guthrie | F3: kristen.guthrie@futuredgeacademy.org
B5: Instructions: 1. Input enrollment by subgroup. Students can fall into more than one category - for example, if a student is a female with an IEP, add one to both female and to IEP. Data will auto populate into "Suspension and Expulsion" tabs below. 2. In the bullying and cyberbullying sections, enter data based on subgroup. Note that if a student has more than one incident of bullying or cyberbullying, input the number of incidents for that quarter. 3. Input Suspensions and Expulsions. Note that if a student has more than one suspension/expulsion, input the number of suspensions or expulsions that student has for that quarter. 4. The total number of students who were suspended or expelled will autopopulate on this sheet in the column labeled "Total" as well as on the "Suspension and Expulsion" tabs. 5. This sheet has rows for Quarter 1, Quarter 2, Quarter 3, and Quarter 4. Fill in this sheet throughout the year, only using as many terms as is applicable to you. If you have questions about technical assistance for using this sheet, contact Emily Schaldach at eschaldach@unr.edu. If you have questions about reporting requirements, email Lexi Kovalovich at lexi.kovalovich@doe.nv.gov | BN5: Instructions: 1. Input enrollment by subgroup. Students can fall into more than one category - for example, if a student is a female with an IEP, add one to both female and to IEP. Enrollement number will autopopulate into the "Suspension and Expulsion" tabs. 2. Input the number of bullying and cyberbullying incidents, per the table based on subgroup. Note that if a student has more than one incident of bullying or cyberbullying, input the number of incidents for that quarter. 3. Input Suspensions and Expulsions. Note that if a student has more than one suspension/expulsion, input the number of suspensions or expulsions that student has for that quarter. 4. The total number of students who were suspended or expelled will autopopulate on this sheet in the column labeled "Total" as well as on the "Suspension and Expulsion" tabs. 5. This sheet has rows for Quarter 1, Quarter 2, Quarter 3, and Quarter 4. Fill in this sheet throughout the year, only using as many terms as is applicable to you. If you have questions about technical assistance for using this sheet, contact Emily Schaldach at eschaldach@unr.edu. If you have questions about reporting requirements, email Lexi Kovalovich at lexi.kovalovich@doe.nv.gov
C6: QUARTER 1 | D6: TOTAL STUDENT POPULATION NUMBERS (Q1) | G6: BULLYING AND CYBER BULLYING (Q1) | AA6: SUSPENSIONS (Q1) | AQ6: EXPULSIONS (Q1) | BG6: Subgroup | BH6: Total Number of Students Deemed Habitual Disciplinary Problems NRS 392.4655 (Q1) | BJ6: Subgroup | BK6: Total Number of Students Suspended (Q1) | BL6: Total Number of Students Expelled (Q1)
D7: Subgroup | E7: Student population by subgroup/race | G7: Subgroup | H7: Bullying Behaviors - Number of Bullying Incidents | Q7: Bullying Behaviors - Number of Cyber Bullying Incidents | AA7: Subgroup | AB7: Violent Behaviors | AE7: Substance Use Behaviors | AH7: Weapons Involved Behaviors | AJ7: Prohibited Behaviors | AK7: Disruptions of Class/School Activities | AL7: Threat Behaviors | AM7: Violations of School Rules | AN7: Attendance Related Behaviors (attendance code only) | AO7: Total Number of Students Who Were Suspended (all behaviors/ reasons) | AQ7: Subgroup | AR7: Violent Behaviors | AU7: Substance Use Behaviors | AX7: Weapons Involved Behaviors | AZ7: Prohibited Behaviors | BA7: Disruptions of Class/School Activities | BB7: Threat Behaviors | BC7: Violations of School Rules | BD7: Attendance Related Behaviors (attendance code only) | BE7: Total Number of Students who were expelled (all behaviors/ reasons)
H8: Reported Incidents | I8: Reported Students | J8: Incidents with discrimination Based on Race | K8: Determined to be Unsubstantiated Bullying Incidents | L8: Determined to be Substantiated Bullying Incidents | M8: Of Unsubstantiated How Many Students Were Suspended | N8: Of Subsantiated How Many Students Were Suspended | O8: Of Unsubstantiated How Many Students Were Expelled | P8: Of Substantiated How Many Students Were Expelled | Q8: Reported Incidents | R8: Reported Students | S8: Discrimination Based on Race | T8: Determined to be Unsubstantiated Bullying | U8: Determined to be Substantiated Bullying | V8: Of Unsubstantiated How Many Students Were Suspended | W8: Of Substantiated How Many Students Were Suspended | X8: Of Unsubstantiated How Many Students Were Expelled | Y8: Of Substantiated How Many Students Were Expelled | AB8: Violence to Other Students | AC8: Violence to School Staff | AD8: Sexual Assault | AE8: Distribution of Controlled Substances | AF8: Possession or Use of Controlled Substances | AG8: Possession or Use of Alcoholic Beverages | AH8: Possession of Non-Firearm Weapons | AI8: Possession of Firearms (Guns Free School Act) | AJ8: Code of Honor Violations | AR8: Violence to Other Students | AS8: Violence to School Staff | AT8: Sexual Assault | AU8: Distribution of Controlled Substances | AV8: Possession or Use of Controlled Substances | AW8: Possession or Use of Alcoholic Beverages | AX8: Possession of Weapons | AY8: Possession of Firearms (Guns Free School Act) | AZ8: Code of Honor Violations
D10: Total Q1 Enrollment | E10: =SUM(E11:E13) -> 165
D11: Male | E11: 85 | G11: Male | H11: 1 | I11: 3 | J11: 0 | K11: 1 | L11: 0 | M11: 0 | N11: 0 | O11: 0 | P11: 0 | Q11: 0 | R11: 0 | S11: 0 | T11: 0 | U11: 0 | V11: 0 | W11: 0 | X11: 0 | Y11: 0 | AA11: Male | AB11: 0 | AC11: 0 | AD11: 0 | AE11: 0 | AF11: 0 | AG11: 0 | AH11: 0 | AI11: 0 | AJ11: 0 | AK11: 0 | AL11: 1 | AM11: 0 | AN11: 0 | AO11: 1 | AQ11: Male | AR11: 0 | AS11: 0 | AT11: 0 | AU11: 0 | AV11: 0 | AW11: 0 | AX11: 0 | AY11: 0 | AZ11: 0 | BA11: 0 | BB11: 0 | BC11: 0 | BD11: 0 | BE11: 0 | BG11: Male | BH11: 0 | BJ11: Male | BK11: =AO11 -> 1 | BL11: =BE11 -> 0
D12: Female | E12: 80 | G12: Female | H12: 0 | I12: 0 | J12: 0 | K12: 0 | L12: 0 | M12: 0 | N12: 0 | O12: 0 | P12: 0 | Q12: 0 | R12: 0 | S12: 0 | T12: 0 | U12: 0 | V12: 0 | W12: 0 | X12: 0 | Y12: 0 | AA12: Female | AB12: 0 | AC12: 0 | AD12: 0 | AE12: 0 | AF12: 0 | AG12: 0 | AH12: 0 | AI12: 0 | AJ12: 0 | AK12: 0 | AL12: 1 | AM12: 1 | AN12: 0 | AO12: 2 | AQ12: Female | AR12: 0 | AS12: 0 | AT12: 0 | AU12: 0 | AV12: 0 | AW12: 0 | AX12: 0 | AY12: 0 | AZ12: 0 | BA12: 0 | BB12: 0 | BC12: 0 | BD12: 0 | BE12: 0 | BG12: Female | BH12: 0 | BJ12: Female | BK12: =AO12 -> 2 | BL12: =BE12 -> 0
D13: Gender Non-Conforming/ Trans/NB | E13: 0 | G13: Gender Non-Conforming/ Trans/NB | H13: 0 | I13: 0 | J13: 0 | K13: 0 | L13: 0 | M13: 0 | N13: 0 | O13: 0 | P13: 0 | Q13: 0 | R13: 0 | S13: 0 | T13: 0 | U13: 0 | V13: 0 | W13: 0 | X13: 0 | Y13: 0 | AA13: Gender Non-Conforming/ Trans/NB | AB13: 0 | AC13: 0 | AD13: 0 | AE13: 0 | AF13: 0 | AG13: 0 | AH13: 0 | AI13: 0 | AJ13: 0 | AK13: 0 | AL13: 0 | AM13: 0 | AN13: 0 | AO13: 0 | AQ13: Gender Non-Conforming/ Trans/NB | AR13: 0 | AS13: 0 | AT13: 0 | AU13: 0 | AV13: 0 | AW13: 0 | AX13: 0 | AY13: 0 | AZ13: 0 | BA13: 0 | BB13: 0 | BC13: 0 | BD13: 0 | BE13: 0 | BG13: Gender Non-Conforming/ Trans/NB | BH13: 0 | BJ13: Gender Non-Conforming/ Trans/NB | BK13: =AO13 -> 0 | BL13: =BE13 -> 0
D14: American Indian | E14: 1 | G14: American Indian | H14: 0 | I14: 0 | J14: 0 | K14: 0 | L14: 0 | M14: 0 | N14: 0 | O14: 0 | P14: 0 | Q14: 0 | R14: 0 | S14: 0 | T14: 0 | U14: 0 | V14: 0 | W14: 0 | X14: 0 | Y14: 0 | AA14: American Indian | AB14: 0 | AC14: 0 | AD14: 0 | AE14: 0 | AF14: 0 | AG14: 0 | AH14: 0 | AI14: 0 | AJ14: 0 | AK14: 0 | AL14: 0 | AM14: 0 | AN14: 0 | AO14: 0 | AQ14: American Indian | AR14: 0 | AS14: 0 | AT14: 0 | AU14: 0 | AV14: 0 | AW14: 0 | AX14: 0 | AY14: 0 | AZ14: 0 | BA14: 0 | BB14: 0 | BC14: 0 | BD14: 0 | BE14: 0 | BG14: American Indian | BH14: 0 | BJ14: American Indian | BK14: =AO14 -> 0 | BL14: =BE14 -> 0
D15: Asian | E15: 0 | G15: Asian | H15: 0 | I15: 0 | J15: 0 | K15: 0 | L15: 0 | M15: 0 | N15: 0 | O15: 0 | P15: 0 | Q15: 0 | R15: 0 | S15: 0 | T15: 0 | U15: 0 | V15: 0 | W15: 0 | X15: 0 | Y15: 0 | AA15: Asian | AB15: 0 | AC15: 0 | AD15: 0 | AE15: 0 | AF15: 0 | AG15: 0 | AH15: 0 | AI15: 0 | AJ15: 0 | AK15: 0 | AL15: 0 | AM15: 0 | AN15: 0 | AO15: 0 | AQ15: Asian | AR15: 0 | AS15: 0 | AT15: 0 | AU15: 0 | AV15: 0 | AW15: 0 | AX15: 0 | AY15: 0 | AZ15: 0 | BA15: 0 | BB15: 0 | BC15: 0 | BD15: 0 | BE15: 0 | BG15: Asian | BH15: 0 | BJ15: Asian | BK15: =AO15 -> 0 | BL15: =BE15 -> 0
D16: Black | E16: 101 | G16: Black | H16: 0 | I16: 0 | J16: 0 | K16: 0 | L16: 0 | M16: 0 | N16: 0 | O16: 0 | P16: 0 | Q16: 0 | R16: 0 | S16: 0 | T16: 0 | U16: 0 | V16: 0 | W16: 0 | X16: 0 | Y16: 0 | AA16: Black | AB16: 0 | AC16: 0 | AD16: 0 | AE16: 0 | AF16: 0 | AG16: 0 | AH16: 0 | AI16: 0 | AJ16: 0 | AK16: 0 | AL16: 1 | AM16: 1 | AN16: 0 | AO16: 2 | AQ16: Black | AR16: 0 | AS16: 0 | AT16: 0 | AU16: 0 | AV16: 0 | AW16: 0 | AX16: 0 | AY16: 0 | AZ16: 0 | BA16: 0 | BB16: 0 | BC16: 0 | BD16: 0 | BE16: 0 | BG16: Black | BH16: 0 | BJ16: Black | BK16: =AO16 -> 2 | BL16: =BE16 -> 0
D17: Hispanic/Latino | E17: 40 | G17: Hispanic/Latino | H17: 0 | I17: 0 | J17: 0 | K17: 0 | L17: 0 | M17: 0 | N17: 0 | O17: 0 | P17: 0 | Q17: 0 | R17: 0 | S17: 0 | T17: 0 | U17: 0 | V17: 0 | W17: 0 | X17: 0 | Y17: 0 | AA17: Hispanic/Latino | AB17: 0 | AC17: 0 | AD17: 0 | AE17: 0 | AF17: 0 | AG17: 0 | AH17: 0 | AI17: 0 | AJ17: 0 | AK17: 0 | AL17: 0 | AM17: 0 | AN17: 0 | AO17: 0 | AQ17: Hispanic/Latino | AR17: 0 | AS17: 0 | AT17: 0 | AU17: 0 | AV17: 0 | AW17: 0 | AX17: 0 | AY17: 0 | AZ17: 0 | BA17: 0 | BB17: 0 | BC17: 0 | BD17: 0 | BE17: 0 | BG17: Hispanic/Latino | BH17: 0 | BJ17: Hispanic/Latino | BK17: =AO17 -> 0 | BL17: =BE17 -> 0
D18: Two or More | E18: 17 | G18: Two or More | H18: 0 | I18: 0 | J18: 0 | K18: 0 | L18: 0 | M18: 0 | N18: 0 | O18: 0 | P18: 0 | Q18: 0 | R18: 0 | S18: 0 | T18: 0 | U18: 0 | V18: 0 | W18: 0 | X18: 0 | Y18: 0 | AA18: Two or More | AB18: 0 | AC18: 0 | AD18: 0 | AE18: 0 | AF18: 0 | AG18: 0 | AH18: 0 | AI18: 0 | AJ18: 0 | AK18: 0 | AL18: 0 | AM18: 1 | AN18: 0 | AO18: 1 | AQ18: Two or More | AR18: 0 | AS18: 0 | AT18: 0 | AU18: 0 | AV18: 0 | AW18: 0 | AX18: 0 | AY18: 0 | AZ18: 0 | BA18: 0 | BB18: 0 | BC18: 0 | BD18: 0 | BE18: 0 | BG18: Two or More | BH18: 0 | BJ18: Two or More | BK18: =AO18 -> 1 | BL18: =BE18 -> 0
D19: Pacific Islander | E19: 0 | G19: Pacific Islander | H19: 0 | I19: 0 | J19: 0 | K19: 0 | L19: 0 | M19: 0 | N19: 0 | O19: 0 | P19: 0 | Q19: 0 | R19: 0 | S19: 0 | T19: 0 | U19: 0 | V19: 0 | W19: 0 | X19: 0 | Y19: 0 | AA19: Pacific Islander | AB19: 0 | AC19: 0 | AD19: 0 | AE19: 0 | AF19: 0 | AG19: 0 | AH19: 0 | AI19: 0 | AJ19: 0 | AK19: 0 | AL19: 0 | AM19: 0 | AN19: 0 | AO19: 0 | AQ19: Pacific Islander | AR19: 0 | AS19: 0 | AT19: 0 | AU19: 0 | AV19: 0 | AW19: 0 | AX19: 0 | AY19: 0 | AZ19: 0 | BA19: 0 | BB19: 0 | BC19: 0 | BD19: 0 | BE19: 0 | BG19: Pacific Islander | BH19: 0 | BJ19: Pacific Islander | BK19: =AO19 -> 0 | BL19: =BE19 -> 0
D20: White | E20: 6 | G20: White | H20: 0 | I20: 0 | J20: 0 | K20: 0 | L20: 0 | M20: 0 | N20: 0 | O20: 0 | P20: 0 | Q20: 0 | R20: 0 | S20: 0 | T20: 0 | U20: 0 | V20: 0 | W20: 0 | X20: 0 | Y20: 0 | AA20: White | AB20: 0 | AC20: 0 | AD20: 0 | AE20: 0 | AF20: 0 | AG20: 0 | AH20: 0 | AI20: 0 | AJ20: 0 | AK20: 0 | AL20: 0 | AM20: 0 | AN20: 0 | AO20: 0 | AQ20: White | AR20: 0 | AS20: 0 | AT20: 0 | AU20: 0 | AV20: 0 | AW20: 0 | AX20: 0 | AY20: 0 | AZ20: 0 | BA20: 0 | BB20: 0 | BC20: 0 | BD20: 0 | BE20: 0 | BG20: White | BH20: 0 | BJ20: White | BK20: =AO20 -> 0 | BL20: =BE20 -> 0
D21: EL | E21: 6 | G21: EL | H21: 0 | I21: 0 | J21: 0 | K21: 0 | L21: 0 | M21: 0 | N21: 0 | O21: 0 | P21: 0 | Q21: 0 | R21: 0 | S21: 0 | T21: 0 | U21: 0 | V21: 0 | W21: 0 | X21: 0 | Y21: 0 | AA21: EL | AB21: 0 | AC21: 0 | AD21: 0 | AE21: 0 | AF21: 0 | AG21: 0 | AH21: 0 | AI21: 0 | AJ21: 0 | AK21: 0 | AL21: 0 | AM21: 0 | AN21: 0 | AO21: 0 | AQ21: EL | AR21: 0 | AS21: 0 | AT21: 0 | AU21: 0 | AV21: 0 | AW21: 0 | AX21: 0 | AY21: 0 | AZ21: 0 | BA21: 0 | BB21: 0 | BC21: 0 | BD21: 0 | BE21: 0 | BG21: EL | BH21: 0 | BJ21: EL | BK21: =AO21 -> 0 | BL21: =BE21 -> 0
D22: Foster | E22: 0 | G22: Foster | H22: 0 | I22: 0 | J22: 0 | K22: 0 | L22: 0 | M22: 0 | N22: 0 | O22: 0 | P22: 0 | Q22: 0 | R22: 0 | S22: 0 | T22: 0 | U22: 0 | V22: 0 | W22: 0 | X22: 0 | Y22: 0 | AA22: Foster | AB22: 0 | AC22: 0 | AD22: 0 | AE22: 0 | AF22: 0 | AG22: 0 | AH22: 0 | AI22: 0 | AJ22: 0 | AK22: 0 | AL22: 0 | AM22: 0 | AN22: 0 | AO22: 0 | AQ22: Foster | AR22: 0 | AS22: 0 | AT22: 0 | AU22: 0 | AV22: 0 | AW22: 0 | AX22: 0 | AY22: 0 | AZ22: 0 | BA22: 0 | BB22: 0 | BC22: 0 | BD22: 0 | BE22: 0 | BG22: Foster | BH22: 0 | BJ22: Foster | BK22: =AO22 -> 0 | BL22: =BE22 -> 0
... D27: Military | E27: 2 | G27: Military | H27: 0 | I27: 0 | J27: 0 | K27: 0 | L27: 0 | M27: 0 | N27: 0 | O27: 0 | P27: 0 | Q27: 0 | R27: 0 | S27: 0 | T27: 0 | U27: 0 | V27: 0 | W27: 0 | X27: 0 | Y27: 0 | AA27: Military | AB27: 0 | AC27: 0 | AD27: 0 | AE27: 0 | AF27: 0 | AG27: 0 | AH27: 0 | AI27: 0 | AJ27: 0 | AK27: 0 | AL27: 0 | AM27: 0 | AN27: 0 | AO27: 0 | AQ27: Military | AR27: 0 | AS27: 0 | AT27: 0 | AU27: 0 | AV27: 0 | AW27: 0 | AX27: 0 | AY27: 0 | AZ27: 0 | BA27: 0 | BB27: 0 | BC27: 0 | BD27: 0 | BE27: 0 | BG27: Military | BH27: 0 | BJ27: Military | BK27: =AO27 -> 0 | BL27: =BE27 -> 0
C31: QUARTER 2 | D31: TOTAL STUDENT POPULATION NUMBERS (Q2) | G31: BULLYING AND CYBER BULLYING (Q2) | AA31: SUSPENSIONS (Q2) | AQ31: EXPULSIONS (Q2) | BG31: Subgroup | BH31: Total Number of Students Deemed Habitual Disciplinary Problems NRS 392.4655 (Q2) | BJ31: Subgroup | BK31: Total Number of Students Suspended (Q2) | BL31: Total Number of Students Expelled (Q2)
D32: Subgroup | E32: Student population by subgroup/race | G32: Subgroup | H32: Bullying Behaviors - Number of Bullying Incidents | Q32: Bullying Behaviors - Number of Cyber Bullying Incidents | AA32: Subgroup | AB32: Violent Behaviors | AE32: Substance Use Behaviors | AH32: Weapons Involved Behaviors | AJ32: Prohibited Behaviors | AK32: Disruptions of Class/School Activities | AL32: Threat Behaviors | AM32: Violations of School Rules | AN32: Attendance Related Behaviors (attendance code only) | AO32: Total Number of Students Who Were Suspended (all behaviors/ reasons) | AQ32: Subgroup | AR32: Violent Behaviors | AU32: Substance Use Behaviors | AX32: Weapons Involved Behaviors | AZ32: Prohibited Behaviors | BA32: Disruptions of Class/School Activities | BB32: Threat Behaviors | BC32: Violations of School Rules | BD32: Attendance Related Behaviors (attendance code only) | BE32: Total Number of Students who were expelled (all behaviors/ reasons)
H33: Reported Incidents | I33: Reported Students | J33: Incidents with discrimination Based on Race | K33: Determined to be Unsubstantiated Bullying Incidents | L33: Determined to be Substantiated Bullying Incidents | M33: Of Unsubstantiated How Many Students Were Suspended | N33: Of Subsantiated How Many Students Were Suspended | O33: Of Unsubstantiated How Many Students Were Expelled | P33: Of Substantiated How Many Students Were Expelled | Q33: Reported Incidents | R33: Reported Students | S33: Discrimination Based on Race | T33: Determined to be Unsubstantiated Bullying | U33: Determined to be Substantiated Bullying | V33: Of Unsubstantiated How Many Students Were Suspended | W33: Of Substantiated How Many Students Were Suspended | X33: Of Unsubstantiated How Many Students Were Expelled | Y33: Of Substantiated How Many Students Were Expelled | AB33: Violence to Other Students | AC33: Violence to School Staff | AD33: Sexual Assault | AE33: Distribution of Controlled Substances | AF33: Possession or Use of Controlled Substances | AG33: Possession or Use of Alcoholic Beverages | AH33: Possession of Non-Firearm Weapons | AI33: Possession of Firearms (Guns Free School Act) | AJ33: Code of Honor Violations | AR33: Violence to Other Students | AS33: Violence to School Staff | AT33: Sexual Assault | AU33: Distribution of Controlled Substances | AV33: Possession or Use of Controlled Substances | AW33: Possession or Use of Alcoholic Beverages | AX33: Possession of Weapons | AY33: Possession of Firearms (Guns Free School Act) | AZ33: Code of Honor Violations
D35: Total Q2 Enrollment | E35: =SUM(E36:E38) -> 0
D36: Male | G36: Male | AA36: Male | AQ36: Male | BG36: Male | BH36: 0 | BJ36: Male | BK36: =AO36 | BL36: =BE36
D37: Female | G37: Female | AA37: Female | AQ37: Female | BG37: Female | BH37: 0 | BJ37: Female | BK37: =AO37 | BL37: =BE37
D38: Gender Non-Conforming/ Trans/NB | G38: Gender Non-Conforming/ Trans/NB | AA38: Gender Non-Conforming/ Trans/NB | AQ38: Gender Non-Conforming/ Trans/NB | BG38: Gender Non-Conforming/ Trans/NB | BH38: 0 | BJ38: Gender Non-Conforming/ Trans/NB | BK38: =AO38 | BL38: =BE38
D39: American Indian | G39: American Indian | AA39: American Indian | AQ39: American Indian | BG39: American Indian | BH39: 0 | BJ39: American Indian | BK39: =AO39 | BL39: =BE39
D40: Asian | G40: Asian | AA40: Asian | AQ40: Asian | BG40: Asian | BH40: 0 | BJ40: Asian | BK40: =AO40 | BL40: =BE40
D41: Black | G41: Black | AA41: Black | AQ41: Black | BG41: Black | BH41: 0 | BJ41: Black | BK41: =AO41 | BL41: =BE41
D42: Hispanic/Latino | G42: Hispanic/Latino | AA42: Hispanic/Latino | AQ42: Hispanic/Latino | BG42: Hispanic/Latino | BH42: 0 | BJ42: Hispanic/Latino | BK42: =AO42 | BL42: =BE42
D43: Two or More | G43: Two or More | AA43: Two or More | AQ43: Two or More | BG43: Two or More | BH43: 0 | BJ43: Two or More | BK43: =AO43 | BL43: =BE43
D44: Pacific Islander | G44: Pacific Islander | AA44: Pacific Islander | AQ44: Pacific Islander | BG44: Pacific Islander | BH44: 0 | BJ44: Pacific Islander | BK44: =AO44 | BL44: =BE44
D45: White | G45: White | AA45: White | AQ45: White | BG45: White | BH45: 0 | BJ45: White | BK45: =AO45 | BL45: =BE45
D46: EL | G46: EL | AA46: EL | AQ46: EL | BG46: EL | BH46: 0 | BJ46: EL | BK46: =AO46 | BL46: =BE46
D47: Foster | G47: Foster | AA47: Foster | AQ47: Foster | BG47: Foster | BH47: 0 | BJ47: Foster | BK47: =AO47 | BL47: =BE47
... D52: Military | G52: Military | AA52: Military | AQ52: Military | BG52: Military | BH52: 0 | BJ52: Military | BK52: =AO52 | BL52: =BE52
C56: QUARTER 3 | D56: TOTAL STUDENT POPULATION NUMBERS (Q3) | G56: BULLYING AND CYBER BULLYING (Q3) | AA56: SUSPENSIONS (Q3) | AQ56: EXPULSIONS (Q3) | BG56: Subgroup | BH56: Total Number of Students Deemed Habitual Disciplinary Problems NRS 392.4655 (Q3) | BJ56: Subgroup | BK56: Total Number of Students Suspended (Q3) | BL56: Total Number of Students Expelled (Q3)
D57: Subgroup | E57: Student population by subgroup/race | G57: Subgroup | H57: Bullying Behaviors - Number of Bullying Incidents | Q57: Bullying Behaviors - Number of Cyber Bullying Incidents | AA57: Subgroup | AB57: Violent Behaviors | AE57: Substance Use Behaviors | AH57: Weapons Involved Behaviors | AJ57: Prohibited Behaviors | AK57: Disruptions of Class/School Activities | AL57: Threat Behaviors | AM57: Violations of School Rules | AN57: Attendance Related Behaviors (attendance code only) | AO57: Total Number of Students Who Were Suspended (all behaviors/ reasons) | AQ57: Subgroup | AR57: Violent Behaviors | AU57: Substance Use Behaviors | AX57: Weapons Involved Behaviors | AZ57: Prohibited Behaviors | BA57: Disruptions of Class/School Activities | BB57: Threat Behaviors | BC57: Violations of School Rules | BD57: Attendance Related Behaviors (attendance code only) | BE57: Total Number of Students who were expelled (all behaviors/ reasons)
H58: Reported Incidents | I58: Reported Students | J58: Incidents with discrimination Based on Race | K58: Determined to be Unsubstantiated Bullying Incidents | L58: Determined to be Substantiated Bullying Incidents | M58: Of Unsubstantiated How Many Students Were Suspended | N58: Of Subsantiated How Many Students Were Suspended | O58: Of Unsubstantiated How Many Students Were Expelled | P58: Of Substantiated How Many Students Were Expelled | Q58: Reported Incidents | R58: Reported Students | S58: Discrimination Based on Race | T58: Determined to be Unsubstantiated Bullying | U58: Determined to be Substantiated Bullying | V58: Of Unsubstantiated How Many Students Were Suspended | W58: Of Substantiated How Many Students Were Suspended | X58: Of Unsubstantiated How Many Students Were Expelled | Y58: Of Substantiated How Many Students Were Expelled | AB58: Violence to Other Students | AC58: Violence to School Staff | AD58: Sexual Assault | AE58: Distribution of Controlled Substances | AF58: Possession or Use of Controlled Substances | AG58: Possession or Use of Alcoholic Beverages | AH58: Possession of Non-Firearm Weapons | AI58: Possession of Firearms (Guns Free School Act) | AJ58: Code of Honor Violations | AR58: Violence to Other Students | AS58: Violence to School Staff | AT58: Sexual Assault | AU58: Distribution of Controlled Substances | AV58: Possession or Use of Controlled Substances | AW58: Possession or Use of Alcoholic Beverages | AX58: Possession of Weapons | AY58: Possession of Firearms (Guns Free School Act) | AZ58: Code of Honor Violations
D60: Total Q3 Enrollment | E60: =SUM(E61:E63) -> 0
D61: Male | G61: Male | AA61: Male | AQ61: Male | BG61: Male | BH61: 0 | BJ61: Male | BK61: =AO61 | BL61: =BE61
D62: Female | G62: Female | AA62: Female | AQ62: Female | BG62: Female | BH62: 0 | BJ62: Female | BK62: =AO62 | BL62: =BE62
D63: Gender Non-Conforming/ Trans/NB | G63: Gender Non-Conforming/ Trans/NB | AA63: Gender Non-Conforming/ Trans/NB | AQ63: Gender Non-Conforming/ Trans/NB | BG63: Gender Non-Conforming/ Trans/NB | BH63: 0 | BJ63: Gender Non-Conforming/ Trans/NB | BK63: =AO63 | BL63: =BE63
D64: American Indian | G64: American Indian | AA64: American Indian | AQ64: American Indian | BG64: American Indian | BH64: 0 | BJ64: American Indian | BK64: =AO64 | BL64: =BE64
D65: Asian | G65: Asian | AA65: Asian | AQ65: Asian | BG65: Asian | BH65: 0 | BJ65: Asian | BK65: =AO65 | BL65: =BE65
D66: Black | G66: Black | AA66: Black | AQ66: Black | BG66: Black | BH66: 0 | BJ66: Black | BK66: =AO66 | BL66: =BE66
D67: Hispanic/Latino | G67: Hispanic/Latino | AA67: Hispanic/Latino | AQ67: Hispanic/Latino | BG67: Hispanic/Latino | BH67: 0 | BJ67: Hispanic/Latino | BK67: =AO67 | BL67: =BE67
D68: Two or More | G68: Two or More | AA68: Two or More | AQ68: Two or More | BG68: Two or More | BH68: 0 | BJ68: Two or More | BK68: =AO68 | BL68: =BE68
D69: Pacific Islander | G69: Pacific Islander | AA69: Pacific Islander | AQ69: Pacific Islander | BG69: Pacific Islander | BH69: 0 | BJ69: Pacific Islander | BK69: =AO69 | BL69: =BE69
D70: White | G70: White | AA70: White | AQ70: White | BG70: White | BH70: 0 | BJ70: White | BK70: =AO70 | BL70: =BE70
D71: EL | G71: EL | AA71: EL | AQ71: EL | BG71: EL | BH71: 0 | BJ71: EL | BK71: =AO71 | BL71: =BE71
D72: Foster | G72: Foster | AA72: Foster | AQ72: Foster | BG72: Foster | BH72: 0 | BJ72: Foster | BK72: =AO72 | BL72: =BE72
... D77: Military | G77: Military | AA77: Military | AQ77: Military | BG77: Military | BH77: 0 | BJ77: Military | BK77: =AO77 | BL77: =BE77
C81: QUARTER 4 | D81: TOTAL STUDENT POPULATION NUMBERS (Q4) | G81: BULLYING AND CYBER BULLYING (Q4) | AA81: SUSPENSIONS (Q4) | AQ81: EXPULSIONS (Q4) | BG81: Subgroup | BH81: Total Number of Students Deemed Habitual Disciplinary Problems NRS 392.4655 (Q4) | BJ81: Subgroup | BK81: Total Number of Students Suspended (Q4) | BL81: Total Number of Students Expelled (Q4)
D82: Subgroup | E82: Student population by subgroup/race | G82: Subgroup | H82: Bullying Behaviors - Number of Bullying Incidents | Q82: Bullying Behaviors - Number of Cyber Bullying Incidents | AA82: Subgroup | AB82: Violent Behaviors | AE82: Substance Use Behaviors | AH82: Weapons Involved Behaviors | AJ82: Prohibited Behaviors | AK82: Disruptions of Class/School Activities | AL82: Threat Behaviors | AM82: Violations of School Rules | AN82: Attendance Related Behaviors (attendance code only) | AO82: Total Number of Students Who Were Suspended (all behaviors/ reasons) | AQ82: Subgroup | AR82: Violent Behaviors | AU82: Substance Use Behaviors | AX82: Weapons Involved Behaviors | AZ82: Prohibited Behaviors | BA82: Disruptions of Class/School Activities | BB82: Threat Behaviors | BC82: Violations of School Rules | BD82: Attendance Related Behaviors (attendance code only) | BE82: Total Number of Students who were expelled (all behaviors/ reasons)
H83: Reported Incidents | I83: Reported Students | J83: Incidents with discrimination Based on Race | K83: Determined to be Unsubstantiated Bullying Incidents | L83: Determined to be Substantiated Bullying Incidents | M83: Of Unsubstantiated How Many Students Were Suspended | N83: Of Subsantiated How Many Students Were Suspended | O83: Of Unsubstantiated How Many Students Were Expelled | P83: Of Substantiated How Many Students Were Expelled | Q83: Reported Incidents | R83: Reported Students | S83: Discrimination Based on Race | T83: Determined to be Unsubstantiated Bullying | U83: Determined to be Substantiated Bullying | V83: Of Unsubstantiated How Many Students Were Suspended | W83: Of Substantiated How Many Students Were Suspended | X83: Of Unsubstantiated How Many Students Were Expelled | Y83: Of Substantiated How Many Students Were Expelled | AB83: Violence to Other Students | AC83: Violence to School Staff | AD83: Sexual Assault | AE83: Distribution of Controlled Substances | AF83: Possession or Use of Controlled Substances | AG83: Possession or Use of Alcoholic Beverages | AH83: Possession of Non-Firearm Weapons | AI83: Possession of Firearms (Guns Free School Act) | AJ83: Code of Honor Violations | AR83: Violence to Other Students | AS83: Violence to School Staff | AT83: Sexual Assault | AU83: Distribution of Controlled Substances | AV83: Possession or Use of Controlled Substances | AW83: Possession or Use of Alcoholic Beverages | AX83: Possession of Weapons | AY83: Possession of Firearms (Guns Free School Act) | AZ83: Code of Honor Violations
D85: Total Q4 Enrollment | E85: =SUM(E86:E88) -> 0
D86: Male | G86: Male | AA86: Male | AQ86: Male | BG86: Male | BH86: 0 | BJ86: Male | BK86: =AO86 | BL86: =BE86
D87: Female | G87: Female | AA87: Female | AQ87: Female | BG87: Female | BH87: 0 | BJ87: Female | BK87: =AO87 | BL87: =BE87
D88: Gender Non-Conforming/ Trans/NB | G88: Gender Non-Conforming/ Trans/NB | AA88: Gender Non-Conforming/ Trans/NB | AQ88: Gender Non-Conforming/ Trans/NB | BG88: Gender Non-Conforming/ Trans/NB | BH88: 0 | BJ88: Gender Non-Conforming/ Trans/NB | BK88: =AO88 | BL88: =BE88
D89: American Indian | G89: American Indian | AA89: American Indian | AQ89: American Indian | BG89: American Indian | BH89: 0 | BJ89: American Indian | BK89: =AO89 | BL89: =BE89
D90: Asian | G90: Asian | AA90: Asian | AQ90: Asian | BG90: Asian | BH90: 0 | BJ90: Asian | BK90: =AO90 | BL90: =BE90
D91: Black | G91: Black | AA91: Black | AQ91: Black | BG91: Black | BH91: 0 | BJ91: Black | BK91: =AO91 | BL91: =BE91
D92: Hispanic/Latino | G92: Hispanic/Latino | AA92: Hispanic/Latino | AQ92: Hispanic/Latino | BG92: Hispanic/Latino | BH92: 0 | BJ92: Hispanic/Latino | BK92: =AO92 | BL92: =BE92
D93: Two or More | G93: Two or More | AA93: Two or More | AQ93: Two or More | BG93: Two or More | BH93: 0 | BJ93: Two or More | BK93: =AO93 | BL93: =BE93
D94: Pacific Islander | G94: Pacific Islander | AA94: Pacific Islander | AQ94: Pacific Islander | BG94: Pacific Islander | BH94: 0 | BJ94: Pacific Islander | BK94: =AO94 | BL94: =BE94
D95: White | G95: White | AA95: White | AQ95: White | BG95: White | BH95: 0 | BJ95: White | BK95: =AO95 | BL95: =BE95
D96: EL | G96: EL | AA96: EL | AQ96: EL | BG96: EL | BH96: 0 | BJ96: EL | BK96: =AO96 | BL96: =BE96
D97: Foster | G97: Foster | AA97: Foster | AQ97: Foster | BG97: Foster | BH97: 0 | BJ97: Foster | BK97: =AO97 | BL97: =BE97
... D102: Military | G102: Military | AA102: Military | AQ102: Military | BG102: Military | BH102: 0 | BJ102: Military | BK102: =AO102 | BL102: =BE102
C106: ANNUAL | D106: TOTAL STUDENT POPULATION NUMBERS | G106: TOTAL ANNUAL BULLYING AND CYBER BULLYING | AA106: TOTAL ANNUAL SUSPENSIONS | AQ106: ANNUAL TOTAL EXPULSIONS | BG106: Subgroup | BH106: Total Number of Students Deemed Habitual Disciplinary Problems NRS 392.4655 (Annual) | BJ106: Subgroup | BK106: Total Number of Students Suspended (Annual) | BL106: Total Number of Students Expelled (Annual)
D107: Subgroup | E107: Student population by subgroup/race | G107: Subgroup | H107: Bullying Behaviors - Number of Bullying Incidents | Q107: Bullying Behaviors - Number of Cyber Bullying Incidents | AA107: Subgroup | AB107: Violent Behaviors | AE107: Substance Use Behaviors | AH107: Weapons Involved Behaviors | AJ107: Prohibited Behaviors | AK107: Disruptions of Class/School Activities | AL107: Threat Behaviors | AM107: Violations of School Rules | AN107: Attendance Related Behaviors (attendance code only) | AO107: Total Number of Students Who Were Suspended (all behaviors/ reasons) | AQ107: Subgroup | AR107: Violent Behaviors | AU107: Substance Use Behaviors | AX107: Weapons Involved Behaviors | AZ107: Prohibited Behaviors | BA107: Disruptions of Class/School Activities | BB107: Threat Behaviors | BC107: Violations of School Rules | BD107: Attendance Related Behaviors (attendance code only) | BE107: Total Number of Students who were expelled (all behaviors/ reasons)
H108: Reported Incidents | I108: Reported Students | J108: Incidents with discrimination Based on Race | K108: Determined to be Unsubstantiated Bullying Incidents | L108: Determined to be Substantiated Bullying Incidents | M108: Of Unsubstantiated How Many Students Were Suspended | N108: Of Subsantiated How Many Students Were Suspended | O108: Of Unsubstantiated How Many Students Were Expelled | P108: Of Substantiated How Many Students Were Expelled | Q108: Reported Incidents | R108: Reported Students | S108: Discrimination Based on Race | T108: Determined to be Unsubstantiated Bullying | U108: Determined to be Substantiated Bullying | V108: Of Unsubstantiated How Many Students Were Suspended | W108: Of Substantiated How Many Students Were Suspended | X108: Of Unsubstantiated How Many Students Were Expelled | Y108: Of Substantiated How Many Students Were Expelled | AB108: Violence to Other Students | AC108: Violence to School Staff | AD108: Sexual Assault | AE108: Distribution of Controlled Substances | AF108: Possession or Use of Controlled Substances | AG108: Possession or Use of Alcoholic Beverages | AH108: Possession of Non-Firearm Weapons | AI108: Possession of Firearms (Guns Free School Act) | AJ108: Code of Honor Violations | AR108: Violence to Other Students | AS108: Violence to School Staff | AT108: Sexual Assault | AU108: Distribution of Controlled Substances | AV108: Possession or Use of Controlled Substances | AW108: Possession or Use of Alcoholic Beverages | AX108: Possession of Weapons | AY108: Possession of Firearms (Guns Free School Act) | AZ108: Code of Honor Violations
D110: Total Enrollment
D111: Male | G111: Male | AA111: Male | AQ111: Male | BG111: Male | BJ111: Male | BK111: =AO111 | BL111: =BE111
D112: Female | G112: Female | AA112: Female | AQ112: Female | BG112: Female | BJ112: Female | BK112: =AO112 | BL112: =BE112
D113: Gender Non-Conforming/ Trans/NB | G113: Gender Non-Conforming/ Trans/NB | AA113: Gender Non-Conforming/ Trans/NB | AQ113: Gender Non-Conforming/ Trans/NB | BG113: Gender Non-Conforming/ Trans/NB | BJ113: Gender Non-Conforming/ Trans/NB | BK113: =AO113 | BL113: =BE113
D114: American Indian | G114: American Indian | AA114: American Indian | AQ114: American Indian | BG114: American Indian | BJ114: American Indian | BK114: =AO114 | BL114: =BE114
D115: Asian | G115: Asian | AA115: Asian | AQ115: Asian | BG115: Asian | BJ115: Asian | BK115: =AO115 | BL115: =BE115
D116: Black | G116: Black | AA116: Black | AQ116: Black | BG116: Black | BJ116: Black | BK116: =AO116 | BL116: =BE116
D117: Hispanic/Latino | G117: Hispanic/Latino | AA117: Hispanic/Latino | AQ117: Hispanic/Latino | BG117: Hispanic/Latino | BJ117: Hispanic/Latino | BK117: =AO117 | BL117: =BE117
D118: Two or More | G118: Two or More | AA118: Two or More | AQ118: Two or More | BG118: Two or More | BJ118: Two or More | BK118: =AO118 | BL118: =BE118
D119: Pacific Islander | G119: Pacific Islander | AA119: Pacific Islander | AQ119: Pacific Islander | BG119: Pacific Islander | BJ119: Pacific Islander | BK119: =AO119 | BL119: =BE119
D120: White | G120: White | AA120: White | AQ120: White | BG120: White | BJ120: White | BK120: =AO120 | BL120: =BE120
D121: EL | G121: EL | AA121: EL | AQ121: EL | BG121: EL | BJ121: EL | BK121: =AO121 | BL121: =BE121
D122: Foster | G122: Foster | AA122: Foster | AQ122: Foster | BG122: Foster | BJ122: Foster | BK122: =AO122 | BL122: =BE122
... D127: Military | G127: Military | AA127: Military | AQ127: Military | BG127: Military | BJ127: Military | BK127: =AO127 | BL127: =BE127

Sheet MINOR Q1
A1: Instructions: | B1: Minor Disproportionate Discipline Tracking and Implementation - by race | K1: Instructions: | L1: Disproportionate Data Tracking and Implementation - by sub-population
A2: 1. Enrollment and Minor ODRs will autopopulate from the INPUT HERE sheet. Percentage, Risk Index, Risk Ratio, and deviations will auto populate and update graphs. | B2: Total School Enrollment | C2: =SUM(C4:I4) -> 0 | K2: 1. Input enrollment by sub-population (students can fall in more than one category - for example if a student is female with an IEP, add one to both female and IEP) >>>
C3: American Indian/ Alaskan Native | D3: Asian | E3: Black | F3: Hispanic/ Latino | G3: Two or More Races | H3: Pacific Islander | I3: White | J3: TOTAL | M3: EL | N3: Female | O3: Foster | P3: FRL | Q3: Gender Non-Conforming/ Trans/NB | R3: Homeless | S3: IEP | T3: Male | U3: MIG | V3: Military
B4: Student Enrollment by Race | C4: ='INPUT HERE'!E4 | D4: ='INPUT HERE'!F4 | E4: ='INPUT HERE'!G4 | F4: ='INPUT HERE'!H4 | G4: ='INPUT HERE'!I4 | H4: ='INPUT HERE'!J4 | I4: ='INPUT HERE'!K4 | J4: =SUM(C4:I4) -> 0 | L4: Student Enrollment by sub-population | M4: ='INPUT HERE'!P4 | N4: ='INPUT HERE'!Q4 | O4: ='INPUT HERE'!R4 | P4: ='INPUT HERE'!S4 | Q4: ='INPUT HERE'!T4 | R4: ='INPUT HERE'!U4 | S4: ='INPUT HERE'!V4 | T4: ='INPUT HERE'!W4 | ... V4: ='INPUT HERE'!Y4
J5: AVERAGE | W5: AVERAGE
B6: Minor ODR by Race (# of students with ODR) | C6: ='INPUT HERE'!E6 | D6: ='INPUT HERE'!F6 | E6: ='INPUT HERE'!G6 -> BULLYING AND CYBER BULLYING (Q1) | F6: ='INPUT HERE'!H6 | G6: ='INPUT HERE'!I6 | H6: ='INPUT HERE'!J6 | I6: ='INPUT HERE'!K6 | K6: 2. Input ODR by sub-population into blue cells, if a student has more than one ODR, input 1 | L6: Minor ODR by sub-population (# of students with ODR) | M6: ='INPUT HERE'!P6 | N6: ='INPUT HERE'!Q6 | O6: ='INPUT HERE'!R6 | P6: ='INPUT HERE'!S6 | Q6: ='INPUT HERE'!T6 | R6: ='INPUT HERE'!U6 | S6: ='INPUT HERE'!V6 | T6: ='INPUT HERE'!W6 | ... V6: ='INPUT HERE'!Y6
B7: Percentage of enrolled students with ODRs by race | C7: =IF(C6,C6/C4,0) -> 0 | D7: =IF(D6,D6/D4,0) -> 0 | E7: =IF(E6,E6/E4,0) -> #VALUE! | F7: =IF(F6,F6/F4,0) -> 0 | G7: =IF(G6,G6/G4,0) -> 0 | H7: =IF(H6,H6/H4,0) -> 0 | I7: =IF(I6,I6/I4,0) -> 0 | J7: =AVERAGE(C7:I7) -> #VALUE! | L7: Percentage of enrolled students with ODRs by sub population | M7: =IF(M4,M6/M4,0) -> 0 | N7: =IF(N4,N6/N4,0) -> 0 | O7: =IF(O4,O6/O4,0) -> 0 | P7: =IF(P4,P6/P4,0) -> 0 | Q7: =IF(Q4,Q6/Q4,0) -> 0 | R7: =IF(R4,R6/R4,0) -> 0 | S7: =IF(S4,S6/S4,0) -> 0 | T7: =IF(T4,T6/T4,0) -> 0 | ... V7: =IF(V4,V6/V4,0) -> 0 | W7: =AVERAGE(M7:V7) -> 0
B8: Risk Index for ODR | C8: =IF(C6,C6/C4,0) -> 0 | D8: =IF(D6,D6/D4,0) -> 0 | E8: =IF(E6,E6/E4,0) -> #VALUE! | F8: =IF(F6,F6/F4,0) -> 0 | G8: =IF(G6,G6/G4,0) -> 0 | H8: =IF(H6,H6/H4,0) -> 0 | I8: =IF(I6,I6/I4,0) -> 0 | J8: =AVERAGE(C8:I8) -> #VALUE! | L8: Risk Index for ODR | M8: =IF(M4,M6/M4,0) -> 0 | N8: =IF(N4,N6/N4,0) -> 0 | O8: =IF(O4,O6/O4,0) -> 0 | P8: =IF(P4,P6/P4,0) -> 0 | Q8: =IF(Q4,Q6/Q4,0) -> 0 | R8: =IF(R4,R6/R4,0) -> 0 | S8: =IF(S4,S6/S4,0) -> 0 | T8: =IF(T4,T6/T4,0) -> 0 | ... V8: =IF(V4,V6/V4,0) -> 0 | W8: =AVERAGE(M8:V8) -> 0
J9: AVERAGE | W9: AVERAGE
B10: Risk Ratio compared to all student | C10: =IF(C8,C8/J8,0) -> 0 | D10: =IF(D8,D8/J8,0) -> 0 | E10: =IF(E8,E8/J8,0) -> #VALUE! | F10: =IF(F8,F8/J8,0) -> 0 | G10: =IF(G8,G8/J8,0) -> 0 | H10: =IF(H8,H8/J8,0) -> 0 | I10: =IF(I8,I8/J8,0) -> 0 | J10: =AVERAGE(C10:I10) -> #VALUE! | K10: 3. Percentage, Risk Index, Risk Ratio, and deviations will auto populate | L10: Risk Ratio compared to all students | M10: =IF(M8,M8/W8,0) -> 0 | N10: =IF(N8,N8/W8,0) -> 0 | O10: =IF(O8,O8/W8,0) -> 0 | P10: =IF(P8,P8/W8,0) -> 0 | Q10: =IF(Q8,Q8/W8,0) -> 0 | R10: =IF(R8,R8/W8,0) -> 0 | S10: =IF(S8,S8/W8,0) -> 0 | T10: =IF(T8,T8/W8,0) -> 0 | U10: =IF(U8,U8/W8,0) -> 0 | V10: =IF(V8,V8/W8,0) -> 0 | W10: =AVERAGE(M10:V10) -> 0
B11: Deviation from average (1) | C11: =C10-$J$10 -> #VALUE! | D11: =D10-$J$10 -> #VALUE! | E11: =E10-$J$10 -> #VALUE! | F11: =F10-$J$10 -> #VALUE! | G11: =G10-$J$10 -> #VALUE! | H11: =H10-$J$10 -> #VALUE! | I11: =I10-$J$10 -> #VALUE! | L11: Deviation from average (1) | M11: =M10-$J$10 -> #VALUE! | N11: =N10-$J$10 -> #VALUE! | O11: =O10-$J$10 -> #VALUE! | P11: =P10-$J$10 -> #VALUE! | Q11: =Q10-$J$10 -> #VALUE! | R11: =R10-$J$10 -> #VALUE! | S11: =S10-$J$10 -> #VALUE! | T11: =T10-$J$10 -> #VALUE! | ... V11: =V10-$J$10 -> #VALUE!
B12: Risk Ratio compared to white students | C12: =IF(I8,C8/I8,0) -> 0 | D12: =IF(I8,D8/I8,0) -> 0 | E12: =IF(I8,E8/I8,0) -> 0 | F12: =IF(I8,F8/I8,0) -> 0 | G12: =IF(I8,G8/I8,0) -> 0 | H12: =IF(I8,H8/I8,0) -> 0 | J12: =AVERAGE(C12:I12) -> 0
A13: Definitions: | B13: Deviation from white students (1) | C13: =C12-J12 -> 0 | D13: =D12-J12 -> 0 | E13: =E12-J12 -> 0 | F13: =F12-J12 -> 0 | G13: =G12-J12 -> 0 | H13: =H12-J12 -> 0 | K13: Definitions:
A14: ODR- Office discipline referral | K14: ODR- Office discipline referral
A15: Risk Index- percentage of a group that receives an ODR | K15: Risk Index- percentage of a group that receives an ODR
A17: Risk Ratio- represents the likelihood of an ODR for one group in in relation to a comparison group | K17: Risk Ratio- represents the likelihood of an ODR for one group in in relation to a comparison group
A20: Risk index of target group / risk index of comparison group = risk ratio | K20: Risk index of target group / risk index of comparison group = risk ratio
A23: Notes: | K23: Notes:
A24: Risk Ratio - boxes highlighted in RED indicate a student group that has an above average chance of an ODR (compared to all students or compared to white students) | K24: Risk Ratio - boxes highlighted in RED indicate a student group that has an above average chance of an ODR (compared to all students)
A30: Risk Ratio Comparison Graphs - Negative (green) values indicate student population has a lower chance of an ODR than comparison group (either all students or white students) Positive (red) values indicate student population has a higher chance of an ODR than comparison group | K30: Risk Ratio Comparison Graphs - Negative (green) values indicate student population has a lower chance of an ODR than the comparison group of "all students". Positive (red) values indicate student population has a higher chance of an ODR than comparison group

Sheet MINOR Q2
A1: Instructions: | B1: Minor Disproportionate Discipline Tracking and Implementation - by race | K1: Instructions: | L1: Disproportionate Data Tracking and Implementation - by sub-population
A2: 1. Input total School Enrollment >> | B2: Total School Enrollment | C2: =SUM(C4:I4) -> 0 | K2: 1. Input enrollment by sub-population (students can fall in more than one category - for example if a student is female with an IEP, add one to both female and IEP) >>>
C3: American Indian/ Alaskan Native | D3: Asian | E3: Black | F3: Hispanic/ Latino | G3: Two or More Races | H3: Pacific Islander | I3: White | J3: TOTAL | M3: EL | N3: Female | O3: Foster | P3: FRL | Q3: Gender Non-Conforming/ Trans/NB | R3: Homeless | S3: IEP | T3: Male | U3: MIG | V3: Military
A4: 2. Input enrollment by race >> | B4: Student Enrollment by Race | C4: ='INPUT HERE'!E15 -> 0 | D4: ='INPUT HERE'!F15 | E4: ='INPUT HERE'!G15 -> Asian | F4: ='INPUT HERE'!H15 -> 0 | G4: ='INPUT HERE'!I15 -> 0 | H4: ='INPUT HERE'!J15 -> 0 | I4: ='INPUT HERE'!K15 -> 0 | J4: =SUM(C4:I4) -> 0 | L4: Student Enrollment by sub-population | M4: ='INPUT HERE'!P15 -> 0 | N4: ='INPUT HERE'!Q15 -> 0 | O4: ='INPUT HERE'!R15 -> 0 | P4: ='INPUT HERE'!S15 -> 0 | Q4: ='INPUT HERE'!T15 -> 0 | R4: ='INPUT HERE'!U15 -> 0 | S4: ='INPUT HERE'!V15 -> 0 | T4: ='INPUT HERE'!W15 -> 0 | ... V4: ='INPUT HERE'!Y15 -> 0
J5: AVERAGE | W5: AVERAGE
A6: 3. Input ODR by Race, if a student has more than one ODR, input 1 | B6: Minor ODR by Race (# of students with ODR) | C6: ='INPUT HERE'!E17 -> 40 | D6: ='INPUT HERE'!F17 | E6: ='INPUT HERE'!G17 -> Hispanic/Latino | F6: ='INPUT HERE'!H17 -> 0 | G6: ='INPUT HERE'!I17 -> 0 | H6: ='INPUT HERE'!J17 -> 0 | I6: ='INPUT HERE'!K17 -> 0 | K6: 2. Input ODR by sub-population into blue cells, if a student has more than one ODR, input 1 | L6: Minor ODR by sub-population (# of students with ODR) | M6: ='INPUT HERE'!P17 -> 0 | N6: ='INPUT HERE'!Q17 -> 0 | O6: ='INPUT HERE'!R17 -> 0 | P6: ='INPUT HERE'!S17 -> 0 | Q6: ='INPUT HERE'!T17 -> 0 | R6: ='INPUT HERE'!U17 -> 0 | S6: ='INPUT HERE'!V17 -> 0 | T6: ='INPUT HERE'!W17 -> 0 | ... V6: ='INPUT HERE'!Y17 -> 0
B7: Percentage of enrolled students with ODRs by race | C7: =IF(C6,C6/C4,0) -> #DIV/0! | D7: =IF(D6,D6/D4,0) -> 0 | E7: =IF(E6,E6/E4,0) -> #VALUE! | F7: =IF(F6,F6/F4,0) -> 0 | G7: =IF(G6,G6/G4,0) -> 0 | H7: =IF(H6,H6/H4,0) -> 0 | I7: =IF(I6,I6/I4,0) -> 0 | J7: =AVERAGE(C7:I7) -> #DIV/0! | L7: Percentage of enrolled students with ODRs by sub population | M7: =IF(M6,M6/M4,0) -> 0 | N7: =IF(N6,N6/N4,0) -> 0 | O7: =IF(O6,O6/O4,0) -> 0 | P7: =IF(P6,P6/P4,0) -> 0 | Q7: =IF(Q6,Q6/Q4,0) -> 0 | R7: =IF(R6,R6/R4,0) -> 0 | S7: =IF(S6,S6/S4,0) -> 0 | T7: =IF(T6,T6/T4,0) -> 0 | ... V7: =IF(V6,V6/V4,0) -> 0 | W7: =AVERAGE(M7:V7) -> 0
B8: Risk Index for ODR | C8: =IF(C6,C6/C4,0) -> #DIV/0! | D8: =IF(D6,D6/D4,0) -> 0 | E8: =IF(E6,E6/E4,0) -> #VALUE! | F8: =IF(F6,F6/F4,0) -> 0 | G8: =IF(G6,G6/G4,0) -> 0 | H8: =IF(H6,H6/H4,0) -> 0 | I8: =IF(I6,I6/I4,0) -> 0 | J8: =AVERAGE(C8:I8) -> #DIV/0! | L8: Risk Index for ODR | M8: =IF(M6,M6/M4,0) -> 0 | N8: =IF(N6,N6/N4,0) -> 0 | O8: =IF(O6,O6/O4,0) -> 0 | P8: =IF(P6,P6/P4,0) -> 0 | Q8: =IF(Q6,Q6/Q4,0) -> 0 | R8: =IF(R6,R6/R4,0) -> 0 | S8: =IF(S6,S6/S4,0) -> 0 | T8: =IF(T6,T6/T4,0) -> 0 | ... V8: =IF(V6,V6/V4,0) -> 0 | W8: =AVERAGE(M8:V8) -> 0
A9: 4. Percentage, Risk Index, Risk Ratio, and deviations will auto populate | J9: AVERAGE | W9: AVERAGE
B10: Risk Ratio compared to all student | C10: =IF(C8,C8/J8,0) -> #DIV/0! | D10: =IF(D8,D8/J8,0) -> 0 | E10: =IF(E8,E8/J8,0) -> #VALUE! | F10: =IF(F8,F8/J8,0) -> 0 | G10: =IF(G8,G8/J8,0) -> 0 | H10: =IF(H8,H8/J8,0) -> 0 | I10: =IF(I8,I8/J8,0) -> 0 | J10: =AVERAGE(C10:I10) -> #DIV/0! | K10: 3. Percentage, Risk Index, Risk Ratio, and deviations will auto populate | L10: Risk Ratio compared to all students | M10: =IF(M8,M8/W8,0) -> 0 | N10: =IF(N8,N8/W8,0) -> 0 | O10: =IF(O8,O8/W8,0) -> 0 | P10: =IF(P8,P8/W8,0) -> 0 | Q10: =IF(Q8,Q8/W8,0) -> 0 | R10: =IF(R8,R8/W8,0) -> 0 | S10: =IF(S8,S8/W8,0) -> 0 | T10: =IF(T8,T8/W8,0) -> 0 | U10: =IF(U8,U8/W8,0) -> 0 | V10: =IF(V8,V8/W8,0) -> 0 | W10: =AVERAGE(M10:V10) -> 0
B11: Deviation from average (1) | C11: =C10-$J$10 -> #DIV/0! | D11: =D10-$J$10 -> #DIV/0! | E11: =E10-$J$10 -> #VALUE! | F11: =F10-$J$10 -> #DIV/0! | G11: =G10-$J$10 -> #DIV/0! | H11: =H10-$J$10 -> #DIV/0! | I11: =I10-$J$10 -> #DIV/0! | L11: Deviation from average (1) | M11: =M10-$J$10 -> #DIV/0! | N11: =N10-$J$10 -> #DIV/0! | O11: =O10-$J$10 -> #DIV/0! | P11: =P10-$J$10 -> #DIV/0! | Q11: =Q10-$J$10 -> #DIV/0! | R11: =R10-$J$10 -> #DIV/0! | S11: =S10-$J$10 -> #DIV/0! | T11: =T10-$J$10 -> #DIV/0! | ... V11: =V10-$J$10 -> #DIV/0!
B12: Risk Ratio compared to white students | C12: =IF(C8,C8/I8,0) -> #DIV/0! | D12: =IF(D8,D8/I8,0) -> 0 | E12: =IF(E8,E8/I8,0) -> #VALUE! | F12: =IF(F8,F8/I8,0) -> 0 | G12: =IF(G8,G8/I8,0) -> 0 | H12: =IF(H8,H8/I8,0) -> 0 | J12: =AVERAGE(C12:I12) -> #DIV/0!
A13: Definitions: | B13: Deviation from white students (1) | C13: =C12-J12 -> #DIV/0! | D13: =D12-J12 -> #DIV/0! | E13: =E12-J12 -> #VALUE! | F13: =F12-J12 -> #DIV/0! | G13: =G12-J12 -> #DIV/0! | H13: =H12-J12 -> #DIV/0! | K13: Definitions:
A14: ODR- Office discipline referral | K14: ODR- Office discipline referral
A15: Risk Index- percentage of a group that receives an ODR | K15: Risk Index- percentage of a group that receives an ODR
A17: Risk Ratio- represents the likelihood of an ODR for one group in in relation to a comparison group | K17: Risk Ratio- represents the likelihood of an ODR for one group in in relation to a comparison group
A20: Risk index of target group / risk index of comparison group = risk ratio | K20: Risk index of target group / risk index of comparison group = risk ratio
A23: Notes: | K23: Notes:
A24: Risk Ratio - boxes highlighted in RED indicate a student group that has an above average chance of an ODR (compared to all students or compared to white students) | K24: Risk Ratio - boxes highlighted in RED indicate a student group that has an above average chance of an ODR (compared to all students)
A30: Risk Ratio Comparison Graphs - Negative (green) values indicate student population has a lower chance of an ODR than comparison group (either all students or white students) Positive (red) values indicate student population has a higher chance of an ODR than comparison group | K30: Risk Ratio Comparison Graphs - Negative (green) values indicate student population has a lower chance of an ODR than the comparison group of "all students". Positive (red) values indicate student population has a higher chance of an ODR than comparison group

Sheet MINOR Q3
A1: Instructions: | B1: Minor Disproportionate Discipline Tracking and Implementation - by race | K1: Instructions: | L1: Disproportionate Data Tracking and Implementation - by sub-population
A2: 1. Input total School Enrollment >> | B2: Total School Enrollment | C2: =SUM(C4:I4) -> 18 | K2: 1. Input enrollment by sub-population (students can fall in more than one category - for example if a student is female with an IEP, add one to both female and IEP) >>>
C3: American Indian/ Alaskan Native | D3: Asian | E3: Black | F3: Hispanic/ Latino | G3: Two or More Races | H3: Pacific Islander | I3: White | J3: TOTAL | M3: EL | N3: Female | O3: Foster | P3: FRL | Q3: Gender Non-Conforming/ Trans/NB | R3: Homeless | S3: IEP | T3: Male | U3: MIG | V3: Military
A4: 2. Input enrollment by race >> | B4: Student Enrollment by Race | C4: ='INPUT HERE'!E25 -> 18 | D4: ='INPUT HERE'!F25 | E4: ='INPUT HERE'!G25 -> IEP | F4: ='INPUT HERE'!H25 -> 0 | G4: ='INPUT HERE'!I25 -> 0 | H4: ='INPUT HERE'!J25 -> 0 | I4: ='INPUT HERE'!K25 -> 0 | J4: =SUM(C4:I4) -> 18 | L4: Student Enrollment by sub-population | M4: ='INPUT HERE'!P25 -> 0 | N4: ='INPUT HERE'!Q25 -> 0 | O4: ='INPUT HERE'!R25 -> 0 | P4: ='INPUT HERE'!S25 -> 0 | Q4: ='INPUT HERE'!T25 -> 0 | R4: ='INPUT HERE'!U25 -> 0 | S4: ='INPUT HERE'!V25 -> 0 | T4: ='INPUT HERE'!W25 -> 0 | ... V4: ='INPUT HERE'!Y25 -> 0
J5: AVERAGE | W5: AVERAGE
A6: 3. Input ODR by Race, if a student has more than one ODR, input 1 | B6: Minor ODR by Race (# of students with ODR) | C6: ='INPUT HERE'!E27 -> 2 | D6: ='INPUT HERE'!F27 | E6: ='INPUT HERE'!G27 -> Military | F6: ='INPUT HERE'!H27 -> 0 | G6: ='INPUT HERE'!I27 -> 0 | H6: ='INPUT HERE'!J27 -> 0 | I6: ='INPUT HERE'!K27 -> 0 | K6: 2. Input ODR by sub-population into blue cells, if a student has more than one ODR, input 1 | L6: Minor ODR by sub-population (# of students with ODR) | M6: ='INPUT HERE'!P27 -> 0 | N6: ='INPUT HERE'!Q27 -> 0 | O6: ='INPUT HERE'!R27 -> 0 | P6: ='INPUT HERE'!S27 -> 0 | Q6: ='INPUT HERE'!T27 -> 0 | R6: ='INPUT HERE'!U27 -> 0 | S6: ='INPUT HERE'!V27 -> 0 | T6: ='INPUT HERE'!W27 -> 0 | ... V6: ='INPUT HERE'!Y27 -> 0
B7: Percentage of enrolled students with ODRs by race | C7: =IF(C6,C6/C4,0) -> 0.11111111 | D7: =IF(D6,D6/D4,0) -> 0 | E7: =IF(E6,E6/E4,0) -> #VALUE! | F7: =IF(F6,F6/F4,0) -> 0 | G7: =IF(G6,G6/G4,0) -> 0 | H7: =IF(H6,H6/H4,0) -> 0 | I7: =IF(I6,I6/I4,0) -> 0 | J7: =AVERAGE(C7:I7) -> #VALUE! | L7: Percentage of enrolled students with ODRs by sub population | M7: =IF(M6,M6/M4,0) -> 0 | N7: =IF(N6,N6/N4,0) -> 0 | O7: =IF(O6,O6/O4,0) -> 0 | P7: =IF(P6,P6/P4,0) -> 0 | Q7: =IF(Q6,Q6/Q4,0) -> 0 | R7: =IF(R6,R6/R4,0) -> 0 | S7: =IF(S6,S6/S4,0) -> 0 | T7: =IF(T6,T6/T4,0) -> 0 | ... V7: =IF(V6,V6/V4,0) -> 0 | W7: =AVERAGE(M7:V7) -> 0
B8: Risk Index for ODR | C8: =IF(C6,C6/C4,0) -> 0.11111111 | D8: =IF(D6,D6/D4,0) -> 0 | E8: =IF(E6,E6/E4,0) -> #VALUE! | F8: =IF(F6,F6/F4,0) -> 0 | G8: =IF(G6,G6/G4,0) -> 0 | H8: =IF(H6,H6/H4,0) -> 0 | I8: =IF(I6,I6/I4,0) -> 0 | J8: =AVERAGE(C8:I8) -> #VALUE! | L8: Risk Index for ODR | M8: =IF(M6,M6/M4,0) -> 0 | N8: =IF(N6,N6/N4,0) -> 0 | O8: =IF(O6,O6/O4,0) -> 0 | P8: =IF(P6,P6/P4,0) -> 0 | Q8: =IF(Q6,Q6/Q4,0) -> 0 | R8: =IF(R6,R6/R4,0) -> 0 | S8: =IF(S6,S6/S4,0) -> 0 | T8: =IF(T6,T6/T4,0) -> 0 | ... V8: =IF(V6,V6/V4,0) -> 0 | W8: =AVERAGE(M8:V8) -> 0
A9: 4. Percentage, Risk Index, Risk Ratio, and deviations will auto populate | J9: AVERAGE | W9: AVERAGE
B10: Risk Ratio compared to all student | C10: =IF(C8,C8/J8,0) -> #VALUE! | D10: =IF(D8,D8/J8,0) -> 0 | E10: =IF(E8,E8/J8,0) -> #VALUE! | F10: =IF(F8,F8/J8,0) -> 0 | G10: =IF(G8,G8/J8,0) -> 0 | H10: =IF(H8,H8/J8,0) -> 0 | I10: =IF(I8,I8/J8,0) -> 0 | J10: =AVERAGE(C10:I10) -> #VALUE! | K10: 3. Percentage, Risk Index, Risk Ratio, and deviations will auto populate | L10: Risk Ratio compared to all students | M10: =IF(M8,M8/W8,0) -> 0 | N10: =IF(N8,N8/W8,0) -> 0 | O10: =IF(O8,O8/W8,0) -> 0 | P10: =IF(P8,P8/W8,0) -> 0 | Q10: =IF(Q8,Q8/W8,0) -> 0 | R10: =IF(R8,R8/W8,0) -> 0 | S10: =IF(S8,S8/W8,0) -> 0 | T10: =IF(T8,T8/W8,0) -> 0 | U10: =IF(U8,U8/W8,0) -> 0 | V10: =IF(V8,V8/W8,0) -> 0 | W10: =AVERAGE(M10:V10) -> 0
B11: Deviation from average (1) | C11: =C10-$J$10 -> #VALUE! | D11: =D10-$J$10 -> #VALUE! | E11: =E10-$J$10 -> #VALUE! | F11: =F10-$J$10 -> #VALUE! | G11: =G10-$J$10 -> #VALUE! | H11: =H10-$J$10 -> #VALUE! | I11: =I10-$J$10 -> #VALUE! | L11: Deviation from average (1) | M11: =M10-$J$10 -> #VALUE! | N11: =N10-$J$10 -> #VALUE! | O11: =O10-$J$10 -> #VALUE! | P11: =P10-$J$10 -> #VALUE! | Q11: =Q10-$J$10 -> #VALUE! | R11: =R10-$J$10 -> #VALUE! | S11: =S10-$J$10 -> #VALUE! | T11: =T10-$J$10 -> #VALUE! | ... V11: =V10-$J$10 -> #VALUE!
B12: Risk Ratio compared to white students | C12: =IF(C8,C8/I8,0) -> #DIV/0! | D12: =IF(D8,D8/I8,0) -> 0 | E12: =IF(E8,E8/I8,0) -> #VALUE! | F12: =IF(F8,F8/I8,0) -> 0 | G12: =IF(G8,G8/I8,0) -> 0 | H12: =IF(H8,H8/I8,0) -> 0 | J12: =AVERAGE(C12:I12) -> #DIV/0!
A13: Definitions: | B13: Deviation from white students (1) | C13: =C12-J12 -> #DIV/0! | D13: =D12-J12 -> #DIV/0! | E13: =E12-J12 -> #VALUE! | F13: =F12-J12 -> #DIV/0! | G13: =G12-J12 -> #DIV/0! | H13: =H12-J12 -> #DIV/0! | K13: Definitions:
A14: ODR- Office discipline referral | K14: ODR- Office discipline referral
A15: Risk Index- percentage of a group that receives an ODR | K15: Risk Index- percentage of a group that receives an ODR
A17: Risk Ratio- represents the likelihood of an ODR for one group in in relation to a comparison group | K17: Risk Ratio- represents the likelihood of an ODR for one group in in relation to a comparison group
A20: Risk index of target group / risk index of comparison group = risk ratio | K20: Risk index of target group / risk index of comparison group = risk ratio
A23: Notes: | K23: Notes:
A24: Risk Ratio - boxes highlighted in RED indicate a student group that has an above average chance of an ODR (compared to all students or compared to white students) | K24: Risk Ratio - boxes highlighted in RED indicate a student group that has an above average chance of an ODR (compared to all students)
A30: Risk Ratio Comparison Graphs - Negative (green) values indicate student population has a lower chance of an ODR than comparison group (either all students or white students) Positive (red) values indicate student population has a higher chance of an ODR than comparison group | K30: Risk Ratio Comparison Graphs - Negative (green) values indicate student population has a lower chance of an ODR than the comparison group of "all students". Positive (red) values indicate student population has a higher chance of an ODR than comparison group

Sheet MINOR Q4
A1: Instructions: | B1: Minor Disproportionate Discipline Tracking and Implementation - by race | K1: Instructions: | L1: Disproportionate Data Tracking and Implementation - by sub-population
A2: 1. Input total School Enrollment >> | B2: Total School Enrollment | C2: =SUM(C4:I4) -> 0 | K2: 1. Input enrollment by sub-population (students can fall in more than one category - for example if a student is female with an IEP, add one to both female and IEP) >>>
C3: American Indian/ Alaskan Native | D3: Asian | E3: Black | F3: Hispanic/ Latino | G3: Two or More Races | H3: Pacific Islander | I3: White | J3: TOTAL | M3: EL | N3: Female | O3: Foster | P3: FRL | Q3: Gender Non-Conforming/ Trans/NB | R3: Homeless | S3: IEP | T3: Male | U3: MIG | V3: Military
A4: 2. Input enrollment by race >> | B4: Student Enrollment by Race | C4: ='INPUT HERE'!E34 | D4: ='INPUT HERE'!F34 | E4: ='INPUT HERE'!G34 | F4: ='INPUT HERE'!H34 | G4: ='INPUT HERE'!I34 | H4: ='INPUT HERE'!J34 | I4: ='INPUT HERE'!K34 | J4: =SUM(C4:I4) -> 0 | L4: Student Enrollment by sub-population | M4: ='INPUT HERE'!P34 | N4: ='INPUT HERE'!Q34 | O4: ='INPUT HERE'!R34 | P4: ='INPUT HERE'!S34 | Q4: ='INPUT HERE'!T34 | R4: ='INPUT HERE'!U34 | S4: ='INPUT HERE'!V34 | T4: ='INPUT HERE'!W34 | ... V4: ='INPUT HERE'!Y34
J5: AVERAGE | W5: AVERAGE
A6: 3. Input ODR by Race, if a student has more than one ODR, input 1 | B6: Minor ODR by Race (# of students with ODR) | C6: ='INPUT HERE'!E37 | D6: ='INPUT HERE'!F37 | E6: ='INPUT HERE'!G37 -> Female | F6: ='INPUT HERE'!H37 | G6: ='INPUT HERE'!I37 | H6: ='INPUT HERE'!J37 | I6: ='INPUT HERE'!K37 | K6: 2. Input ODR by sub-population into blue cells, if a student has more than one ODR, input 1 | L6: Minor ODR by sub-population (# of students with ODR) | M6: ='INPUT HERE'!P37 | N6: ='INPUT HERE'!Q37 | O6: ='INPUT HERE'!R37 | P6: ='INPUT HERE'!S37 | Q6: ='INPUT HERE'!T37 | R6: ='INPUT HERE'!U37 | S6: ='INPUT HERE'!V37 | T6: ='INPUT HERE'!W37 | ... V6: ='INPUT HERE'!Y37
B7: Percentage of enrolled students with ODRs by race | C7: =IF(C6,C6/C4,0) -> 0 | D7: =IF(D6,D6/D4,0) -> 0 | E7: =IF(E6,E6/E4,0) -> #VALUE! | F7: =IF(F6,F6/F4,0) -> 0 | G7: =IF(G6,G6/G4,0) -> 0 | H7: =IF(H6,H6/H4,0) -> 0 | I7: =IF(I6,I6/I4,0) -> 0 | J7: =AVERAGE(C7:I7) -> #VALUE! | L7: Percentage of enrolled students with ODRs by sub population | M7: =IF(M6,M6/M4,0) -> 0 | N7: =IF(N6,N6/N4,0) -> 0 | O7: =IF(O6,O6/O4,0) -> 0 | P7: =IF(P6,P6/P4,0) -> 0 | Q7: =IF(Q6,Q6/Q4,0) -> 0 | R7: =IF(R6,R6/R4,0) -> 0 | S7: =IF(S6,S6/S4,0) -> 0 | T7: =IF(T6,T6/T4,0) -> 0 | ... V7: =IF(V6,V6/V4,0) -> 0 | W7: =AVERAGE(M7:V7) -> 0
B8: Risk Index for ODR | C8: =IF(C6,C6/C4,0) -> 0 | D8: =IF(D6,D6/D4,0) -> 0 | E8: =IF(E6,E6/E4,0) -> #VALUE! | F8: =IF(F6,F6/F4,0) -> 0 | G8: =IF(G6,G6/G4,0) -> 0 | H8: =IF(H6,H6/H4,0) -> 0 | I8: =IF(I6,I6/I4,0) -> 0 | J8: =AVERAGE(C8:I8) -> #VALUE! | L8: Risk Index for ODR | M8: =IF(M6,M6/M4,0) -> 0 | N8: =IF(N6,N6/N4,0) -> 0 | O8: =IF(O6,O6/O4,0) -> 0 | P8: =IF(P6,P6/P4,0) -> 0 | Q8: =IF(Q6,Q6/Q4,0) -> 0 | R8: =IF(R6,R6/R4,0) -> 0 | S8: =IF(S6,S6/S4,0) -> 0 | T8: =IF(T6,T6/T4,0) -> 0 | ... V8: =IF(V6,V6/V4,0) -> 0 | W8: =AVERAGE(M8:V8) -> 0
A9: 4. Percentage, Risk Index, Risk Ratio, and deviations will auto populate | J9: AVERAGE | W9: AVERAGE
B10: Risk Ratio compared to all student | C10: =IF(C8,C8/J8,0) -> 0 | D10: =IF(D8,D8/J8,0) -> 0 | E10: =IF(E8,E8/J8,0) -> #VALUE! | F10: =IF(F8,F8/J8,0) -> 0 | G10: =IF(G8,G8/J8,0) -> 0 | H10: =IF(H8,H8/J8,0) -> 0 | I10: =IF(I8,I8/J8,0) -> 0 | J10: =AVERAGE(C10:I10) -> #VALUE! | K10: 3. Percentage, Risk Index, Risk Ratio, and deviations will auto populate | L10: Risk Ratio compared to all students | M10: =IF(M8,M8/$W$8,0) -> 0 | N10: =IF(N8,N8/$W$8,0) -> 0 | O10: =IF(O8,O8/$W$8,0) -> 0 | P10: =IF(P8,P8/$W$8,0) -> 0 | Q10: =IF(Q8,Q8/$W$8,0) -> 0 | R10: =IF(R8,R8/$W$8,0) -> 0 | S10: =IF(S8,S8/$W$8,0) -> 0 | T10: =IF(T8,T8/$W$8,0) -> 0 | ... V10: =IF(V8,V8/$W$8,0) -> 0 | W10: =AVERAGE(M10:V10) -> 0
B11: Deviation from average (1) | C11: =C10-$J$10 -> #VALUE! | D11: =D10-$J$10 -> #VALUE! | E11: =E10-$J$10 -> #VALUE! | F11: =F10-$J$10 -> #VALUE! | G11: =G10-$J$10 -> #VALUE! | H11: =H10-$J$10 -> #VALUE! | I11: =I10-$J$10 -> #VALUE! | L11: Deviation from average (1) | M11: =M10-$J$10 -> #VALUE! | N11: =N10-$J$10 -> #VALUE! | O11: =O10-$J$10 -> #VALUE! | P11: =P10-$J$10 -> #VALUE! | Q11: =Q10-$J$10 -> #VALUE! | R11: =R10-$J$10 -> #VALUE! | S11: =S10-$J$10 -> #VALUE! | T11: =T10-$J$10 -> #VALUE! | ... V11: =V10-$J$10 -> #VALUE!
B12: Risk Ratio compared to white students | C12: =IF(C8,C8/$I$8,0) -> 0 | D12: =IF(D8,D8/$I$8,0) -> 0 | E12: =IF(E8,E8/$I$8,0) -> #VALUE! | F12: =IF(F8,F8/$I$8,0) -> 0 | G12: =IF(G8,G8/$I$8,0) -> 0 | H12: =IF(H8,H8/$I$8,0) -> 0 | J12: =AVERAGE(C12:I12) -> #VALUE!
A13: Definitions: | B13: Deviation from white students (1) | C13: =C12-J12 -> #VALUE! | D13: =D12-J12 -> #VALUE! | E13: =E12-J12 -> #VALUE! | F13: =F12-J12 -> #VALUE! | G13: =G12-J12 -> #VALUE! | H13: =H12-J12 -> #VALUE! | K13: Definitions:
A14: ODR- Office discipline referral | K14: ODR- Office discipline referral
A15: Risk Index- percentage of a group that receives an ODR | K15: Risk Index- percentage of a group that receives an ODR
A17: Risk Ratio- represents the likelihood of an ODR for one group in in relation to a comparison group | K17: Risk Ratio- represents the likelihood of an ODR for one group in in relation to a comparison group
A20: Risk index of target group / risk index of comparison group = risk ratio | K20: Risk index of target group / risk index of comparison group = risk ratio
A23: Notes: | K23: Notes:
A24: Risk Ratio - boxes highlighted in RED indicate a student group that has an above average chance of an ODR (compared to all students or compared to white students) | K24: Risk Ratio - boxes highlighted in RED indicate a student group that has an above average chance of an ODR (compared to all students)
A30: Risk Ratio Comparison Graphs - Negative (green) values indicate student population has a lower chance of an ODR than comparison group (either all students or white students) Positive (red) values indicate student population has a higher chance of an ODR than comparison group | K30: Risk Ratio Comparison Graphs - Negative (green) values indicate student population has a lower chance of an ODR than the comparison group of "all students". Positive (red) values indicate student population has a higher chance of an ODR than comparison group

Sheet MAJOR Q1
A1: Instructions: | B1: Major Disproportionate Discipline Tracking and Implementation - by race | K1: Instructions: | L1: Disproportionate Data Tracking and Implementation- by sub-population
A2: 1. Input total School Enrollment >> (note that 100 is hypothetical) | B2: Total School Enrollment | C2: =SUM(C4:I4) -> 0 | K2: 1. Input enrollment by sub-population (students can fall in more than one category - for example if a student is female with an IEP, add one to both female and IEP) >>>
C3: American Indian/ Alaskan Native | D3: Asian | E3: Black | F3: Hispanic/ Latino | G3: Two or More Races | H3: Pacific Islander | I3: White | J3: TOTAL | M3: EL | N3: Female | O3: Foster | P3: FRL | Q3: Gender Non-Conforming/ Trans/NB | R3: Homeless | S3: IEP | T3: Male | U3: MIG | V3: Military
A4: 2. Input enrollment by race >> | B4: Student Enrollment by Race | C4: ='INPUT HERE'!E4 | D4: ='INPUT HERE'!F4 | E4: ='INPUT HERE'!G4 | F4: ='INPUT HERE'!H4 | G4: ='INPUT HERE'!I4 | H4: ='INPUT HERE'!J4 | I4: ='INPUT HERE'!K4 | J4: =SUM(C4:I4) -> 0 | L4: Student Enrollment by sub-population | M4: ='INPUT HERE'!P4 | N4: ='INPUT HERE'!Q4 | O4: ='INPUT HERE'!R4 | P4: ='INPUT HERE'!S4 | Q4: ='INPUT HERE'!T4 | R4: ='INPUT HERE'!U4 | S4: ='INPUT HERE'!V4 | T4: ='INPUT HERE'!W4 | ... V4: ='INPUT HERE'!Y4
J5: AVERAGE | W5: AVERAGE
A6: 3. Input ODR by Race, if a student has more than one ODR, input 1 | B6: Major ODR by Race (# of students with ODR) | C6: ='INPUT HERE'!E7 -> Student population by subgroup/race | D6: ='INPUT HERE'!F8 | E6: ='INPUT HERE'!G8 | F6: ='INPUT HERE'!H8 -> Reported Incidents | G6: ='INPUT HERE'!I8 -> Reported Students | H6: ='INPUT HERE'!J8 -> Incidents with discrimination Based on Race | I6: ='INPUT HERE'!K8 -> Determined to be Unsubstantiated Bullying Incidents | K6: 2. Input ODR by sub-population into blue cells, if a student has more than one ODR, input 1 | L6: Major ODR by sub-population (# of students with ODR) | M6: ='INPUT HERE'!P8 -> Of Substantiated How Many Students Were Expelled | N6: ='INPUT HERE'!Q8 -> Reported Incidents | O6: ='INPUT HERE'!R8 -> Reported Students | P6: ='INPUT HERE'!S8 -> Discrimination Based on Race | Q6: ='INPUT HERE'!T8 -> Determined to be Unsubstantiated Bullying | R6: ='INPUT HERE'!U8 -> Determined to be Substantiated Bullying | S6: ='INPUT HERE'!V8 -> Of Unsubstantiated How Many Students Were Suspended | T6: ='INPUT HERE'!W8 -> Of Substantiated How Many Students Were Suspended | ... V6: ='INPUT HERE'!Y8 -> Of Substantiated How Many Students Were Expelled
B7: Percentage of enrolled students with ODRs by race | C7: =IF(C6,C6/C4,0) -> #VALUE! | D7: =IF(D6,D6/D4,0) -> 0 | E7: =IF(E6,E6/E4,0) -> 0 | F7: =IF(F6,F6/F4,0) -> #VALUE! | G7: =IF(G6,G6/G4,0) -> #VALUE! | H7: =IF(H6,H6/H4,0) -> #VALUE! | I7: =IF(I6,I6/I4,0) -> #VALUE! | J7: =AVERAGE(C7:I7) -> #VALUE! | L7: Percentage of enrolled students with ODRs by sub population | M7: =IF(M6,M6/M4,0) -> #VALUE! | N7: =IF(N6,N6/N4,0) -> #VALUE! | O7: =IF(O6,O6/O4,0) -> #VALUE! | P7: =IF(P6,P6/P4,0) -> #VALUE! | Q7: =IF(Q6,Q6/Q4,0) -> #VALUE! | R7: =IF(R6,R6/R4,0) -> #VALUE! | S7: =IF(S6,S6/S4,0) -> #VALUE! | T7: =IF(T6,T6/T4,0) -> #VALUE! | ... V7: =IF(V6,V6/V4,0) -> #VALUE! | W7: =AVERAGE(M7:V7) -> #VALUE!
B8: Risk Index for ODR | C8: =IF(C6,C6/C4,0) -> #VALUE! | D8: =IF(D6,D6/D4,0) -> 0 | E8: =IF(E6,E6/E4,0) -> 0 | F8: =IF(F6,F6/F4,0) -> #VALUE! | G8: =IF(G6,G6/G4,0) -> #VALUE! | H8: =IF(H6,H6/H4,0) -> #VALUE! | I8: =IF(I6,I6/I4,0) -> #VALUE! | J8: =AVERAGE(C8:I8) -> #VALUE! | L8: Risk Index for ODR | M8: =IF(M6,M6/M4,0) -> #VALUE! | N8: =IF(N6,N6/N4,0) -> #VALUE! | O8: =IF(O6,O6/O4,0) -> #VALUE! | P8: =IF(P6,P6/P4,0) -> #VALUE! | Q8: =IF(Q6,Q6/Q4,0) -> #VALUE! | R8: =IF(R6,R6/R4,0) -> #VALUE! | S8: =IF(S6,S6/S4,0) -> #VALUE! | T8: =IF(T6,T6/T4,0) -> #VALUE! | ... V8: =IF(V6,V6/V4,0) -> #VALUE! | W8: =AVERAGE(M8:V8) -> #VALUE!
A9: 4. Percentage, Risk Index, Risk Ratio, and deviations will auto populate | J9: AVERAGE | W9: AVERAGE
B10: Risk Ratio compared to all student | C10: =IF(C8,C8/$J$8,0) -> #VALUE! | D10: =IF(D8,D8/$J$8,0) -> 0 | E10: =IF(E8,E8/$J$8,0) -> 0 | F10: =IF(F8,F8/$J$8,0) -> #VALUE! | G10: =IF(G8,G8/$J$8,0) -> #VALUE! | H10: =IF(H8,H8/$J$8,0) -> #VALUE! | I10: =IF(I8,I8/$J$8,0) -> #VALUE! | J10: =AVERAGE(C10:I10) -> #VALUE! | K10: 3. Percentage, Risk Index, Risk Ratio, and deviations will auto populate | L10: Risk Ratio compared to all students | M10: =IF(M8,M8/$W$8,0) -> #VALUE! | N10: =IF(N8,N8/$W$8,0) -> #VALUE! | O10: =IF(O8,O8/$W$8,0) -> #VALUE! | P10: =IF(P8,P8/$W$8,0) -> #VALUE! | Q10: =IF(Q8,Q8/$W$8,0) -> #VALUE! | R10: =IF(R8,R8/$W$8,0) -> #VALUE! | S10: =IF(S8,S8/$W$8,0) -> #VALUE! | T10: =IF(T8,T8/$W$8,0) -> #VALUE! | ... V10: =IF(V8,V8/$W$8,0) -> #VALUE! | W10: =AVERAGE(M10:V10) -> #VALUE!
B11: Deviation from average (1) | C11: =C10-$J$10 -> #VALUE! | D11: =D10-$J$10 -> #VALUE! | E11: =E10-$J$10 -> #VALUE! | F11: =F10-$J$10 -> #VALUE! | G11: =G10-$J$10 -> #VALUE! | H11: =H10-$J$10 -> #VALUE! | I11: =I10-$J$10 -> #VALUE! | L11: Deviation from average (1) | M11: =M10-$J$10 -> #VALUE! | N11: =N10-$J$10 -> #VALUE! | O11: =O10-$J$10 -> #VALUE! | P11: =P10-$J$10 -> #VALUE! | Q11: =Q10-$J$10 -> #VALUE! | R11: =R10-$J$10 -> #VALUE! | S11: =S10-$J$10 -> #VALUE! | T11: =T10-$J$10 -> #VALUE! | ... V11: =V10-$J$10 -> #VALUE!
B12: Risk Ratio compared to white students | C12: =IF(C8,C8/$I$8,0) -> #VALUE! | D12: =IF(D8,D8/$I$8,0) -> 0 | E12: =IF(E8,E8/$I$8,0) -> 0 | F12: =IF(F8,F8/$I$8,0) -> #VALUE! | G12: =IF(G8,G8/$I$8,0) -> #VALUE! | H12: =IF(H8,H8/$I$8,0) -> #VALUE! | J12: =AVERAGE(C12:I12) -> #VALUE!
A13: Definitions: | B13: Deviation from white students (1) | C13: =C12-J12 -> #VALUE! | D13: =D12-J12 -> #VALUE! | E13: =E12-J12 -> #VALUE! | F13: =F12-J12 -> #VALUE! | G13: =G12-J12 -> #VALUE! | H13: =H12-J12 -> #VALUE! | K13: Definitions:
A14: ODR- Office discipline referral | K14: ODR- Office discipline referral
A15: Risk Index- percentage of a group that receives an ODR | K15: Risk Index- percentage of a group that receives an ODR
A17: Risk Ratio- represents the likelihood of an ODR for one group in in relation to a comparison group | K17: Risk Ratio- represents the likelihood of an ODR for one group in in relation to a comparison group
A20: Risk index of target group / risk index of comparison group = risk ratio | K20: Risk index of target group / risk index of comparison group = risk ratio
A23: Notes: | K23: Notes:
A24: Risk Ratio - boxes highlighted in RED indicate a student group that has an above average chance of an ODR (compared to all students or compared to white students) | K24: Risk Ratio - boxes highlighted in RED indicate a student group that has an above average chance of an ODR (compared to all students)
A30: Risk Ratio Comparison Graphs - Negative (green) values indicate student population has a lower chance of an ODR than comparison group (either all students or white students) Positive (red) values indicate student population has a higher chance of an ODR than comparison group | K30: Risk Ratio Comparison Graphs - Negative (green) values indicate student population has a lower chance of an ODR than the comparison group of "all students". Positive (red) values indicate student population has a higher chance of an ODR than comparison group

Sheet MAJOR Q2
A1: Instructions: | B1: Major Disproportionate Discipline Tracking and Implementation - by race | K1: Instructions: | L1: Disproportionate Data Tracking and Implementation - by sub-population
A2: 1. Input total School Enrollment >> | B2: Total School Enrollment | C2: =SUM(C4:I4) -> 0 | K2: 1. Input enrollment by sub-population (students can fall in more than one category - for example if a student is female with an IEP, add one to both female and IEP) >>>
C3: American Indian/ Alaskan Native | D3: Asian | E3: Black | F3: Hispanic/ Latino | G3: Two or More Races | H3: Pacific Islander | I3: White | J3: TOTAL | M3: EL | N3: Female | O3: Foster | P3: FRL | Q3: Gender Non-Conforming/ Trans/NB | R3: Homeless | S3: IEP | T3: Male | U3: MIG | V3: Military
A4: 2. Input enrollment by race >> | B4: Student Enrollment by Race | C4: ='INPUT HERE'!E15 -> 0 | D4: ='INPUT HERE'!F15 | E4: ='INPUT HERE'!G15 -> Asian | F4: ='INPUT HERE'!H15 -> 0 | G4: ='INPUT HERE'!I15 -> 0 | H4: ='INPUT HERE'!J15 -> 0 | I4: ='INPUT HERE'!K15 -> 0 | J4: =SUM(C4:I4) -> 0 | L4: Student Enrollment by sub-population | M4: ='INPUT HERE'!P15 -> 0 | N4: ='INPUT HERE'!Q15 -> 0 | O4: ='INPUT HERE'!R15 -> 0 | P4: ='INPUT HERE'!S15 -> 0 | Q4: ='INPUT HERE'!T15 -> 0 | R4: ='INPUT HERE'!U15 -> 0 | S4: ='INPUT HERE'!V15 -> 0 | T4: ='INPUT HERE'!W15 -> 0 | ... V4: ='INPUT HERE'!Y15 -> 0
J5: AVERAGE | W5: AVERAGE
A6: 3. Input ODR by Race, if a student has more than one ODR, input 1 | B6: Major ODR by Race (# of students with ODR) | C6: ='INPUT HERE'!E19 -> 0 | D6: ='INPUT HERE'!F19 | E6: ='INPUT HERE'!G19 -> Pacific Islander | F6: ='INPUT HERE'!H19 -> 0 | G6: ='INPUT HERE'!I19 -> 0 | H6: ='INPUT HERE'!J19 -> 0 | I6: ='INPUT HERE'!K19 -> 0 | K6: 2. Input ODR by sub-population into blue cells, if a student has more than one ODR, input 1 | L6: Major ODR by sub-population (# of students with ODR) | M6: ='INPUT HERE'!P19 -> 0 | N6: ='INPUT HERE'!Q19 -> 0 | O6: ='INPUT HERE'!R19 -> 0 | P6: ='INPUT HERE'!S19 -> 0 | Q6: ='INPUT HERE'!T19 -> 0 | R6: ='INPUT HERE'!U19 -> 0 | S6: ='INPUT HERE'!V19 -> 0 | T6: ='INPUT HERE'!W19 -> 0 | ... V6: ='INPUT HERE'!Y19 -> 0
B7: Percentage of enrolled students with ODRs by race | C7: =IF(C6,C6/C4,0) -> 0 | D7: =IF(D6,D6/D4,0) -> 0 | E7: =IF(E6,E6/E4,0) -> #VALUE! | F7: =IF(F6,F6/F4,0) -> 0 | G7: =IF(G6,G6/G4,0) -> 0 | H7: =IF(H6,H6/H4,0) -> 0 | I7: =IF(I6,I6/I4,0) -> 0 | J7: =AVERAGE(C7:I7) -> #VALUE! | L7: Percentage of enrolled students with ODRs by sub population | M7: =IF(M6,M6/M4,0) -> 0 | N7: =IF(N6,N6/N4,0) -> 0 | O7: =IF(O6,O6/O4,0) -> 0 | P7: =IF(P6,P6/P4,0) -> 0 | Q7: =IF(Q6,Q6/Q4,0) -> 0 | R7: =IF(R6,R6/R4,0) -> 0 | S7: =IF(S6,S6/S4,0) -> 0 | T7: =IF(T6,T6/T4,0) -> 0 | ... V7: =IF(V6,V6/V4,0) -> 0 | W7: =AVERAGE(M7:V7) -> 0
B8: Risk Index for ODR | C8: =IF(C6,C6/C4,0) -> 0 | D8: =IF(D6,D6/D4,0) -> 0 | E8: =IF(E6,E6/E4,0) -> #VALUE! | F8: =IF(F6,F6/F4,0) -> 0 | G8: =IF(G6,G6/G4,0) -> 0 | H8: =IF(H6,H6/H4,0) -> 0 | I8: =IF(I6,I6/I4,0) -> 0 | J8: =AVERAGE(C8:I8) -> #VALUE! | L8: Risk Index for ODR | M8: =IF(M6,M6/M4,0) -> 0 | N8: =IF(N6,N6/N4,0) -> 0 | O8: =IF(O6,O6/O4,0) -> 0 | P8: =IF(P6,P6/P4,0) -> 0 | Q8: =IF(Q6,Q6/Q4,0) -> 0 | R8: =IF(R6,R6/R4,0) -> 0 | S8: =IF(S6,S6/S4,0) -> 0 | T8: =IF(T6,T6/T4,0) -> 0 | ... V8: =IF(V6,V6/V4,0) -> 0 | W8: =AVERAGE(M8:V8) -> 0
A9: 4. Percentage, Risk Index, Risk Ratio, and deviations will auto populate | J9: AVERAGE | W9: AVERAGE
B10: Risk Ratio compared to all student | C10: =IF(C8,C8/$J$8,0) -> 0 | D10: =IF(D8,D8/$J$8,0) -> 0 | E10: =IF(E8,E8/$J$8,0) -> #VALUE! | F10: =IF(F8,F8/$J$8,0) -> 0 | G10: =IF(G8,G8/$J$8,0) -> 0 | H10: =IF(H8,H8/$J$8,0) -> 0 | I10: =IF(I8,I8/$J$8,0) -> 0 | J10: =AVERAGE(C10:I10) -> #VALUE! | K10: 3. Percentage, Risk Index, Risk Ratio, and deviations will auto populate | L10: Risk Ratio compared to all students | M10: =IF(M8,M8/$W$8,0) -> 0 | N10: =IF(N8,N8/$W$8,0) -> 0 | O10: =IF(O8,O8/$W$8,0) -> 0 | P10: =IF(P8,P8/$W$8,0) -> 0 | Q10: =IF(Q8,Q8/$W$8,0) -> 0 | R10: =IF(R8,R8/$W$8,0) -> 0 | S10: =IF(S8,S8/$W$8,0) -> 0 | T10: =IF(T8,T8/$W$8,0) -> 0 | ... V10: =IF(V8,V8/$W$8,0) -> 0 | W10: =AVERAGE(M10:V10) -> 0
B11: Deviation from average (1) | C11: =C10-$J$10 -> #VALUE! | D11: =D10-$J$10 -> #VALUE! | E11: =E10-$J$10 -> #VALUE! | F11: =F10-$J$10 -> #VALUE! | G11: =G10-$J$10 -> #VALUE! | H11: =H10-$J$10 -> #VALUE! | I11: =I10-$J$10 -> #VALUE! | L11: Deviation from average (1) | M11: =M10-$J$10 -> #VALUE! | N11: =N10-$J$10 -> #VALUE! | O11: =O10-$J$10 -> #VALUE! | P11: =P10-$J$10 -> #VALUE! | Q11: =Q10-$J$10 -> #VALUE! | R11: =R10-$J$10 -> #VALUE! | S11: =S10-$J$10 -> #VALUE! | T11: =T10-$J$10 -> #VALUE! | ... V11: =V10-$J$10 -> #VALUE!
B12: Risk Ratio compared to white students | C12: =IF(C8,C8/$I$8,0) -> 0 | D12: =IF(D8,D8/$I$8,0) -> 0 | E12: =IF(E8,E8/$I$8,0) -> #VALUE! | F12: =IF(F8,F8/$I$8,0) -> 0 | G12: =IF(G8,G8/$I$8,0) -> 0 | H12: =IF(H8,H8/$I$8,0) -> 0 | J12: =AVERAGE(C12:I12) -> #VALUE!
A13: Definitions: | B13: Deviation from white students (1) | C13: =C12-J12 -> #VALUE! | D13: =D12-J12 -> #VALUE! | E13: =E12-J12 -> #VALUE! | F13: =F12-J12 -> #VALUE! | G13: =G12-J12 -> #VALUE! | H13: =H12-J12 -> #VALUE! | K13: Definitions:
A14: ODR- Office discipline referral | K14: ODR- Office discipline referral
A15: Risk Index- percentage of a group that receives an ODR | K15: Risk Index- percentage of a group that receives an ODR
A17: Risk Ratio- represents the likelihood of an ODR for one group in in relation to a comparison group | K17: Risk Ratio- represents the likelihood of an ODR for one group in in relation to a comparison group
A20: Risk index of target group / risk index of comparison group = risk ratio | K20: Risk index of target group / risk index of comparison group = risk ratio
A23: Notes: | K23: Notes:
A24: Risk Ratio - boxes highlighted in RED indicate a student group that has an above average chance of an ODR (compared to all students or compared to white students) | K24: Risk Ratio - boxes highlighted in RED indicate a student group that has an above average chance of an ODR (compared to all students)
A30: Risk Ratio Comparison Graphs - Negative (green) values indicate student population has a lower chance of an ODR than comparison group (either all students or white students) Positive (red) values indicate student population has a higher chance of an ODR than comparison group | K30: Risk Ratio Comparison Graphs - Negative (green) values indicate student population has a lower chance of an ODR than the comparison group of "all students". Positive (red) values indicate student population has a higher chance of an ODR than comparison group

Sheet MAJOR Q3
A1: Instructions: | B1: Major Disproportionate Discipline Tracking and Implementation - by race | K1: Instructions: | L1: Disproportionate Data Tracking and Implementation - by sub-population
A2: 1. Input total School Enrollment >> | B2: Total School Enrollment | C2: =SUM(C4:I4) -> 18 | K2: 1. Input enrollment by sub-population (students can fall in more than one category - for example if a student is female with an IEP, add one to both female and IEP) >>>
C3: American Indian/ Alaskan Native | D3: Asian | E3: Black | F3: Hispanic/ Latino | G3: Two or More Races | H3: Pacific Islander | I3: White | J3: TOTAL | M3: EL | N3: Female | O3: Foster | P3: FRL | Q3: Gender Non-Conforming/ Trans/NB | R3: Homeless | S3: IEP | T3: Male | U3: MIG | V3: Military
A4: 2. Input enrollment by race >> | B4: Student Enrollment by Race | C4: ='INPUT HERE'!E25 -> 18 | D4: ='INPUT HERE'!F25 | E4: ='INPUT HERE'!G25 -> IEP | F4: ='INPUT HERE'!H25 -> 0 | G4: ='INPUT HERE'!I25 -> 0 | H4: ='INPUT HERE'!J25 -> 0 | I4: ='INPUT HERE'!K25 -> 0 | J4: =SUM(C4:I4) -> 18 | L4: Student Enrollment by sub-population | M4: ='INPUT HERE'!P25 -> 0 | N4: ='INPUT HERE'!Q25 -> 0 | O4: ='INPUT HERE'!R25 -> 0 | P4: ='INPUT HERE'!S25 -> 0 | Q4: ='INPUT HERE'!T25 -> 0 | R4: ='INPUT HERE'!U25 -> 0 | S4: ='INPUT HERE'!V25 -> 0 | T4: ='INPUT HERE'!W25 -> 0 | ... V4: ='INPUT HERE'!Y25 -> 0
J5: AVERAGE | W5: AVERAGE
A6: 3. Input ODR by Race, if a student has more than one ODR, input 1 | B6: Major ODR by Race (# of students with ODR) | C6: ='INPUT HERE'!E29 | D6: ='INPUT HERE'!F29 | E6: ='INPUT HERE'!G29 | F6: ='INPUT HERE'!H29 | G6: ='INPUT HERE'!I29 | H6: ='INPUT HERE'!J29 | I6: ='INPUT HERE'!K29 | K6: 2. Input ODR by sub-population into blue cells, if a student has more than one ODR, input 1 | L6: Major ODR by sub-population (# of students with ODR) | M6: ='INPUT HERE'!P29 | N6: ='INPUT HERE'!Q29 | O6: ='INPUT HERE'!R29 | P6: ='INPUT HERE'!S29 | Q6: ='INPUT HERE'!T29 | R6: ='INPUT HERE'!U29 | S6: ='INPUT HERE'!V29 | T6: ='INPUT HERE'!W29 | ... V6: ='INPUT HERE'!Y29
B7: Percentage of enrolled students with ODRs by race | C7: =IF(C6,C6/C4,0) -> 0 | D7: =IF(D6,D6/D4,0) -> 0 | E7: =IF(E6,E6/E4,0) -> 0 | F7: =IF(F6,F6/F4,0) -> 0 | G7: =IF(G6,G6/G4,0) -> 0 | H7: =IF(H6,H6/H4,0) -> 0 | I7: =IF(I6,I6/I4,0) -> 0 | J7: =AVERAGE(C7:I7) -> 0 | L7: Percentage of enrolled students with ODRs by sub population | M7: =IF(M6,M6/M4,0) -> 0 | N7: =IF(N6,N6/N4,0) -> 0 | O7: =IF(O6,O6/O4,0) -> 0 | P7: =IF(P6,P6/P4,0) -> 0 | Q7: =IF(Q6,Q6/Q4,0) -> 0 | R7: =IF(R6,R6/R4,0) -> 0 | S7: =IF(S6,S6/S4,0) -> 0 | T7: =IF(T6,T6/T4,0) -> 0 | ... V7: =IF(V6,V6/V4,0) -> 0 | W7: =AVERAGE(M7:V7) -> 0
B8: Risk Index for ODR | C8: =IF(C6,C6/C4,0) -> 0 | D8: =IF(D6,D6/D4,0) -> 0 | E8: =IF(E6,E6/E4,0) -> 0 | F8: =IF(F6,F6/F4,0) -> 0 | G8: =IF(G6,G6/G4,0) -> 0 | H8: =IF(H6,H6/H4,0) -> 0 | I8: =IF(I6,I6/I4,0) -> 0 | J8: =AVERAGE(C8:I8) -> 0 | L8: Risk Index for ODR | M8: =IF(M6,M6/M4,0) -> 0 | N8: =IF(N6,N6/N4,0) -> 0 | O8: =IF(O6,O6/O4,0) -> 0 | P8: =IF(P6,P6/P4,0) -> 0 | Q8: =IF(Q6,Q6/Q4,0) -> 0 | R8: =IF(R6,R6/R4,0) -> 0 | S8: =IF(S6,S6/S4,0) -> 0 | T8: =IF(T6,T6/T4,0) -> 0 | ... V8: =IF(V6,V6/V4,0) -> 0 | W8: =AVERAGE(M8:V8) -> 0
A9: 4. Percentage, Risk Index, Risk Ratio, and deviations will auto populate | J9: AVERAGE | W9: AVERAGE
B10: Risk Ratio compared to all student | C10: =IF(C8,C8/$J$8,0) -> 0 | D10: =IF(D8,D8/$J$8,0) -> 0 | E10: =IF(E8,E8/$J$8,0) -> 0 | F10: =IF(F8,F8/$J$8,0) -> 0 | G10: =IF(G8,G8/$J$8,0) -> 0 | H10: =IF(H8,H8/$J$8,0) -> 0 | I10: =IF(I8,I8/$J$8,0) -> 0 | J10: =AVERAGE(C10:I10) -> 0 | K10: 3. Percentage, Risk Index, Risk Ratio, and deviations will auto populate | L10: Risk Ratio compared to all students | M10: =IF(M8,M8/$W$8,0) -> 0 | N10: =IF(N8,N8/$W$8,0) -> 0 | O10: =IF(O8,O8/$W$8,0) -> 0 | P10: =IF(P8,P8/$W$8,0) -> 0 | Q10: =IF(Q8,Q8/$W$8,0) -> 0 | R10: =IF(R8,R8/$W$8,0) -> 0 | S10: =IF(S8,S8/$W$8,0) -> 0 | T10: =IF(T8,T8/$W$8,0) -> 0 | ... V10: =IF(V8,V8/$W$8,0) -> 0 | W10: =AVERAGE(M10:V10) -> 0
B11: Deviation from average (1) | C11: =C10-$J$10 -> 0 | D11: =D10-$J$10 -> 0 | E11: =E10-$J$10 -> 0 | F11: =F10-$J$10 -> 0 | G11: =G10-$J$10 -> 0 | H11: =H10-$J$10 -> 0 | I11: =I10-$J$10 -> 0 | L11: Deviation from average (1) | M11: =M10-$J$10 -> 0 | N11: =N10-$J$10 -> 0 | O11: =O10-$J$10 -> 0 | P11: =P10-$J$10 -> 0 | Q11: =Q10-$J$10 -> 0 | R11: =R10-$J$10 -> 0 | S11: =S10-$J$10 -> 0 | T11: =T10-$J$10 -> 0 | ... V11: =V10-$J$10 -> 0
B12: Risk Ratio compared to white students | C12: =IF(C8,C8/$I$8,0) -> 0 | D12: =IF(D8,D8/$I$8,0) -> 0 | E12: =IF(E8,E8/$I$8,0) -> 0 | F12: =IF(F8,F8/$I$8,0) -> 0 | G12: =IF(G8,G8/$I$8,0) -> 0 | H12: =IF(H8,H8/$I$8,0) -> 0 | J12: =AVERAGE(C12:I12) -> 0
A13: Definitions: | B13: Deviation from white students (1) | C13: =C12-J12 -> 0 | D13: =D12-J12 -> 0 | E13: =E12-J12 -> 0 | F13: =F12-J12 -> 0 | G13: =G12-J12 -> 0 | H13: =H12-J12 -> 0 | K13: Definitions:
A14: ODR- Office discipline referral | K14: ODR- Office discipline referral
A15: Risk Index- percentage of a group that receives an ODR | K15: Risk Index- percentage of a group that receives an ODR
A17: Risk Ratio- represents the likelihood of an ODR for one group in in relation to a comparison group | K17: Risk Ratio- represents the likelihood of an ODR for one group in in relation to a comparison group
A20: Risk index of target group / risk index of comparison group = risk ratio | K20: Risk index of target group / risk index of comparison group = risk ratio
A23: Notes: | K23: Notes:
A24: Risk Ratio - boxes highlighted in RED indicate a student group that has an above average chance of an ODR (compared to all students or compared to white students) | K24: Risk Ratio - boxes highlighted in RED indicate a student group that has an above average chance of an ODR (compared to all students)
A30: Risk Ratio Comparison Graphs - Negative (green) values indicate student population has a lower chance of an ODR than comparison group (either all students or white students) Positive (red) values indicate student population has a higher chance of an ODR than comparison group | K30: Risk Ratio Comparison Graphs - Negative (green) values indicate student population has a lower chance of an ODR than the comparison group of "all students". Positive (red) values indicate student population has a higher chance of an ODR than comparison group

Sheet MAJOR Q4
A1: Instructions: | B1: Major Disproportionate Discipline Tracking and Implementation- by race | K1: Instructions: | L1: Disproportionate Data Tracking and Implementation - by sub-population
A2: 1. Input total School Enrollment >> | B2: Total School Enrollment | C2: =SUM(C4:I4) -> 0 | K2: 1. Input enrollment by sub-population (students can fall in more than one category - for example if a student is female with an IEP, add one to both female and IEP) >>>
C3: American Indian/ Alaskan Native | D3: Asian | E3: Black | F3: Hispanic/ Latino | G3: Two or More Races | H3: Pacific Islander | I3: White | J3: TOTAL | M3: EL | N3: Female | O3: Foster | P3: FRL | Q3: Gender Non-Conforming/ Trans/NB | R3: Homeless | S3: IEP | T3: Male | U3: MIG | V3: Military
A4: 2. Input enrollment by race >> | B4: Student Enrollment by Race | C4: ='INPUT HERE'!E34 | D4: ='INPUT HERE'!F34 | E4: ='INPUT HERE'!G34 | F4: ='INPUT HERE'!H34 | G4: ='INPUT HERE'!I34 | H4: ='INPUT HERE'!J34 | I4: ='INPUT HERE'!K34 | J4: =SUM(C4:I4) -> 0 | L4: Student Enrollment by sub-population | M4: ='INPUT HERE'!P34 | N4: ='INPUT HERE'!Q34 | O4: ='INPUT HERE'!R34 | P4: ='INPUT HERE'!S34 | Q4: ='INPUT HERE'!T34 | R4: ='INPUT HERE'!U34 | S4: ='INPUT HERE'!V34 | T4: ='INPUT HERE'!W34 | ... V4: ='INPUT HERE'!Y34
J5: AVERAGE | W5: AVERAGE
A6: 3. Input ODR by Race, if a student has more than one ODR, input 1 | B6: Major ODR by Race (# of students with ODR) | C6: ='INPUT HERE'!E39 | D6: ='INPUT HERE'!F39 | E6: ='INPUT HERE'!G39 -> American Indian | F6: ='INPUT HERE'!H39 | G6: ='INPUT HERE'!I39 | H6: ='INPUT HERE'!J39 | I6: ='INPUT HERE'!K39 | K6: 2. Input ODR by sub-population into blue cells, if a student has more than one ODR, input 1 | L6: Major ODR by sub-population (# of students with ODR) | M6: ='INPUT HERE'!P39 | N6: ='INPUT HERE'!Q39 | O6: ='INPUT HERE'!R39 | P6: ='INPUT HERE'!S39 | Q6: ='INPUT HERE'!T39 | R6: ='INPUT HERE'!U39 | S6: ='INPUT HERE'!V39 | T6: ='INPUT HERE'!W39 | ... V6: ='INPUT HERE'!Y39
B7: Percentage of enrolled students with ODRs by race | C7: =IF(C6,C6/C4,0) -> 0 | D7: =IF(D6,D6/D4,0) -> 0 | E7: =IF(E6,E6/E4,0) -> #VALUE! | F7: =IF(F6,F6/F4,0) -> 0 | G7: =IF(G6,G6/G4,0) -> 0 | H7: =IF(H6,H6/H4,0) -> 0 | I7: =IF(I6,I6/I4,0) -> 0 | J7: =AVERAGE(C7:I7) -> #VALUE! | L7: Percentage of enrolled students with ODRs by sub population | M7: =IF(M6,M6/M4,0) -> 0 | N7: =IF(N6,N6/N4,0) -> 0 | O7: =IF(O6,O6/O4,0) -> 0 | P7: =IF(P6,P6/P4,0) -> 0 | Q7: =IF(Q6,Q6/Q4,0) -> 0 | R7: =IF(R6,R6/R4,0) -> 0 | S7: =IF(S6,S6/S4,0) -> 0 | T7: =IF(T6,T6/T4,0) -> 0 | ... V7: =IF(V6,V6/V4,0) -> 0 | W7: =AVERAGE(M7:V7) -> 0
B8: Risk Index for ODR | C8: =IF(C6,C6/C4,0) -> 0 | D8: =IF(D6,D6/D4,0) -> 0 | E8: =IF(E6,E6/E4,0) -> #VALUE! | F8: =IF(F6,F6/F4,0) -> 0 | G8: =IF(G6,G6/G4,0) -> 0 | H8: =IF(H6,H6/H4,0) -> 0 | I8: =IF(I6,I6/I4,0) -> 0 | J8: =AVERAGE(C8:I8) -> #VALUE! | L8: Risk Index for ODR | M8: =IF(M6,M6/M4,0) -> 0 | N8: =IF(N6,N6/N4,0) -> 0 | O8: =IF(O6,O6/O4,0) -> 0 | P8: =IF(P6,P6/P4,0) -> 0 | Q8: =IF(Q6,Q6/Q4,0) -> 0 | R8: =IF(R6,R6/R4,0) -> 0 | S8: =IF(S6,S6/S4,0) -> 0 | T8: =IF(T6,T6/T4,0) -> 0 | ... V8: =IF(V6,V6/V4,0) -> 0 | W8: =AVERAGE(M8:V8) -> 0
A9: 4. Percentage, Risk Index, Risk Ratio, and deviations will auto populate | J9: AVERAGE | W9: AVERAGE
B10: Risk Ratio compared to all student | C10: =IF(C8,C8/$J$8,0) -> 0 | D10: =IF(D8,D8/$J$8,0) -> 0 | E10: =IF(E8,E8/$J$8,0) -> #VALUE! | F10: =IF(F8,F8/$J$8,0) -> 0 | G10: =IF(G8,G8/$J$8,0) -> 0 | H10: =IF(H8,H8/$J$8,0) -> 0 | I10: =IF(I8,I8/$J$8,0) -> 0 | J10: =AVERAGE(C10:I10) -> #VALUE! | K10: 3. Percentage, Risk Index, Risk Ratio, and deviations will auto populate | L10: Risk Ratio compared to all students | M10: =IF(M8,M8/$W$8,0) -> 0 | N10: =IF(N8,N8/$W$8,0) -> 0 | O10: =IF(O8,O8/$W$8,0) -> 0 | P10: =IF(P8,P8/$W$8,0) -> 0 | Q10: =IF(Q8,Q8/$W$8,0) -> 0 | R10: =IF(R8,R8/$W$8,0) -> 0 | S10: =IF(S8,S8/$W$8,0) -> 0 | T10: =IF(T8,T8/$W$8,0) -> 0 | ... V10: =IF(V8,V8/$W$8,0) -> 0 | W10: =AVERAGE(M10:V10) -> 0
B11: Deviation from average (1) | C11: =C10-$J$10 -> #VALUE! | D11: =D10-$J$10 -> #VALUE! | E11: =E10-$J$10 -> #VALUE! | F11: =F10-$J$10 -> #VALUE! | G11: =G10-$J$10 -> #VALUE! | H11: =H10-$J$10 -> #VALUE! | I11: =I10-$J$10 -> #VALUE! | L11: Deviation from average (1) | M11: =M10-$J$10 -> #VALUE! | N11: =N10-$J$10 -> #VALUE! | O11: =O10-$J$10 -> #VALUE! | P11: =P10-$J$10 -> #VALUE! | Q11: =Q10-$J$10 -> #VALUE! | R11: =R10-$J$10 -> #VALUE! | S11: =S10-$J$10 -> #VALUE! | T11: =T10-$J$10 -> #VALUE! | ... V11: =V10-$J$10 -> #VALUE!
B12: Risk Ratio compared to white students | C12: =IF(C8,C8/$I$8,0) -> 0 | D12: =IF(D8,D8/$I$8,0) -> 0 | E12: =IF(E8,E8/$I$8,0) -> #VALUE! | F12: =IF(F8,F8/$I$8,0) -> 0 | G12: =IF(G8,G8/$I$8,0) -> 0 | H12: =IF(H8,H8/$I$8,0) -> 0 | J12: =AVERAGE(C12:I12) -> #VALUE!
A13: Definitions: | B13: Deviation from white students (1) | C13: =C12-J12 -> #VALUE! | D13: =D12-J12 -> #VALUE! | E13: =E12-J12 -> #VALUE! | F13: =F12-J12 -> #VALUE! | G13: =G12-J12 -> #VALUE! | H13: =H12-J12 -> #VALUE! | K13: Definitions:
A14: ODR- Office discipline referral | K14: ODR- Office discipline referral
A15: Risk Index- percentage of a group that receives an ODR | K15: Risk Index- percentage of a group that receives an ODR
A17: Risk Ratio- represents the likelihood of an ODR for one group in in relation to a comparison group | K17: Risk Ratio- represents the likelihood of an ODR for one group in in relation to a comparison group
A20: Risk index of target group / risk index of comparison group = risk ratio | K20: Risk index of target group / risk index of comparison group = risk ratio
A23: Notes: | K23: Notes:
A24: Risk Ratio - boxes highlighted in RED indicate a student group that has an above average chance of an ODR (compared to all students or compared to white students) | K24: Risk Ratio - boxes highlighted in RED indicate a student group that has an above average chance of an ODR (compared to all students)
A30: Risk Ratio Comparison Graphs - Negative (green) values indicate student population has a lower chance of an ODR than comparison group (either all students or white students) Positive (red) values indicate student population has a higher chance of an ODR than comparison group | K30: Risk Ratio Comparison Graphs - Negative (green) values indicate student population has a lower chance of an ODR than the comparison group of "all students". Positive (red) values indicate student population has a higher chance of an ODR than comparison group

Sheet Q1 SUSPENSION AND EXPULSION 
A1: Instructions: This sheet will auto populate as you fill in information on the 'Discipline Data Input' sheet. Note that some cells will say #DIV/0. If this happens, it means there is not a value in place to divide by, for example we cannot compare the risk ratio to white students if no white students have been suspended or expelled. Definitions: Risk Index - percentage of a group that receives a suspension or expulsion. Risk Ratio - represents the likelihood of a suspension or expulsion for one group in relation to a comparison group. Risk index of target group / risk index of comparison group = risk ratio. Notes: Risk Ratio - boxes highlighted in RED indicate a student group that has an above average chance of a suspension or expulsion (compared to all students or compared to white students). Risk Ratio Comparison Graphs - Negative values indicate student population has a lower chance of a suspension or expulsion than comparison group (either all students or white students). Positive values indicate student population has a higher chance of a suspension or expulsion than comparison group. | B1: Q1 Suspension and Expulsion: Disproportionate Discipline Tracking - Race | L1: Q1 Suspension and Expulsion: Disproportionate Data Tracking - By Sub-population
B2: Total School Enrollment in Quarter 1 | C2: ='INPUT HERE'!$E$10 -> 165 | D2: Total Suspension Rate | F2: =J7/J4 -> 0.018181818 | G2: Total Expulsion Rate | I2: =J16/J4 -> 0
B3: Student Race | C3: American Indian/ Alaskan Native | D3: Asian | E3: Black | F3: Hispanic/ Latino | G3: Two or More Races | H3: Pacific Islander | I3: White | J3: TOTAL AVERAGE | L3: Student Sub-population | M3: EL | N3: Female | O3: Foster | P3: FRL | Q3: Gender Non-Conforming/ Trans/NB | R3: Homeless | S3: IEP | T3: Male | U3: MIG | V3: Military | W3: TOTAL AVERAGE
B4: Student Enrollment by Race | C4: ='INPUT HERE'!$E$14 -> 1 | D4: ='INPUT HERE'!$E$15 -> 0 | E4: ='INPUT HERE'!$E$16 -> 101 | F4: ='INPUT HERE'!$E$17 -> 40 | G4: ='INPUT HERE'!$E$18 -> 17 | H4: ='INPUT HERE'!$E$19 -> 0 | I4: ='INPUT HERE'!$E$20 -> 6 | J4: =SUM(C4:I4) -> 165 | L4: Student Enrollment by sub-population | M4: ='INPUT HERE'!$E$21 -> 6 | N4: ='INPUT HERE'!$E$12 -> 80 | O4: ='INPUT HERE'!$E$22 -> 0 | P4: ='INPUT HERE'!$E$23 -> 165 | Q4: ='INPUT HERE'!$E$13 -> 0 | R4: ='INPUT HERE'!$E$24 -> 3 | S4: ='INPUT HERE'!$E$25 -> 18 | T4: ='INPUT HERE'!$E$11 -> 85 | U4: ='INPUT HERE'!$E$26 -> 0 | V4: ='INPUT HERE'!$E$27 -> 2 | W4: =SUM(M4:V4) -> 359
B5: Suspension + Expulsion by Race (# of students) | C5: =C7+C16 -> 0 | D5: =D7+D16 -> 0 | E5: =E7+E16 -> 2 | F5: =F7+F16 -> 0 | G5: =G7+G16 -> 1 | H5: =H7+H16 -> 0 | I5: =I7+I16 -> 0 | J5: =SUM(C5:I5) -> 3 | L5: Suspension + Expulsion by sub-population (# of students) | M5: =M7+M14 -> 0 | N5: =IF(N7+N15=0, 0.1, N7+N15) -> 2 | O5: =O7+O14 -> 0 | P5: =P7+P14 -> 0 | Q5: =Q7+Q14 -> 0 | R5: =R7+R14 -> 0 | S5: =S7+S14 -> 0 | T5: =T7+T14 -> 1 | U5: =U7+U14 -> 0 | V5: =V7+V14 -> 0 | W5: =SUM(M5:V5) -> 3
B6: Suspensions | L6: Suspensions | W6: AVERAGE
B7: Suspension by Race (# of students) | C7: ='INPUT HERE'!$BK$14 -> 0 | D7: ='INPUT HERE'!$BK$15 -> 0 | E7: ='INPUT HERE'!$BK$16 -> 2 | F7: ='INPUT HERE'!$BK$17 -> 0 | G7: ='INPUT HERE'!$BK$18 -> 1 | H7: ='INPUT HERE'!$BK$19 -> 0 | I7: ='INPUT HERE'!$BK$20 -> 0 | J7: =SUM(C7:I7) -> 3 | L7: Suspension by sub-population (# of students) | M7: ='INPUT HERE'!$BK$21 -> 0 | N7: ='INPUT HERE'!$BK$12 -> 2 | O7: ='INPUT HERE'!$BK$22 -> 0 | P7: ='INPUT HERE'!$BK$23 -> 0 | Q7: ='INPUT HERE'!$BK$13 -> 0 | R7: ='INPUT HERE'!$BK$24 -> 0 | S7: ='INPUT HERE'!$BK$25 -> 0 | T7: ='INPUT HERE'!$BK$11 -> 1 | U7: ='INPUT HERE'!$BK$26 -> 0 | V7: ='INPUT HERE'!$BK$27 -> 0 | W7: =SUM(M7:V7) -> 3
B8: Percentage of enrolled students with suspension by race | C8: =IF(C7,C7/C4,0) -> 0 | D8: =IF(D7,D7/D4,0) -> 0 | E8: =IF(E7,E7/E4,0) -> 0.01980198 | F8: =IF(F7,F7/F4,0) -> 0 | G8: =IF(G7,G7/G4,0) -> 0.058823529 | H8: =IF(H7,H7/H4,0) -> 0 | I8: =IF(I7,I7/I4,0) -> 0 | J8: =AVERAGE(C8:I8) -> 0.011232216 | L8: Percentage of enrolled students with suspension by sub-population | M8: =IF(M7,M7/M4,0) -> 0 | N8: =IF(N7,N7/N4,0) -> 0.025 | O8: =IF(O7,O7/O4,0) -> 0 | P8: =IF(P7,P7/P4,0) -> 0 | Q8: =IF(Q7,Q7/Q4,0) -> 0 | R8: =IF(R7,R7/R4,0) -> 0 | S8: =IF(S7,S7/S4,0) -> 0 | T8: =IF(T7,T7/T4,0) -> 0.011764706 | ... V8: =IF(V7,V7/V4,0) -> 0 | W8: =AVERAGE(M8:V8) -> 0.0036764706
B9: Risk Index for Suspension | C9: =IF(C7,C7/C4,0) -> 0 | D9: =IF(D7,D7/D4,0) -> 0 | E9: =IF(E7,E7/E4,0) -> 0.01980198 | F9: =IF(F7,F7/F4,0) -> 0 | G9: =IF(G7,G7/G4,0) -> 0.058823529 | H9: =IF(H7,H7/H4,0) -> 0 | I9: =IF(I7,I7/I4,0) -> 0 | J9: =AVERAGE(C9:I9) -> 0.011232216 | L9: Risk Index for Suspension | M9: =IF(M7,M7/M4,0) -> 0 | N9: =IF(N7,N7/N4,0) -> 0.025 | O9: =IF(O7,O7/O4,0) -> 0 | P9: =IF(P7,P7/P4,0) -> 0 | Q9: =IF(Q7,Q7/Q4,0) -> 0 | R9: =IF(R7,R7/R4,0) -> 0 | S9: =IF(S7,S7/S4,0) -> 0 | T9: =IF(T7,T7/T4,0) -> 0.011764706 | ... V9: =IF(V7,V7/V4,0) -> 0 | W9: =AVERAGE(M9:V9) -> 0.0036764706
B11: Relative Risk Ratio compared to all other students | C11: =(C7/C4)/(($J$7-C7)/($J$4-C4)) -> 0 | D11: =(D7/D4)/(($J$7-D7)/($J$4-D4)) -> #DIV/0! | E11: =(E7/E4)/(($J$7-E7)/($J$4-E4)) -> 1.2673267 | F11: =(F7/F4)/(($J$7-F7)/($J$4-F4)) -> 0 | G11: =(G7/G4)/(($J$7-G7)/($J$4-G4)) -> 4.3529412 | H11: =(H7/H4)/(($J$7-H7)/($J$4-H4)) -> #DIV/0! | I11: =(I7/I4)/(($J$7-I7)/($J$4-I4)) -> 0 | J11: =AVERAGE(C11:I11) -> #DIV/0! | L11: Relative Risk Ratio compared to all other students | M11: =(M7/M4)/(($J$7-M7)/($J$4-M4)) -> 0 | N11: =(N7/N4)/(($J$7-N7)/($J$4-N4)) -> 2.125 | O11: =(O7/O4)/(($J$7-O7)/($J$4-O4)) -> #DIV/0! | P11: =(P7/P4)/(($J$7-P7)/($J$4-P4)) -> #DIV/0! | Q11: =(Q7/Q4)/(($J$7-Q7)/($J$4-Q4)) -> #DIV/0! | R11: =(R7/R4)/(($J$7-R7)/($J$4-R4)) -> 0 | S11: =(S7/S4)/(($J$7-S7)/($J$4-S4)) -> 0 | T11: =(T7/T4)/(($J$7-T7)/($J$4-T4)) -> 0.47058824 | ... V11: =(V7/V4)/(($J$7-V7)/($J$4-V4)) -> 0 | W11: =AVERAGE(M11:V11) -> #DIV/0!
B12: Deviation from average (1) | C12: =C11-$J$11 -> #DIV/0! | D12: =D11-$J$11 -> #DIV/0! | E12: =E11-$J$11 -> #DIV/0! | F12: =F11-$J$11 -> #DIV/0! | G12: =G11-$J$11 -> #DIV/0! | H12: =H11-$J$11 -> #DIV/0! | I12: =I11-$J$11 -> #DIV/0! | L12: Deviation from average (1) | M12: =M11-$J$11 -> #DIV/0! | N12: =N11-$J$11 -> #DIV/0! | O12: =O11-$J$11 -> #DIV/0! | P12: =P11-$J$11 -> #DIV/0! | Q12: =Q11-$J$11 -> #DIV/0! | R12: =R11-$J$11 -> #DIV/0! | S12: =S11-$J$11 -> #DIV/0! | T12: =T11-$J$11 -> #DIV/0! | ... V12: =V11-$J$11 -> #DIV/0!
B13: Relative Risk Ratio compared to white students | C13: =(C7/C4)/($I$7/$I$4) -> #DIV/0! | D13: =(D7/D4)/($I$7/$I$4) -> #DIV/0! | E13: =(E7/E4)/($I$7/$I$4) -> #DIV/0! | F13: =(F7/F4)/($I$7/$I$4) -> #DIV/0! | G13: =(G7/G4)/($I$7/$I$4) -> #DIV/0! | H13: =(H7/H4)/($I$7/$I$4) -> #DIV/0! | J13: =AVERAGE(C13:H13) -> #DIV/0! | L13: Expulsions
B14: Deviation from white students (1) | C14: =C13-$I$11 -> #DIV/0! | D14: =D13-$I$11 -> #DIV/0! | E14: =E13-$I$11 -> #DIV/0! | F14: =F13-$I$11 -> #DIV/0! | G14: =G13-$I$11 -> #DIV/0! | H14: =H13-$I$11 -> #DIV/0! | L14: Expulsion by sub-population(# of students) | M14: ='INPUT HERE'!$BL$21 -> 0 | N14: ='INPUT HERE'!$BL$12 -> 0 | O14: ='INPUT HERE'!$BL$22 -> 0 | P14: ='INPUT HERE'!$BL$23 -> 0 | Q14: ='INPUT HERE'!$BL$13 -> 0 | R14: ='INPUT HERE'!$BL$24 -> 0 | S14: ='INPUT HERE'!$BL$25 -> 0 | T14: ='INPUT HERE'!$BL$11 -> 0 | U14: ='INPUT HERE'!$BL$26 -> 0 | V14: ='INPUT HERE'!$BL$27 -> 0 | W14: =SUM(M14:V14) -> 0
B15: Expulsions | L15: Percentage of enrolled students with suspension by sub-population | M15: =IF(M14,M14/M4,0) -> 0 | N15: =IF(N14,N14/N4,0) -> 0 | O15: =IF(O14,O14/O4,0) -> 0 | P15: =IF(P14,P14/P4,0) -> 0 | Q15: =IF(Q14,Q14/Q4,0) -> 0 | R15: =IF(R14,R14/R4,0) -> 0 | S15: =IF(S14,S14/S4,0) -> 0 | T15: =IF(T14,T14/T4,0) -> 0 | ... V15: =IF(V14,V14/V4,0) -> 0 | W15: =AVERAGE(M15:V15) -> 0
B16: Expulsion by Race (# of students) | C16: ='INPUT HERE'!$BL$14 -> 0 | D16: ='INPUT HERE'!$BL$15 -> 0 | E16: ='INPUT HERE'!$BL$16 -> 0 | F16: ='INPUT HERE'!$BL$17 -> 0 | G16: ='INPUT HERE'!$BL$18 -> 0 | H16: ='INPUT HERE'!$BL$19 -> 0 | I16: ='INPUT HERE'!$BL$20 -> 0 | J16: =SUM(C16:I16) -> 0 | L16: Risk Index for Expulsion | M16: =IF(M14,M14/M4,0) -> 0 | N16: =IF(N14,N14/N4,0) -> 0 | O16: =IF(O14,O14/O4,0) -> 0 | P16: =IF(P14,P14/P4,0) -> 0 | Q16: =IF(Q14,Q14/Q4,0) -> 0 | R16: =IF(R14,R14/R4,0) -> 0 | S16: =IF(S14,S14/S4,0) -> 0 | T16: =IF(T14,T14/T4,0) -> 0 | ... V16: =IF(V14,V14/V4,0) -> 0 | W16: =AVERAGE(M16:V16) -> 0
B17: Percentage of enrolled students with expulsion by race | C17: =IF(C16,C16/C4,0) -> 0 | D17: =IF(D16,D16/D4,0) -> 0 | E17: =IF(E16,E16/E4,0) -> 0 | F17: =IF(F16,F16/F4,0) -> 0 | G17: =IF(G16,G16/G4,0) -> 0 | H17: =IF(H16,H16/H4,0) -> 0 | I17: =IF(I16,I16/I4,0) -> 0 | J17: =AVERAGE(C17:I17) -> 0
B18: Risk Index for Expulsion | C18: =IF(C16,C16/C4,0) -> 0 | D18: =IF(D16,D16/D4,0) -> 0 | E18: =IF(E16,E16/E4,0) -> 0 | F18: =IF(F16,F16/F4,0) -> 0 | G18: =IF(G16,G16/G4,0) -> 0 | H18: =IF(H16,H16/H4,0) -> 0 | I18: =IF(I16,I16/I4,0) -> 0 | J18: =AVERAGE(C18:I18) -> 0 | L18: Relative Risk Ratio compared to all other students | M18: =(M14/M4)/(($J$16-M14)/($J$4-M4)) -> #DIV/0! | N18: =(N14/N4)/(($J$16-N14)/($J$4-N4)) -> #DIV/0! | O18: =(O14/O4)/(($J$16-O14)/($J$4-O4)) -> #DIV/0! | P18: =(P14/P4)/(($J$16-P14)/($J$4-P4)) -> #DIV/0! | Q18: =(Q14/Q4)/(($J$16-Q14)/($J$4-Q4)) -> #DIV/0! | R18: =(R14/R4)/(($J$16-R14)/($J$4-R4)) -> #DIV/0! | S18: =(S14/S4)/(($J$16-S14)/($J$4-S4)) -> #DIV/0! | T18: =(T14/T4)/(($J$16-T14)/($J$4-T4)) -> #DIV/0! | ... V18: =(V14/V4)/(($J$16-V14)/($J$4-V4)) -> #DIV/0! | W18: =AVERAGE(M18:V18) -> #DIV/0!
L19: Deviation from average (1) | M19: =M18-$J$20 -> #DIV/0! | N19: =N18-$J$20 -> #DIV/0! | O19: =O18-$J$20 -> #DIV/0! | P19: =P18-$J$20 -> #DIV/0! | Q19: =Q18-$J$20 -> #DIV/0! | R19: =R18-$J$20 -> #DIV/0! | S19: =S18-$J$20 -> #DIV/0! | T19: =T18-$J$20 -> #DIV/0! | ... V19: =V18-$J$20 -> #DIV/0!
B20: Relative Risk Ratio compared to all other students | C20: =(C16/C4)/(($J$16-C16)/($J$4-C4)) -> #DIV/0! | D20: =(D16/D4)/(($J$16-D16)/($J$4-D4)) -> #DIV/0! | E20: =(E16/E4)/(($J$16-E16)/($J$4-E4)) -> #DIV/0! | F20: =(F16/F4)/(($J$16-F16)/($J$4-F4)) -> #DIV/0! | G20: =(G16/G4)/(($J$16-G16)/($J$4-G4)) -> #DIV/0! | H20: =(H16/H4)/(($J$16-H16)/($J$4-H4)) -> #DIV/0! | I20: =(I16/I4)/(($J$16-I16)/($J$4-I4)) -> #DIV/0! | J20: =AVERAGE(C20:I20) -> #DIV/0!
B21: Deviation from average (1) | C21: =C20-$J$20 -> #DIV/0! | D21: =D20-$J$20 -> #DIV/0! | E21: =E20-$J$20 -> #DIV/0! | F21: =F20-$J$20 -> #DIV/0! | G21: =G20-$J$20 -> #DIV/0! | H21: =H20-$J$20 -> #DIV/0! | I21: =I20-$J$20 -> #DIV/0!
B22: Relative Risk Ratio compared to white students | C22: =(C16/C4)/($I$16/$I$4) -> #DIV/0! | D22: =(D16/D4)/($I$16/$I$4) -> #DIV/0! | E22: =(E16/E4)/($I$16/$I$4) -> #DIV/0! | F22: =(F16/F4)/($I$16/$I$4) -> #DIV/0! | G22: =(G16/G4)/($I$16/$I$4) -> #DIV/0! | H22: =(H16/H4)/($I$16/$I$4) -> #DIV/0! | J22: =AVERAGE(C22:H22) -> #DIV/0!
B23: Deviation from white students (1) | C23: =C22-$I$20 -> #DIV/0! | D23: =D22-$I$20 -> #DIV/0! | E23: =E22-$I$20 -> #DIV/0! | F23: =F22-$I$20 -> #DIV/0! | G23: =G22-$I$20 -> #DIV/0! | H23: =H22-$I$20 -> #DIV/0!

Sheet Q2 SUSPENSION AND EXPULSION
A1: Instructions: This sheet will auto populate as you fill in information on the 'Discipline Data Input' sheet. Note that some cells will say #DIV/0. If this happens, it means there is not a value in place to divide by, for example we cannot compare the risk ratio to white students if no white students have been suspended or expelled. Definitions: Risk Index - percentage of a group that receives a suspension or expulsion. Risk Ratio - represents the likelihood of a suspension or expulsion for one group in relation to a comparison group. Risk index of target group / risk index of comparison group = risk ratio. Notes: Risk Ratio - boxes highlighted in RED indicate a student group that has an above average chance of a suspension or expulsion (compared to all students or compared to white students). Risk Ratio Comparison Graphs - Negative values indicate student population has a lower chance of a suspension or expulsion than comparison group (either all students or white students). Positive values indicate student population has a higher chance of a suspension or expulsion than comparison group. | B1: Q2 Suspension and Expulsion: Disproportionate Discipline Tracking - Race | L1: Q2 Suspension and Expulsion: Disproportionate Data Tracking - By Sub-population
B2: Total School Enrollment in Quarter 2 | C2: ='INPUT HERE'!$E$35 -> 0 | D2: Total Suspension Rate | F2: =J7/J4 -> #DIV/0! | G2: Total Expulsion Rate | I2: =J16/J4 -> #DIV/0!
B3: Student Race | C3: American Indian/ Alaskan Native | D3: Asian | E3: Black | F3: Hispanic/ Latino | G3: Two or More Races | H3: Pacific Islander | I3: White | J3: TOTAL AVERAGE | L3: Student Sub-population | M3: EL | N3: Female | O3: Foster | P3: FRL | Q3: Gender Non-Conforming/ Trans/NB | R3: Homeless | S3: IEP | T3: Male | U3: MIG | V3: Military | W3: TOTAL AVERAGE
B4: Student Enrollment by Race | C4: ='INPUT HERE'!$E$39 | D4: ='INPUT HERE'!$E$40 | E4: ='INPUT HERE'!$E$41 | F4: ='INPUT HERE'!$E$42 | G4: ='INPUT HERE'!$E$43 | H4: ='INPUT HERE'!$E$44 | I4: ='INPUT HERE'!$E$45 | J4: =SUM(C4:I4) -> 0 | L4: Student Enrollment by sub-population | M4: ='INPUT HERE'!$E$46 | N4: ='INPUT HERE'!$E$37 | O4: ='INPUT HERE'!$E$47 | P4: ='INPUT HERE'!$E$48 | Q4: ='INPUT HERE'!$E$38 | R4: ='INPUT HERE'!$E$49 | S4: ='INPUT HERE'!$E$50 | T4: ='INPUT HERE'!$E$36 | U4: ='INPUT HERE'!$E$51 | V4: ='INPUT HERE'!$E$52 | W4: =SUM(M4:V4) -> 0
B5: Suspension + Expulsion by Race (# of students) | C5: =C7+C16 -> 0 | D5: =D7+D16 -> 0 | E5: =E7+E16 -> 0 | F5: =F7+F16 -> 0 | G5: =G7+G16 -> 0 | H5: =H7+H16 -> 0 | I5: =I7+I16 -> 0 | J5: =SUM(C5:I5) -> 0 | L5: Suspension + Expulsion by sub-population (# of students) | M5: =M7+M14 -> 0 | N5: =IF(N7+N15=0, 0.1, N7+N15) -> 0.1 | O5: =O7+O14 -> 0 | P5: =P7+P14 -> 0 | Q5: =Q7+Q14 -> 0 | R5: =R7+R14 -> 0 | S5: =S7+S14 -> 0 | T5: =T7+T14 -> 0 | U5: =U7+U14 -> 0 | V5: =V7+V14 -> 0 | W5: =SUM(M5:V5) -> 0.1
B6: Suspensions | L6: Suspensions | W6: AVERAGE
B7: Suspension by Race (# of students) | C7: ='INPUT HERE'!$BK$39 | D7: ='INPUT HERE'!$BK$40 | E7: ='INPUT HERE'!$BK$41 | F7: ='INPUT HERE'!$BK$42 | G7: ='INPUT HERE'!$BK$43 | H7: ='INPUT HERE'!$BK$44 | I7: ='INPUT HERE'!$BK$45 | J7: =SUM(C7:I7) -> 0 | L7: Suspension by sub-population (# of students) | M7: ='INPUT HERE'!$BK$46 | N7: ='INPUT HERE'!$BK$37 | O7: ='INPUT HERE'!$BK$47 | P7: ='INPUT HERE'!$BK$48 | Q7: ='INPUT HERE'!$BK$38 | R7: ='INPUT HERE'!$BK$49 | S7: ='INPUT HERE'!$BK$50 | T7: ='INPUT HERE'!$BK$36 | U7: ='INPUT HERE'!$BK$51 | V7: ='INPUT HERE'!$BK$52 | W7: =SUM(M7:V7) -> 0
B8: Percentage of enrolled students with suspension by race | C8: =IF(C7,C7/C4,0) -> 0 | D8: =IF(D7,D7/D4,0) -> 0 | E8: =IF(E7,E7/E4,0) -> 0 | F8: =IF(F7,F7/F4,0) -> 0 | G8: =IF(G7,G7/G4,0) -> 0 | H8: =IF(H7,H7/H4,0) -> 0 | I8: =IF(I7,I7/I4,0) -> 0 | J8: =AVERAGE(C8:I8) -> 0 | L8: Percentage of enrolled students with suspension by sub-population | M8: =IF(M7,M7/M4,0) -> 0 | N8: =IF(N7,N7/N4,0) -> 0 | O8: =IF(O7,O7/O4,0) -> 0 | P8: =IF(P7,P7/P4,0) -> 0 | Q8: =IF(Q7,Q7/Q4,0) -> 0 | R8: =IF(R7,R7/R4,0) -> 0 | S8: =IF(S7,S7/S4,0) -> 0 | T8: =IF(T7,T7/T4,0) -> 0 | ... V8: =IF(V7,V7/V4,0) -> 0 | W8: =AVERAGE(M8:V8) -> 0
B9: Risk Index for Suspension | C9: =IF(C7,C7/C4,0) -> 0 | D9: =IF(D7,D7/D4,0) -> 0 | E9: =IF(E7,E7/E4,0) -> 0 | F9: =IF(F7,F7/F4,0) -> 0 | G9: =IF(G7,G7/G4,0) -> 0 | H9: =IF(H7,H7/H4,0) -> 0 | I9: =IF(I7,I7/I4,0) -> 0 | J9: =AVERAGE(C9:I9) -> 0 | L9: Risk Index for Suspension | M9: =IF(M7,M7/M4,0) -> 0 | N9: =IF(N7,N7/N4,0) -> 0 | O9: =IF(O7,O7/O4,0) -> 0 | P9: =IF(P7,P7/P4,0) -> 0 | Q9: =IF(Q7,Q7/Q4,0) -> 0 | R9: =IF(R7,R7/R4,0) -> 0 | S9: =IF(S7,S7/S4,0) -> 0 | T9: =IF(T7,T7/T4,0) -> 0 | ... V9: =IF(V7,V7/V4,0) -> 0 | W9: =AVERAGE(M9:V9) -> 0
B11: Relative Risk Ratio compared to all other students | C11: =(C7/C4)/(($J$7-C7)/($J$4-C4)) -> #DIV/0! | D11: =(D7/D4)/(($J$7-D7)/($J$4-D4)) -> #DIV/0! | E11: =(E7/E4)/(($J$7-E7)/($J$4-E4)) -> #DIV/0! | F11: =(F7/F4)/(($J$7-F7)/($J$4-F4)) -> #DIV/0! | G11: =(G7/G4)/(($J$7-G7)/($J$4-G4)) -> #DIV/0! | H11: =(H7/H4)/(($J$7-H7)/($J$4-H4)) -> #DIV/0! | I11: =(I7/I4)/(($J$7-I7)/($J$4-I4)) -> #DIV/0! | J11: =AVERAGE(C11:I11) -> #DIV/0! | L11: Relative Risk Ratio compared to all other students | M11: =(M7/M4)/(($J$7-M7)/($J$4-M4)) -> #DIV/0! | N11: =(N7/N4)/(($J$7-N7)/($J$4-N4)) -> #DIV/0! | O11: =(O7/O4)/(($J$7-O7)/($J$4-O4)) -> #DIV/0! | P11: =(P7/P4)/(($J$7-P7)/($J$4-P4)) -> #DIV/0! | Q11: =(Q7/Q4)/(($J$7-Q7)/($J$4-Q4)) -> #DIV/0! | R11: =(R7/R4)/(($J$7-R7)/($J$4-R4)) -> #DIV/0! | S11: =(S7/S4)/(($J$7-S7)/($J$4-S4)) -> #DIV/0! | T11: =(T7/T4)/(($J$7-T7)/($J$4-T4)) -> #DIV/0! | ... V11: =(V7/V4)/(($J$7-V7)/($J$4-V4)) -> #DIV/0! | W11: =AVERAGE(M11:V11) -> #DIV/0!
B12: Deviation from average (1) | C12: =C11-$J$11 -> #DIV/0! | D12: =D11-$J$11 -> #DIV/0! | E12: =E11-$J$11 -> #DIV/0! | F12: =F11-$J$11 -> #DIV/0! | G12: =G11-$J$11 -> #DIV/0! | H12: =H11-$J$11 -> #DIV/0! | I12: =I11-$J$11 -> #DIV/0! | L12: Deviation from average (1) | M12: =M11-$J$11 -> #DIV/0! | N12: =N11-$J$11 -> #DIV/0! | O12: =O11-$J$11 -> #DIV/0! | P12: =P11-$J$11 -> #DIV/0! | Q12: =Q11-$J$11 -> #DIV/0! | R12: =R11-$J$11 -> #DIV/0! | S12: =S11-$J$11 -> #DIV/0! | T12: =T11-$J$11 -> #DIV/0! | ... V12: =V11-$J$11 -> #DIV/0!
B13: Relative Risk Ratio compared to white students | C13: =(C7/C4)/($I$7/$I$4) -> #DIV/0! | D13: =(D7/D4)/($I$7/$I$4) -> #DIV/0! | E13: =(E7/E4)/($I$7/$I$4) -> #DIV/0! | F13: =(F7/F4)/($I$7/$I$4) -> #DIV/0! | G13: =(G7/G4)/($I$7/$I$4) -> #DIV/0! | H13: =(H7/H4)/($I$7/$I$4) -> #DIV/0! | J13: =AVERAGE(C13:I13) -> #DIV/0! | L13: Expulsions
B14: Deviation from white students (1) | C14: =C13-$I$11 -> #DIV/0! | D14: =D13-$I$11 -> #DIV/0! | E14: =E13-$I$11 -> #DIV/0! | F14: =F13-$I$11 -> #DIV/0! | G14: =G13-$I$11 -> #DIV/0! | H14: =H13-$I$11 -> #DIV/0! | L14: Expulsion by sub-population(# of students) | M14: ='INPUT HERE'!$BL$46 | N14: ='INPUT HERE'!$BL$37 | O14: ='INPUT HERE'!$BL$47 | P14: ='INPUT HERE'!$BL$48 | Q14: ='INPUT HERE'!$BL$38 | R14: ='INPUT HERE'!$BL$49 | S14: ='INPUT HERE'!$BL$50 | T14: ='INPUT HERE'!$BL$36 | U14: ='INPUT HERE'!$BL$51 | V14: ='INPUT HERE'!$BL$52 | W14: =SUM(M14:V14) -> 0
B15: Expulsions | L15: Percentage of enrolled students with suspension by sub-population | M15: =IF(M14,M14/M4,0) -> 0 | N15: =IF(N14,N14/N4,0) -> 0 | O15: =IF(O14,O14/O4,0) -> 0 | P15: =IF(P14,P14/P4,0) -> 0 | Q15: =IF(Q14,Q14/Q4,0) -> 0 | R15: =IF(R14,R14/R4,0) -> 0 | S15: =IF(S14,S14/S4,0) -> 0 | T15: =IF(T14,T14/T4,0) -> 0 | ... V15: =IF(V14,V14/V4,0) -> 0 | W15: =AVERAGE(M15:V15) -> 0
B16: Expulsion by Race (# of students) | C16: ='INPUT HERE'!$BL$39 | D16: ='INPUT HERE'!$BL$40 | E16: ='INPUT HERE'!$BL$41 | F16: ='INPUT HERE'!$BL$42 | G16: ='INPUT HERE'!$BL$43 | H16: ='INPUT HERE'!$BL$44 | I16: ='INPUT HERE'!$BL$45 | J16: =SUM(C16:I16) -> 0 | L16: Risk Index for Expulsion | M16: =IF(M14,M14/M4,0) -> 0 | N16: =IF(N14,N14/N4,0) -> 0 | O16: =IF(O14,O14/O4,0) -> 0 | P16: =IF(P14,P14/P4,0) -> 0 | Q16: =IF(Q14,Q14/Q4,0) -> 0 | R16: =IF(R14,R14/R4,0) -> 0 | S16: =IF(S14,S14/S4,0) -> 0 | T16: =IF(T14,T14/T4,0) -> 0 | ... V16: =IF(V14,V14/V4,0) -> 0 | W16: =AVERAGE(M16:V16) -> 0
B17: Percentage of enrolled students with expulsion by race | C17: =IF(C16,C16/C4,0) -> 0 | D17: =IF(D16,D16/D4,0) -> 0 | E17: =IF(E16,E16/E4,0) -> 0 | F17: =IF(F16,F16/F4,0) -> 0 | G17: =IF(G16,G16/G4,0) -> 0 | H17: =IF(H16,H16/H4,0) -> 0 | I17: =IF(I16,I16/I4,0) -> 0 | J17: =AVERAGE(C17:I17) -> 0
B18: Risk Index for Expulsion | C18: =IF(C16,C16/C4,0) -> 0 | D18: =IF(D16,D16/D4,0) -> 0 | E18: =IF(E16,E16/E4,0) -> 0 | F18: =IF(F16,F16/F4,0) -> 0 | G18: =IF(G16,G16/G4,0) -> 0 | H18: =IF(H16,H16/H4,0) -> 0 | I18: =IF(I16,I16/I4,0) -> 0 | J18: =AVERAGE(C18:I18) -> 0 | L18: Relative Risk Ratio compared to all other students | M18: =(M14/M4)/(($J$16-M14)/($J$4-M4)) -> #DIV/0! | N18: =(N14/N4)/(($J$16-N14)/($J$4-N4)) -> #DIV/0! | O18: =(O14/O4)/(($J$16-O14)/($J$4-O4)) -> #DIV/0! | P18: =(P14/P4)/(($J$16-P14)/($J$4-P4)) -> #DIV/0! | Q18: =(Q14/Q4)/(($J$16-Q14)/($J$4-Q4)) -> #DIV/0! | R18: =(R14/R4)/(($J$16-R14)/($J$4-R4)) -> #DIV/0! | S18: =(S14/S4)/(($J$16-S14)/($J$4-S4)) -> #DIV/0! | T18: =(T14/T4)/(($J$16-T14)/($J$4-T4)) -> #DIV/0! | ... V18: =(V14/V4)/(($J$16-V14)/($J$4-V4)) -> #DIV/0! | W18: =AVERAGE(M18:V18) -> #DIV/0!
L19: Deviation from average (1) | M19: =M18-$J$20 -> #DIV/0! | N19: =N18-$J$20 -> #DIV/0! | O19: =O18-$J$20 -> #DIV/0! | P19: =P18-$J$20 -> #DIV/0! | Q19: =Q18-$J$20 -> #DIV/0! | R19: =R18-$J$20 -> #DIV/0! | S19: =S18-$J$20 -> #DIV/0! | T19: =T18-$J$20 -> #DIV/0! | ... V19: =V18-$J$20 -> #DIV/0!
B20: Relative Risk Ratio compared to all other students | C20: =(C16/C4)/(($J$16-C16)/($J$4-C4)) -> #DIV/0! | D20: =(D16/D4)/(($J$16-D16)/($J$4-D4)) -> #DIV/0! | E20: =(E16/E4)/(($J$16-E16)/($J$4-E4)) -> #DIV/0! | F20: =(F16/F4)/(($J$16-F16)/($J$4-F4)) -> #DIV/0! | G20: =(G16/G4)/(($J$16-G16)/($J$4-G4)) -> #DIV/0! | H20: =(H16/H4)/(($J$16-H16)/($J$4-H4)) -> #DIV/0! | I20: =(I16/I4)/(($J$16-I16)/($J$4-I4)) -> #DIV/0! | J20: =AVERAGE(C20:I20) -> #DIV/0!
B21: Deviation from average (1) | C21: =C20-$J$20 -> #DIV/0! | D21: =D20-$J$20 -> #DIV/0! | E21: =E20-$J$20 -> #DIV/0! | F21: =F20-$J$20 -> #DIV/0! | G21: =G20-$J$20 -> #DIV/0! | H21: =H20-$J$20 -> #DIV/0! | I21: =I20-$J$20 -> #DIV/0!
B22: Relative Risk Ratio compared to white students | C22: =(C16/C4)/($I$16/$I$4) -> #DIV/0! | D22: =(D16/D4)/($I$16/$I$4) -> #DIV/0! | E22: =(E16/E4)/($I$16/$I$4) -> #DIV/0! | F22: =(F16/F4)/($I$16/$I$4) -> #DIV/0! | G22: =(G16/G4)/($I$16/$I$4) -> #DIV/0! | H22: =(H16/H4)/($I$16/$I$4) -> #DIV/0! | J22: =AVERAGE(C22:H22) -> #DIV/0!
B23: Deviation from white students (1) | C23: =C22-$I$20 -> #DIV/0! | D23: =D22-$I$20 -> #DIV/0! | E23: =E22-$I$20 -> #DIV/0! | F23: =F22-$I$20 -> #DIV/0! | G23: =G22-$I$20 -> #DIV/0! | H23: =H22-$I$20 -> #DIV/0!

Sheet Q3 SUSPENSION AND EXPULSION
A1: Instructions: This sheet will auto populate as you fill in information on the 'Discipline Data Input' sheet. Note that some cells will say #DIV/0. If this happens, it means there is not a value in place to divide by, for example we cannot compare the risk ratio to white students if no white students have been suspended or expelled. Definitions: Risk Index - percentage of a group that receives a suspension or expulsion. Risk Ratio - represents the likelihood of a suspension or expulsion for one group in relation to a comparison group. Risk index of target group / risk index of comparison group = risk ratio. Notes: Risk Ratio - boxes highlighted in RED indicate a student group that has an above average chance of a suspension or expulsion (compared to all students or compared to white students). Risk Ratio Comparison Graphs - Negative values indicate student population has a lower chance of a suspension or expulsion than comparison group (either all students or white students). Positive values indicate student population has a higher chance of a suspension or expulsion than comparison group. | B1: Q3 Suspension and Expulsion: Disproportionate Discipline Tracking - Race | L1: Q3 Suspension and Expulsion: Disproportionate Data Tracking - By Sub-population
B2: Total School Enrollment in Quarter 3 | C2: ='INPUT HERE'!$E$60 -> 0 | D2: Total Suspension Rate | F2: =J7/J4 -> #DIV/0! | G2: Total Expulsion Rate | I2: =J16/J4 -> #DIV/0!
B3: Student Race | C3: American Indian/ Alaskan Native | D3: Asian | E3: Black | F3: Hispanic/ Latino | G3: Two or More Races | H3: Pacific Islander | I3: White | J3: TOTAL AVERAGE | L3: Student Sub-population | M3: EL | N3: Female | O3: Foster | P3: FRL | Q3: Gender Non-Conforming/ Trans/NB | R3: Homeless | S3: IEP | T3: Male | U3: MIG | V3: Military | W3: TOTAL AVERAGE
B4: Student Enrollment by Race | C4: ='INPUT HERE'!$E$64 | D4: ='INPUT HERE'!$E$65 | E4: ='INPUT HERE'!$E$66 | F4: ='INPUT HERE'!$E$67 | G4: ='INPUT HERE'!$E$68 | H4: ='INPUT HERE'!$E$69 | I4: ='INPUT HERE'!$E$70 | J4: =SUM(C4:I4) -> 0 | L4: Student Enrollment by sub-population | M4: ='INPUT HERE'!$E$71 | N4: ='INPUT HERE'!$E$62 | O4: ='INPUT HERE'!$E$72 | P4: ='INPUT HERE'!$E$73 | Q4: ='INPUT HERE'!$E$63 | R4: ='INPUT HERE'!$E$74 | S4: ='INPUT HERE'!$E$75 | T4: ='INPUT HERE'!$E$61 | U4: ='INPUT HERE'!$E$76 | V4: ='INPUT HERE'!$E$77 | W4: =SUM(M4:V4) -> 0
B5: Suspension + Expulsion by Race (# of students) | C5: =C7+C16 -> 0 | D5: =D7+D16 -> 0 | E5: =E7+E16 -> 0 | F5: =F7+F16 -> 0 | G5: =G7+G16 -> 0 | H5: =H7+H16 -> 0 | I5: =I7+I16 -> 0 | J5: =SUM(C5:I5) -> 0 | L5: Suspension + Expulsion by sub-population (# of students) | M5: =M7+M14 -> 0 | N5: =IF(N7+N15=0, 0.1, N7+N15) -> 0.1 | O5: =O7+O14 -> 0 | P5: =P7+P14 -> 0 | Q5: =Q7+Q14 -> 0 | R5: =R7+R14 -> 0 | S5: =S7+S14 -> 0 | T5: =T7+T14 -> 0 | U5: =U7+U14 -> 0 | V5: =V7+V14 -> 0 | W5: =SUM(M5:V5) -> 0.1
B6: Suspensions | L6: Suspensions | W6: AVERAGE
B7: Suspension by Race (# of students) | C7: ='INPUT HERE'!$BK$64 | D7: ='INPUT HERE'!$BK$65 | E7: ='INPUT HERE'!$BK$66 | F7: ='INPUT HERE'!$BK$67 | G7: ='INPUT HERE'!$BK$68 | H7: ='INPUT HERE'!$BK$69 | I7: ='INPUT HERE'!$BK$70 | J7: =SUM(C7:I7) -> 0 | L7: Suspension by sub-population (# of students) | M7: ='INPUT HERE'!$BK$71 | N7: ='INPUT HERE'!$BK$62 | O7: ='INPUT HERE'!$BK$72 | P7: ='INPUT HERE'!$BK$73 | Q7: ='INPUT HERE'!$BK$63 | R7: ='INPUT HERE'!$BK$74 | S7: ='INPUT HERE'!$BK$75 | T7: ='INPUT HERE'!$BK$61 | U7: ='INPUT HERE'!$BK$76 | V7: ='INPUT HERE'!$BK$77 | W7: =SUM(M7:V7) -> 0
B8: Percentage of enrolled students with suspension by race | C8: =IF(C7,C7/C4,0) -> 0 | D8: =IF(D7,D7/D4,0) -> 0 | E8: =IF(E7,E7/E4,0) -> 0 | F8: =IF(F7,F7/F4,0) -> 0 | G8: =IF(G7,G7/G4,0) -> 0 | H8: =IF(H7,H7/H4,0) -> 0 | I8: =IF(I7,I7/I4,0) -> 0 | J8: =AVERAGE(C8:I8) -> 0 | L8: Percentage of enrolled students with suspension by sub-population | M8: =IF(M7,M7/M4,0) -> 0 | N8: =IF(N7,N7/N4,0) -> 0 | O8: =IF(O7,O7/O4,0) -> 0 | P8: =IF(P7,P7/P4,0) -> 0 | Q8: =IF(Q7,Q7/Q4,0) -> 0 | R8: =IF(R7,R7/R4,0) -> 0 | S8: =IF(S7,S7/S4,0) -> 0 | T8: =IF(T7,T7/T4,0) -> 0 | ... V8: =IF(V7,V7/V4,0) -> 0 | W8: =AVERAGE(M8:V8) -> 0
B9: Risk Index for Suspension | C9: =IF(C7,C7/C4,0) -> 0 | D9: =IF(D7,D7/D4,0) -> 0 | E9: =IF(E7,E7/E4,0) -> 0 | F9: =IF(F7,F7/F4,0) -> 0 | G9: =IF(G7,G7/G4,0) -> 0 | H9: =IF(H7,H7/H4,0) -> 0 | I9: =IF(I7,I7/I4,0) -> 0 | J9: =AVERAGE(C9:I9) -> 0 | L9: Risk Index for Suspension | M9: =IF(M7,M7/M4,0) -> 0 | N9: =IF(N7,N7/N4,0) -> 0 | O9: =IF(O7,O7/O4,0) -> 0 | P9: =IF(P7,P7/P4,0) -> 0 | Q9: =IF(Q7,Q7/Q4,0) -> 0 | R9: =IF(R7,R7/R4,0) -> 0 | S9: =IF(S7,S7/S4,0) -> 0 | T9: =IF(T7,T7/T4,0) -> 0 | ... V9: =IF(V7,V7/V4,0) -> 0 | W9: =AVERAGE(M9:V9) -> 0
B11: Relative Risk Ratio compared to all other students | C11: =(C7/C4)/(($J$7-C7)/($J$4-C4)) -> #DIV/0! | D11: =(D7/D4)/(($J$7-D7)/($J$4-D4)) -> #DIV/0! | E11: =(E7/E4)/(($J$7-E7)/($J$4-E4)) -> #DIV/0! | F11: =(F7/F4)/(($J$7-F7)/($J$4-F4)) -> #DIV/0! | G11: =(G7/G4)/(($J$7-G7)/($J$4-G4)) -> #DIV/0! | H11: =(H7/H4)/(($J$7-H7)/($J$4-H4)) -> #DIV/0! | I11: =(I7/I4)/(($J$7-I7)/($J$4-I4)) -> #DIV/0! | J11: =AVERAGE(C11:I11) -> #DIV/0! | L11: Relative Risk Ratio compared to all other students | M11: =(M7/M4)/(($J$7-M7)/($J$4-M4)) -> #DIV/0! | N11: =(N7/N4)/(($J$7-N7)/($J$4-N4)) -> #DIV/0! | O11: =(O7/O4)/(($J$7-O7)/($J$4-O4)) -> #DIV/0! | P11: =(P7/P4)/(($J$7-P7)/($J$4-P4)) -> #DIV/0! | Q11: =(Q7/Q4)/(($J$7-Q7)/($J$4-Q4)) -> #DIV/0! | R11: =(R7/R4)/(($J$7-R7)/($J$4-R4)) -> #DIV/0! | S11: =(S7/S4)/(($J$7-S7)/($J$4-S4)) -> #DIV/0! | T11: =(T7/T4)/(($J$7-T7)/($J$4-T4)) -> #DIV/0! | ... V11: =(V7/V4)/(($J$7-V7)/($J$4-V4)) -> #DIV/0! | W11: =AVERAGE(M11:V11) -> #DIV/0!
B12: Deviation from average (1) | C12: =C11-$J$11 -> #DIV/0! | D12: =D11-$J$11 -> #DIV/0! | E12: =E11-$J$11 -> #DIV/0! | F12: =F11-$J$11 -> #DIV/0! | G12: =G11-$J$11 -> #DIV/0! | H12: =H11-$J$11 -> #DIV/0! | I12: =I11-$J$11 -> #DIV/0! | L12: Deviation from average (1) | M12: =M11-$J$11 -> #DIV/0! | N12: =N11-$J$11 -> #DIV/0! | O12: =O11-$J$11 -> #DIV/0! | P12: =P11-$J$11 -> #DIV/0! | Q12: =Q11-$J$11 -> #DIV/0! | R12: =R11-$J$11 -> #DIV/0! | S12: =S11-$J$11 -> #DIV/0! | T12: =T11-$J$11 -> #DIV/0! | ... V12: =V11-$J$11 -> #DIV/0!
B13: Relative Risk Ratio compared to white students | C13: =(C7/C4)/($I$7/$I$4) -> #DIV/0! | D13: =(D7/D4)/($I$7/$I$4) -> #DIV/0! | E13: =(E7/E4)/($I$7/$I$4) -> #DIV/0! | F13: =(F7/F4)/($I$7/$I$4) -> #DIV/0! | G13: =(G7/G4)/($I$7/$I$4) -> #DIV/0! | H13: =(H7/H4)/($I$7/$I$4) -> #DIV/0! | J13: =AVERAGE(C13:I13) -> #DIV/0! | L13: Expulsions
B14: Deviation from white students (1) | C14: =C13-$I$11 -> #DIV/0! | D14: =D13-$I$11 -> #DIV/0! | E14: =E13-$I$11 -> #DIV/0! | F14: =F13-$I$11 -> #DIV/0! | G14: =G13-$I$11 -> #DIV/0! | H14: =H13-$I$11 -> #DIV/0! | L14: Expulsion by sub-population(# of students) | M14: ='INPUT HERE'!$BL$71 | N14: ='INPUT HERE'!$BL$62 | O14: ='INPUT HERE'!$BL$72 | P14: ='INPUT HERE'!$BL$73 | Q14: ='INPUT HERE'!$BL$63 | R14: ='INPUT HERE'!$BL$74 | S14: ='INPUT HERE'!$BL$75 | T14: ='INPUT HERE'!$BL$61 | U14: ='INPUT HERE'!$BL$76 | V14: ='INPUT HERE'!$BL$77 | W14: =SUM(M14:V14) -> 0
B15: Expulsions | L15: Percentage of enrolled students with suspension by sub-population | M15: =IF(M14,M14/M4,0) -> 0 | N15: =IF(N14,N14/N4,0) -> 0 | O15: =IF(O14,O14/O4,0) -> 0 | P15: =IF(P14,P14/P4,0) -> 0 | Q15: =IF(Q14,Q14/Q4,0) -> 0 | R15: =IF(R14,R14/R4,0) -> 0 | S15: =IF(S14,S14/S4,0) -> 0 | T15: =IF(T14,T14/T4,0) -> 0 | ... V15: =IF(V14,V14/V4,0) -> 0 | W15: =AVERAGE(M15:V15) -> 0
B16: Expulsion by Race (# of students) | C16: ='INPUT HERE'!$BL$64 | D16: ='INPUT HERE'!$BL$65 | E16: ='INPUT HERE'!$BL$66 | F16: ='INPUT HERE'!$BL$67 | G16: ='INPUT HERE'!$BL$68 | H16: ='INPUT HERE'!$BL$69 | I16: ='INPUT HERE'!$BL$70 | J16: =SUM(C16:I16) -> 0 | L16: Risk Index for Expulsion | M16: =IF(M14,M14/M4,0) -> 0 | N16: =IF(M14,M14/M4,0) -> 0 | O16: =IF(O14,O14/O4,0) -> 0 | P16: =IF(P14,P14/P4,0) -> 0 | Q16: =IF(Q14,Q14/Q4,0) -> 0 | R16: =IF(R14,R14/R4,0) -> 0 | S16: =IF(S14,S14/S4,0) -> 0 | T16: =IF(T14,T14/T4,0) -> 0 | U16: =IF(U14,U14/U4,0) -> 0 | V16: =IF(V14,V14/V4,0) -> 0 | W16: =AVERAGE(M16:V16) -> 0
B17: Percentage of enrolled students with expulsion by race | C17: =IF(C16,C16/C4,0) -> 0 | D17: =IF(D16,D16/D4,0) -> 0 | E17: =IF(E16,E16/E4,0) -> 0 | F17: =IF(F16,F16/F4,0) -> 0 | G17: =IF(G16,G16/G4,0) -> 0 | H17: =IF(H16,H16/H4,0) -> 0 | I17: =IF(I16,I16/I4,0) -> 0 | J17: =AVERAGE(C17:I17) -> 0
B18: Risk Index for Expulsion | C18: =IF(C16,C16/C4,0) -> 0 | D18: =IF(D16,D16/D4,0) -> 0 | E18: =IF(E16,E16/E4,0) -> 0 | F18: =IF(F16,F16/F4,0) -> 0 | G18: =IF(G16,G16/G4,0) -> 0 | H18: =IF(H16,H16/H4,0) -> 0 | I18: =IF(I16,I16/I4,0) -> 0 | J18: =AVERAGE(C18:I18) -> 0 | L18: Risk Ratio compared to all students | M18: =(M14/M4)/(($J$16-M14)/($J$4-M4)) -> #DIV/0! | N18: =(N14/N4)/(($J$16-N14)/($J$4-N4)) -> #DIV/0! | O18: =(O14/O4)/(($J$16-O14)/($J$4-O4)) -> #DIV/0! | P18: =(P14/P4)/(($J$16-P14)/($J$4-P4)) -> #DIV/0! | Q18: =(Q14/Q4)/(($J$16-Q14)/($J$4-Q4)) -> #DIV/0! | R18: =(R14/R4)/(($J$16-R14)/($J$4-R4)) -> #DIV/0! | S18: =(S14/S4)/(($J$16-S14)/($J$4-S4)) -> #DIV/0! | T18: =(T14/T4)/(($J$16-T14)/($J$4-T4)) -> #DIV/0! | ... V18: =(V14/V4)/(($J$16-V14)/($J$4-V4)) -> #DIV/0! | W18: =AVERAGE(M18:V18) -> #DIV/0!
L19: Relative Risk Ratio compared to all other students | M19: =M18-$J$20 -> #DIV/0! | N19: =N18-$J$20 -> #DIV/0! | O19: =O18-$J$20 -> #DIV/0! | P19: =P18-$J$20 -> #DIV/0! | Q19: =Q18-$J$20 -> #DIV/0! | R19: =R18-$J$20 -> #DIV/0! | S19: =S18-$J$20 -> #DIV/0! | T19: =T18-$J$20 -> #DIV/0! | ... V19: =V18-$J$20 -> #DIV/0!
B20: Relative Risk Ratio compared to all other students | C20: =(C16/C4)/(($J$16-C16)/($J$4-C4)) -> #DIV/0! | D20: =(D16/D4)/(($J$16-D16)/($J$4-D4)) -> #DIV/0! | E20: =(E16/E4)/(($J$16-E16)/($J$4-E4)) -> #DIV/0! | F20: =(F16/F4)/(($J$16-F16)/($J$4-F4)) -> #DIV/0! | G20: =(G16/G4)/(($J$16-G16)/($J$4-G4)) -> #DIV/0! | H20: =(H16/H4)/(($J$16-H16)/($J$4-H4)) -> #DIV/0! | I20: =(I16/I4)/(($J$16-I16)/($J$4-I4)) -> #DIV/0! | J20: =AVERAGE(C20:I20) -> #DIV/0!
B21: Deviation from average (1) | C21: =C20-$J$20 -> #DIV/0! | D21: =D20-$J$20 -> #DIV/0! | E21: =E20-$J$20 -> #DIV/0! | F21: =F20-$J$20 -> #DIV/0! | G21: =G20-$J$20 -> #DIV/0! | H21: =H20-$J$20 -> #DIV/0! | I21: =I20-$J$20 -> #DIV/0!
B22: Relative Risk Ratio compared to white students | C22: =(C16/C4)/($I$16/$I$4) -> #DIV/0! | D22: =(D16/D4)/($I$16/$I$4) -> #DIV/0! | E22: =(E16/E4)/($I$16/$I$4) -> #DIV/0! | F22: =(F16/F4)/($I$16/$I$4) -> #DIV/0! | G22: =(G16/G4)/($I$16/$I$4) -> #DIV/0! | H22: =(H16/H4)/($I$16/$I$4) -> #DIV/0! | J22: =AVERAGE(C22:H22) -> #DIV/0!
B23: Deviation from white students (1) | C23: =C22-$I$20 -> #DIV/0! | D23: =D22-$I$20 -> #DIV/0! | E23: =E22-$I$20 -> #DIV/0! | F23: =F22-$I$20 -> #DIV/0! | G23: =G22-$I$20 -> #DIV/0! | H23: =H22-$I$20 -> #DIV/0!

Sheet Q4 SUSPENSION AND EXPULSION
A1: Instructions: This sheet will auto populate as you fill in information on the 'Discipline Data Input' sheet. Note that some cells will say #DIV/0. If this happens, it means there is not a value in place to divide by, for example we cannot compare the risk ratio to white students if no white students have been suspended or expelled. Definitions: Risk Index - percentage of a group that receives a suspension or expulsion. Risk Ratio - represents the likelihood of a suspension or expulsion for one group in relation to a comparison group. Risk index of target group / risk index of comparison group = risk ratio. Notes: Risk Ratio - boxes highlighted in RED indicate a student group that has an above average chance of a suspension or expulsion (compared to all students or compared to white students). Risk Ratio Comparison Graphs - Negative values indicate student population has a lower chance of a suspension or expulsion than comparison group (either all students or white students). Positive values indicate student population has a higher chance of a suspension or expulsion than comparison group. | B1: Q4 Suspension and Expulsion: Disproportionate Discipline Tracking - Race | L1: Q4 Suspension and Expulsion: Disproportionate Data Tracking - By Sub-population
B2: Total School Enrollment in Quarter 4 | C2: ='INPUT HERE'!$E$85 -> 0 | D2: Total Suspension Rate | F2: =J7/J4 -> #DIV/0! | G2: Total Expulsion Rate | I2: =J16/J4 -> #DIV/0!
B3: Student Race | C3: American Indian/ Alaskan Native | D3: Asian | E3: Black | F3: Hispanic/ Latino | G3: Two or More Races | H3: Pacific Islander | I3: White | J3: TOTAL AVERAGE | L3: Student Sub-population | M3: EL | N3: Female | O3: Foster | P3: FRL | Q3: Gender Non-Conforming/ Trans/NB | R3: Homeless | S3: IEP | T3: Male | U3: MIG | V3: Military | W3: TOTAL AVERAGE
B4: Student Enrollment by Race | C4: ='INPUT HERE'!$E$89 | D4: ='INPUT HERE'!$E$90 | E4: ='INPUT HERE'!$E$91 | F4: ='INPUT HERE'!$E$92 | G4: ='INPUT HERE'!$E$93 | H4: ='INPUT HERE'!$E$94 | I4: ='INPUT HERE'!$E$95 | J4: =SUM(C4:I4) -> 0 | L4: Student Enrollment by sub-population | M4: ='INPUT HERE'!$E$96 | N4: ='INPUT HERE'!$E$87 | O4: ='INPUT HERE'!$E$97 | P4: ='INPUT HERE'!$E$98 | Q4: ='INPUT HERE'!$E$88 | R4: ='INPUT HERE'!$E$99 | S4: ='INPUT HERE'!$E$100 | T4: ='INPUT HERE'!$E$86 | U4: ='INPUT HERE'!$E$101 | V4: ='INPUT HERE'!$E$102 | W4: =SUM(M4:V4) -> 0
B5: Suspension + Expulsion by Race (# of students) | C5: =C7+C16 -> 0 | D5: =D7+D16 -> 0 | E5: =E7+E16 -> 0 | F5: =F7+F16 -> 0 | G5: =G7+G16 -> 0 | H5: =H7+H16 -> 0 | I5: =I7+I16 -> 0 | J5: =SUM(C5:I5) -> 0 | L5: Suspension + Expulsion by sub-population (# of students) | M5: =M7+M14 -> 0 | N5: =IF(N7+N15=0, 0.1, N7+N15) -> 0.1 | O5: =O7+O14 -> 0 | P5: =P7+P14 -> 0 | Q5: =Q7+Q14 -> 0 | R5: =R7+R14 -> 0 | S5: =S7+S14 -> 0 | T5: =T7+T14 -> 0 | U5: =U7+U14 -> 0 | V5: =V7+V14 -> 0 | W5: =SUM(M5:V5) -> 0.1
B6: Suspensions | L6: Suspensions | W6: AVERAGE
B7: Suspension by Race (# of students) | C7: ='INPUT HERE'!$BK$89 | D7: ='INPUT HERE'!$BK$90 | E7: ='INPUT HERE'!$BK$91 | F7: ='INPUT HERE'!$BK$92 | G7: ='INPUT HERE'!$BK$93 | H7: ='INPUT HERE'!$BK$94 | I7: ='INPUT HERE'!$BK$95 | J7: =SUM(C7:I7) -> 0 | L7: Suspension by sub-population (# of students) | M7: ='INPUT HERE'!$BK$96 | N7: ='INPUT HERE'!$BK$87 | O7: ='INPUT HERE'!$BK$97 | P7: ='INPUT HERE'!$BK$98 | Q7: ='INPUT HERE'!$BK$88 | R7: ='INPUT HERE'!$BK$99 | S7: ='INPUT HERE'!$BK$100 | T7: ='INPUT HERE'!$BK$86 | U7: ='INPUT HERE'!$BK$101 | V7: ='INPUT HERE'!$BK$102 | W7: =SUM(M7:V7) -> 0
B8: Percentage of enrolled students with suspension by race | C8: =IF(C7,C7/C4,0) -> 0 | D8: =IF(D7,D7/D4,0) -> 0 | E8: =IF(E7,E7/E4,0) -> 0 | F8: =IF(F7,F7/F4,0) -> 0 | G8: =IF(G7,G7/G4,0) -> 0 | H8: =IF(H7,H7/H4,0) -> 0 | I8: =IF(I7,I7/I4,0) -> 0 | J8: =AVERAGE(C8:I8) -> 0 | L8: Percentage of enrolled students with suspension by sub-population | M8: =IF(M7,M7/M4,0) -> 0 | N8: =IF(N7,N7/N4,0) -> 0 | O8: =IF(O7,O7/O4,0) -> 0 | P8: =IF(P7,P7/P4,0) -> 0 | Q8: =IF(Q7,Q7/Q4,0) -> 0 | R8: =IF(R7,R7/R4,0) -> 0 | S8: =IF(S7,S7/S4,0) -> 0 | T8: =IF(T7,T7/T4,0) -> 0 | ... V8: =IF(V7,V7/V4,0) -> 0 | W8: =AVERAGE(M8:V8) -> 0
B9: Risk Index for Suspension | C9: =IF(C7,C7/C4,0) -> 0 | D9: =IF(D7,D7/D4,0) -> 0 | E9: =IF(E7,E7/E4,0) -> 0 | F9: =IF(F7,F7/F4,0) -> 0 | G9: =IF(G7,G7/G4,0) -> 0 | H9: =IF(H7,H7/H4,0) -> 0 | I9: =IF(I7,I7/I4,0) -> 0 | J9: =AVERAGE(C9:I9) -> 0 | L9: Risk Index for Suspension | M9: =IF(M7,M7/M4,0) -> 0 | N9: =IF(N7,N7/N4,0) -> 0 | O9: =IF(O7,O7/O4,0) -> 0 | P9: =IF(P7,P7/P4,0) -> 0 | Q9: =IF(Q7,Q7/Q4,0) -> 0 | R9: =IF(R7,R7/R4,0) -> 0 | S9: =IF(S7,S7/S4,0) -> 0 | T9: =IF(T7,T7/T4,0) -> 0 | ... V9: =IF(V7,V7/V4,0) -> 0 | W9: =AVERAGE(M9:V9) -> 0
B11: Relative Risk Ratio compared to all other students | C11: =(C7/C4)/(($J$7-C7)/($J$4-C4)) -> #DIV/0! | D11: =(D7/D4)/(($J$7-D7)/($J$4-D4)) -> #DIV/0! | E11: =(E7/E4)/(($J$7-E7)/($J$4-E4)) -> #DIV/0! | F11: =(F7/F4)/(($J$7-F7)/($J$4-F4)) -> #DIV/0! | G11: =(G7/G4)/(($J$7-G7)/($J$4-G4)) -> #DIV/0! | H11: =(H7/H4)/(($J$7-H7)/($J$4-H4)) -> #DIV/0! | I11: =(I7/I4)/(($J$7-I7)/($J$4-I4)) -> #DIV/0! | J11: =AVERAGE(C11:I11) -> #DIV/0! | L11: Risk Ratio compared to all student | M11: =(M7/M4)/(($J$7-M7)/($J$4-M4)) -> #DIV/0! | N11: =(N7/N4)/(($J$7-N7)/($J$4-N4)) -> #DIV/0! | O11: =(O7/O4)/(($J$7-O7)/($J$4-O4)) -> #DIV/0! | P11: =(P7/P4)/(($J$7-P7)/($J$4-P4)) -> #DIV/0! | Q11: =(Q7/Q4)/(($J$7-Q7)/($J$4-Q4)) -> #DIV/0! | R11: =(R7/R4)/(($J$7-R7)/($J$4-R4)) -> #DIV/0! | S11: =(S7/S4)/(($J$7-S7)/($J$4-S4)) -> #DIV/0! | T11: =(T7/T4)/(($J$7-T7)/($J$4-T4)) -> #DIV/0! | ... V11: =(V7/V4)/(($J$7-V7)/($J$4-V4)) -> #DIV/0! | W11: =AVERAGE(M11:V11) -> #DIV/0!
B12: Deviation from average (1) | C12: =C11-$J$11 -> #DIV/0! | D12: =D11-$J$11 -> #DIV/0! | E12: =E11-$J$11 -> #DIV/0! | F12: =F11-$J$11 -> #DIV/0! | G12: =G11-$J$11 -> #DIV/0! | H12: =H11-$J$11 -> #DIV/0! | I12: =I11-$J$11 -> #DIV/0! | L12: Relative Risk Ratio compared to all other students | M12: =M11-$J$11 -> #DIV/0! | N12: =N11-$J$11 -> #DIV/0! | O12: =O11-$J$11 -> #DIV/0! | P12: =P11-$J$11 -> #DIV/0! | Q12: =Q11-$J$11 -> #DIV/0! | R12: =R11-$J$11 -> #DIV/0! | S12: =S11-$J$11 -> #DIV/0! | T12: =T11-$J$11 -> #DIV/0! | ... V12: =V11-$J$11 -> #DIV/0!
B13: Relative Risk Ratio compared to white students | C13: =(C7/C4)/($I$7/$I$4) -> #DIV/0! | D13: =(D7/D4)/($I$7/$I$4) -> #DIV/0! | E13: =(E7/E4)/($I$7/$I$4) -> #DIV/0! | F13: =(F7/F4)/($I$7/$I$4) -> #DIV/0! | G13: =(G7/G4)/($I$7/$I$4) -> #DIV/0! | H13: =(H7/H4)/($I$7/$I$4) -> #DIV/0! | J13: =AVERAGE(C13:I13) -> #DIV/0! | L13: Expulsions
B14: Deviation from white students (1) | C14: =C13-$I$11 -> #DIV/0! | D14: =D13-$I$11 -> #DIV/0! | E14: =E13-$I$11 -> #DIV/0! | F14: =F13-$I$11 -> #DIV/0! | G14: =G13-$I$11 -> #DIV/0! | H14: =H13-$I$11 -> #DIV/0! | L14: Expulsion by sub-population(# of students) | M14: ='INPUT HERE'!$BL$96 | N14: ='INPUT HERE'!$BL$87 | O14: ='INPUT HERE'!$BL$97 | P14: ='INPUT HERE'!$BL$98 | Q14: ='INPUT HERE'!$BL$88 | R14: ='INPUT HERE'!$BL$99 | S14: ='INPUT HERE'!$BL$100 | T14: ='INPUT HERE'!$BL$86 | U14: ='INPUT HERE'!$BL$101 | V14: ='INPUT HERE'!$BL$102 | W14: =SUM(M14:V14) -> 0
B15: Expulsions | L15: Percentage of enrolled students with suspension by sub-population | M15: =IF(M14,M14/M4,0) -> 0 | N15: =IF(N14,N14/N4,0) -> 0 | O15: =IF(O14,O14/O4,0) -> 0 | P15: =IF(P14,P14/P4,0) -> 0 | Q15: =IF(Q14,Q14/Q4,0) -> 0 | R15: =IF(R14,R14/R4,0) -> 0 | S15: =IF(S14,S14/S4,0) -> 0 | T15: =IF(T14,T14/T4,0) -> 0 | ... V15: =IF(V14,V14/V4,0) -> 0 | W15: =AVERAGE(M15:V15) -> 0
B16: Expulsion by Race (# of students) | C16: ='INPUT HERE'!$BL$89 | D16: ='INPUT HERE'!$BL$90 | E16: ='INPUT HERE'!$BL$91 | F16: ='INPUT HERE'!$BL$92 | G16: ='INPUT HERE'!$BL$93 | H16: ='INPUT HERE'!$BL$94 | I16: ='INPUT HERE'!$BL$95 | J16: =SUM(C16:I16) -> 0 | L16: Risk Index for Expulsion | M16: =IF(M14,M14/M4,0) -> 0 | N16: =IF(N14,N14/N4,0) -> 0 | O16: =IF(O14,O14/O4,0) -> 0 | P16: =IF(P14,P14/P4,0) -> 0 | Q16: =IF(Q14,Q14/Q4,0) -> 0 | R16: =IF(R14,R14/R4,0) -> 0 | S16: =IF(S14,S14/S4,0) -> 0 | T16: =IF(T14,T14/T4,0) -> 0 | ... V16: =IF(V14,V14/V4,0) -> 0 | W16: =AVERAGE(M16:V16) -> 0
B17: Percentage of enrolled students with expulsion by race | C17: =IF(C16,C16/C4,0) -> 0 | D17: =IF(D16,D16/D4,0) -> 0 | E17: =IF(E16,E16/E4,0) -> 0 | F17: =IF(F16,F16/F4,0) -> 0 | G17: =IF(G16,G16/G4,0) -> 0 | H17: =IF(H16,H16/H4,0) -> 0 | I17: =IF(I16,I16/I4,0) -> 0 | J17: =AVERAGE(C17:I17) -> 0
B18: Risk Index for Expulsion | C18: =IF(C16,C16/C4,0) -> 0 | D18: =IF(D16,D16/D4,0) -> 0 | E18: =IF(E16,E16/E4,0) -> 0 | F18: =IF(F16,F16/F4,0) -> 0 | G18: =IF(G16,G16/G4,0) -> 0 | H18: =IF(H16,H16/H4,0) -> 0 | I18: =IF(I16,I16/I4,0) -> 0 | J18: =AVERAGE(C18:I18) -> 0 | L18: Relative Risk Ratio compared to all other students | M18: =(M14/M4)/(($J$16-M14)/($J$4-M4)) -> #DIV/0! | N18: =(N14/N4)/(($J$16-N14)/($J$4-N4)) -> #DIV/0! | O18: =(O14/O4)/(($J$16-O14)/($J$4-O4)) -> #DIV/0! | P18: =(P14/P4)/(($J$16-P14)/($J$4-P4)) -> #DIV/0! | Q18: =(Q14/Q4)/(($J$16-Q14)/($J$4-Q4)) -> #DIV/0! | R18: =(R14/R4)/(($J$16-R14)/($J$4-R4)) -> #DIV/0! | S18: =(S14/S4)/(($J$16-S14)/($J$4-S4)) -> #DIV/0! | T18: =(T14/T4)/(($J$16-T14)/($J$4-T4)) -> #DIV/0! | ... V18: =(V14/V4)/(($J$16-V14)/($J$4-V4)) -> #DIV/0! | W18: =AVERAGE(M18:V18) -> #DIV/0!
L19: Deviation from average (1) | M19: =M18-$J$20 -> #DIV/0! | N19: =N18-$J$20 -> #DIV/0! | O19: =O18-$J$20 -> #DIV/0! | P19: =P18-$J$20 -> #DIV/0! | Q19: =Q18-$J$20 -> #DIV/0! | R19: =R18-$J$20 -> #DIV/0! | S19: =S18-$J$20 -> #DIV/0! | T19: =T18-$J$20 -> #DIV/0! | ... V19: =V18-$J$20 -> #DIV/0!
B20: Relative Risk Ratio compared to all other students | C20: =(C16/C4)/(($J$16-C16)/($J$4-C4)) -> #DIV/0! | D20: =(D16/D4)/(($J$16-D16)/($J$4-D4)) -> #DIV/0! | E20: =(E16/E4)/(($J$16-E16)/($J$4-E4)) -> #DIV/0! | F20: =(F16/F4)/(($J$16-F16)/($J$4-F4)) -> #DIV/0! | G20: =(G16/G4)/(($J$16-G16)/($J$4-G4)) -> #DIV/0! | H20: =(H16/H4)/(($J$16-H16)/($J$4-H4)) -> #DIV/0! | I20: =(I16/I4)/(($J$16-I16)/($J$4-I4)) -> #DIV/0! | J20: =AVERAGE(C20:I20) -> #DIV/0!
B21: Deviation from average (1) | C21: =C20-$J$20 -> #DIV/0! | D21: =D20-$J$20 -> #DIV/0! | E21: =E20-$J$20 -> #DIV/0! | F21: =F20-$J$20 -> #DIV/0! | G21: =G20-$J$20 -> #DIV/0! | H21: =H20-$J$20 -> #DIV/0! | I21: =I20-$J$20 -> #DIV/0!
B22: Relative Risk Ratio compared to white students | C22: =(C16/C4)/($I$16/$I$4) -> #DIV/0! | D22: =(D16/D4)/($I$16/$I$4) -> #DIV/0! | E22: =(E16/E4)/($I$16/$I$4) -> #DIV/0! | F22: =(F16/F4)/($I$16/$I$4) -> #DIV/0! | G22: =(G16/G4)/($I$16/$I$4) -> #DIV/0! | H22: =(H16/H4)/($I$16/$I$4) -> #DIV/0! | J22: =AVERAGE(C22:H22) -> #DIV/0!
B23: Deviation from white students (1) | C23: =C22-$I$20 -> #DIV/0! | D23: =D22-$I$20 -> #DIV/0! | E23: =E22-$I$20 -> #DIV/0! | F23: =F22-$I$20 -> #DIV/0! | G23: =G22-$I$20 -> #DIV/0! | H23: =H22-$I$20 -> #DIV/0!

Sheet ANNUAL SUSPENSION & EXPULSION 
A1: Instructions: This sheet will auto populate as you fill in information on the 'Discipline Data Input' sheet. Note that some cells will say #DIV/0. If this happens, it means there is not a value in place to divide by, for example we cannot compare the risk ratio to white students if no white students have been suspended or expelled. Definitions: Risk Index - percentage of a group that receives a suspension or expulsion. Risk Ratio - represents the likelihood of a suspension or expulsion for one group in relation to a comparison group. Risk index of target group / risk index of comparison group = risk ratio. Notes: Risk Ratio - boxes highlighted in RED indicate a student group that has an above average chance of a suspension or expulsion (compared to all students or compared to white students). Risk Ratio Comparison Graphs - Negative values indicate student population has a lower chance of a suspension or expulsion than comparison group (either all students or white students). Positive values indicate student population has a higher chance of a suspension or expulsion than comparison group. | B1: Annual Suspension and Expulsion: Disproportionate Discipline Tracking - Race | L1: Annual Suspension and Expulsion: Disproportionate Data Tracking - By Sub-population
B2: Total Annual School Enrollment | C2: ='INPUT HERE'!$E$110 | D2: Total Suspension Rate | F2: =J7/J4 -> #DIV/0! | G2: Total Expulsion Rate | I2: =J16/J4 -> #DIV/0!
B3: Student Race | C3: American Indian/ Alaskan Native | D3: Asian | E3: Black | F3: Hispanic/ Latino | G3: Two or More Races | H3: Pacific Islander | I3: White | J3: TOTAL AVERAGE | L3: Student Sub-population | M3: EL | N3: Female | O3: Foster | P3: FRL | Q3: Gender Non-Conforming/ Trans/NB | R3: Homeless | S3: IEP | T3: Male | U3: MIG | V3: Military | W3: TOTAL AVERAGE
B4: Student Enrollment by Race | C4: ='INPUT HERE'!$E$114 | D4: ='INPUT HERE'!$E$115 | E4: ='INPUT HERE'!$E$116 | F4: ='INPUT HERE'!$E$117 | G4: ='INPUT HERE'!$E$118 | H4: ='INPUT HERE'!$E$119 | I4: ='INPUT HERE'!$E$120 | J4: =SUM(C4:I4) -> 0 | L4: Student Enrollment by sub-population | M4: ='INPUT HERE'!$E$121 | N4: ='INPUT HERE'!$E$112 | O4: ='INPUT HERE'!$E$122 | P4: ='INPUT HERE'!$E$123 | Q4: ='INPUT HERE'!$E$113 | R4: ='INPUT HERE'!$E$124 | S4: ='INPUT HERE'!$E$125 | T4: ='INPUT HERE'!$E$111 | U4: ='INPUT HERE'!$E$126 | V4: ='INPUT HERE'!$E$127 | W4: =SUM(M4:V4) -> 0
B5: Suspension + Expulsion by Race (# of students) | C5: =C7+C16 -> 0 | D5: =D7+D16 -> 0 | E5: =E7+E16 -> 0 | F5: =F7+F16 -> 0 | G5: =G7+G16 -> 0 | H5: =H7+H16 -> 0 | I5: =I7+I16 -> 0 | J5: =SUM(C5:I5) -> 0 | L5: Suspension + Expulsion by sub-population (# of students) | M5: =M7+M14 -> 0 | N5: =N7+N14 -> 0 | O5: =O7+O14 -> 0 | P5: =P7+P14 -> 0 | Q5: =Q7+Q14 -> 0 | R5: =R7+R14 -> 0 | S5: =S7+S14 -> 0 | T5: =T7+T14 -> 0 | ... V5: =V7+V14 -> 0 | W5: =SUM(M5:V5) -> 0
B6: Suspensions | L6: Suspensions | W6: AVERAGE
B7: Suspension by Race (# of students) | C7: ='INPUT HERE'!$BK$114 | D7: ='INPUT HERE'!$BK$115 | E7: ='INPUT HERE'!$BK$116 | F7: ='INPUT HERE'!$BK$117 | G7: ='INPUT HERE'!$BK$118 | H7: ='INPUT HERE'!$BK$119 | I7: ='INPUT HERE'!$BK$120 | J7: =SUM(C7:I7) -> 0 | L7: Suspension by sub-population (# of students) | M7: ='INPUT HERE'!$BK$121 | N7: ='INPUT HERE'!$BK$112 | O7: ='INPUT HERE'!$BK$122 | P7: ='INPUT HERE'!$BK$123 | Q7: ='INPUT HERE'!$BK$113 | R7: ='INPUT HERE'!$BK$124 | S7: ='INPUT HERE'!$BK$125 | T7: ='INPUT HERE'!$BK$111 | U7: ='INPUT HERE'!$BK$126 | V7: ='INPUT HERE'!$BK$127 | W7: =SUM(M7:V7) -> 0
B8: Percentage of enrolled students with suspension by race | C8: =IF(C7,C7/C4,0) -> 0 | D8: =IF(D7,D7/D4,0) -> 0 | E8: =IF(E7,E7/E4,0) -> 0 | F8: =IF(F7,F7/F4,0) -> 0 | G8: =IF(G7,G7/G4,0) -> 0 | H8: =IF(H7,H7/H4,0) -> 0 | I8: =IF(I7,I7/I4,0) -> 0 | J8: =AVERAGE(C8:I8) -> 0 | L8: Percentage of enrolled students with suspension by sub-population | M8: =IF(M7,M7/M4,0) -> 0 | N8: =IF(N7,N7/N4,0) -> 0 | O8: =IF(O7,O7/O4,0) -> 0 | P8: =IF(P7,P7/P4,0) -> 0 | Q8: =IF(Q7,Q7/Q4,0) -> 0 | R8: =IF(R7,R7/R4,0) -> 0 | S8: =IF(S7,S7/S4,0) -> 0 | T8: =IF(T7,T7/T4,0) -> 0 | ... V8: =IF(V7,V7/V4,0) -> 0 | W8: =AVERAGE(M8:V8) -> 0
B9: Risk Index for Suspension | C9: =IF(C7,C7/C4,0) -> 0 | D9: =IF(D7,D7/D4,0) -> 0 | E9: =IF(E7,E7/E4,0) -> 0 | F9: =IF(F7,F7/F4,0) -> 0 | G9: =IF(G7,G7/G4,0) -> 0 | H9: =IF(H7,H7/H4,0) -> 0 | I9: =IF(I7,I7/I4,0) -> 0 | J9: =AVERAGE(C9:I9) -> 0 | L9: Risk Index for Suspension | M9: =IF(M7,M7/M4,0) -> 0 | N9: =IF(N7,N7/N4,0) -> 0 | O9: =IF(O7,O7/O4,0) -> 0 | P9: =IF(P7,P7/P4,0) -> 0 | Q9: =IF(Q7,Q7/Q4,0) -> 0 | R9: =IF(R7,R7/R4,0) -> 0 | S9: =IF(S7,S7/S4,0) -> 0 | T9: =IF(T7,T7/T4,0) -> 0 | ... V9: =IF(V7,V7/V4,0) -> 0 | W9: =AVERAGE(M9:V9) -> 0
B11: Relative Risk Ratio compared to all other students | C11: =(C7/C4)/(($J$7-C7)/($J$4-C4)) -> #DIV/0! | D11: =(D7/D4)/(($J$7-D7)/($J$4-D4)) -> #DIV/0! | E11: =(E7/E4)/(($J$7-E7)/($J$4-E4)) -> #DIV/0! | F11: =(F7/F4)/(($J$7-F7)/($J$4-F4)) -> #DIV/0! | G11: =(G7/G4)/(($J$7-G7)/($J$4-G4)) -> #DIV/0! | H11: =(H7/H4)/(($J$7-H7)/($J$4-H4)) -> #DIV/0! | I11: =(I7/I4)/(($J$7-I7)/($J$4-I4)) -> #DIV/0! | J11: =AVERAGE(C11:I11) -> #DIV/0! | L11: Relative Risk Ratio compared to all other students | M11: =(M7/M4)/(($J$7-M7)/($J$4-M4)) -> #DIV/0! | N11: =(N7/N4)/(($J$7-N7)/($J$4-N4)) -> #DIV/0! | O11: =(O7/O4)/(($J$7-O7)/($J$4-O4)) -> #DIV/0! | P11: =(P7/P4)/(($J$7-P7)/($J$4-P4)) -> #DIV/0! | Q11: =(Q7/Q4)/(($J$7-Q7)/($J$4-Q4)) -> #DIV/0! | R11: =(R7/R4)/(($J$7-R7)/($J$4-R4)) -> #DIV/0! | S11: =(S7/S4)/(($J$7-S7)/($J$4-S4)) -> #DIV/0! | T11: =(T7/T4)/(($J$7-T7)/($J$4-T4)) -> #DIV/0! | ... V11: =(V7/V4)/(($J$7-V7)/($J$4-V4)) -> #DIV/0! | W11: =AVERAGE(M11:V11) -> #DIV/0!
B12: Deviation from average (1) | C12: =C11-$J$11 -> #DIV/0! | D12: =D11-$J$11 -> #DIV/0! | E12: =E11-$J$11 -> #DIV/0! | F12: =F11-$J$11 -> #DIV/0! | G12: =G11-$J$11 -> #DIV/0! | H12: =H11-$J$11 -> #DIV/0! | I12: =I11-$J$11 -> #DIV/0! | L12: Deviation from average (1) | M12: =M11-$J$11 -> #DIV/0! | N12: =N11-$J$11 -> #DIV/0! | O12: =O11-$J$11 -> #DIV/0! | P12: =P11-$J$11 -> #DIV/0! | Q12: =Q11-$J$11 -> #DIV/0! | R12: =R11-$J$11 -> #DIV/0! | S12: =S11-$J$11 -> #DIV/0! | T12: =T11-$J$11 -> #DIV/0! | ... V12: =V11-$J$11 -> #DIV/0!
B13: Relative Risk Ratio compared to white students | C13: =(C7/C4)/($I$7/$I$4) -> #DIV/0! | D13: =(D7/D4)/($I$7/$I$4) -> #DIV/0! | E13: =(E7/E4)/($I$7/$I$4) -> #DIV/0! | F13: =(F7/F4)/($I$7/$I$4) -> #DIV/0! | G13: =(G7/G4)/($I$7/$I$4) -> #DIV/0! | H13: =(H7/H4)/($I$7/$I$4) -> #DIV/0! | J13: =AVERAGE(C13:I13) -> #DIV/0! | L13: Expulsions
B14: Deviation from white students (1) | C14: =C13-$I$11 -> #DIV/0! | D14: =D13-$I$11 -> #DIV/0! | E14: =E13-$I$11 -> #DIV/0! | F14: =F13-$I$11 -> #DIV/0! | G14: =G13-$I$11 -> #DIV/0! | H14: =H13-$I$11 -> #DIV/0! | L14: Expulsion by sub-population(# of students) | M14: ='INPUT HERE'!$BL$121 | N14: ='INPUT HERE'!$BL$112 | O14: ='INPUT HERE'!$BL$122 | P14: ='INPUT HERE'!$BL$123 | Q14: ='INPUT HERE'!$BL$113 | R14: ='INPUT HERE'!$BL$124 | S14: ='INPUT HERE'!$BL$125 | T14: ='INPUT HERE'!$BL$111 | U14: ='INPUT HERE'!$BL$126 | V14: ='INPUT HERE'!$BL$127 | W14: =SUM(M14:V14) -> 0
B15: Expulsions | L15: Percentage of enrolled students with suspension by sub-population | M15: =IF(M14,M14/M4,0) -> 0 | N15: =IF(N14,N14/N4,0) -> 0 | O15: =IF(O14,O14/O4,0) -> 0 | P15: =IF(P14,P14/P4,0) -> 0 | Q15: =IF(Q14,Q14/Q4,0) -> 0 | R15: =IF(R14,R14/R4,0) -> 0 | S15: =IF(S14,S14/S4,0) -> 0 | T15: =IF(T14,T14/T4,0) -> 0 | ... V15: =IF(V14,V14/V4,0) -> 0 | W15: =AVERAGE(M15:V15) -> 0
B16: Expulsion by Race (# of students) | C16: ='INPUT HERE'!$BL$114 | D16: ='INPUT HERE'!$BL$115 | E16: ='INPUT HERE'!$BL$116 | F16: ='INPUT HERE'!$BL$117 | G16: ='INPUT HERE'!$BL$118 | H16: ='INPUT HERE'!$BL$119 | I16: ='INPUT HERE'!$BL$120 | J16: =SUM(C16:I16) -> 0 | L16: Risk Index for Expulsion | M16: =IF(M14,M14/M4,0) -> 0 | N16: =IF(N14,N14/N4,0) -> 0 | O16: =IF(O14,O14/O4,0) -> 0 | P16: =IF(P14,P14/P4,0) -> 0 | Q16: =IF(Q14,Q14/Q4,0) -> 0 | R16: =IF(R14,R14/R4,0) -> 0 | S16: =IF(S14,S14/S4,0) -> 0 | T16: =IF(T14,T14/T4,0) -> 0 | ... V16: =IF(V14,V14/V4,0) -> 0 | W16: =AVERAGE(M16:V16) -> 0
B17: Percentage of enrolled students with expulsion by race | C17: =IF(C16,C16/C4,0) -> 0 | D17: =IF(D16,D16/D4,0) -> 0 | E17: =IF(E16,E16/E4,0) -> 0 | F17: =IF(F16,F16/F4,0) -> 0 | G17: =IF(G16,G16/G4,0) -> 0 | H17: =IF(H16,H16/H4,0) -> 0 | I17: =IF(I16,I16/I4,0) -> 0 | J17: =AVERAGE(C17:I17) -> 0
B18: Risk Index for Expulsion | C18: =IF(C16,C16/C4,0) -> 0 | D18: =IF(D16,D16/D4,0) -> 0 | E18: =IF(E16,E16/E4,0) -> 0 | F18: =IF(F16,F16/F4,0) -> 0 | G18: =IF(G16,G16/G4,0) -> 0 | H18: =IF(H16,H16/H4,0) -> 0 | I18: =IF(I16,I16/I4,0) -> 0 | J18: =AVERAGE(C18:I18) -> 0 | L18: Relative Risk Ratio compared to all other students | M18: =(M14/M4)/(($J$16-M14)/($J$4-M4)) -> #DIV/0! | N18: =(N14/N4)/(($J$16-N14)/($J$4-N4)) -> #DIV/0! | O18: =(O14/O4)/(($J$16-O14)/($J$4-O4)) -> #DIV/0! | P18: =(P14/P4)/(($J$16-P14)/($J$4-P4)) -> #DIV/0! | Q18: =(Q14/Q4)/(($J$16-Q14)/($J$4-Q4)) -> #DIV/0! | R18: =(R14/R4)/(($J$16-R14)/($J$4-R4)) -> #DIV/0! | S18: =(S14/S4)/(($J$16-S14)/($J$4-S4)) -> #DIV/0! | T18: =(T14/T4)/(($J$16-T14)/($J$4-T4)) -> #DIV/0! | ... V18: =(V14/V4)/(($J$16-V14)/($J$4-V4)) -> #DIV/0! | W18: =AVERAGE(M18:V18) -> #DIV/0!
L19: Deviation from average (1) | M19: =M18-$J$20 -> #DIV/0! | N19: =N18-$J$20 -> #DIV/0! | O19: =O18-$J$20 -> #DIV/0! | P19: =P18-$J$20 -> #DIV/0! | Q19: =Q18-$J$20 -> #DIV/0! | R19: =R18-$J$20 -> #DIV/0! | S19: =S18-$J$20 -> #DIV/0! | T19: =T18-$J$20 -> #DIV/0! | ... V19: =V18-$J$20 -> #DIV/0!
B20: Relative Risk Ratio compared to all other students | C20: =(C16/C4)/(($J$16-C16)/($J$4-C4)) -> #DIV/0! | D20: =(D16/D4)/(($J$16-D16)/($J$4-D4)) -> #DIV/0! | E20: =(E16/E4)/(($J$16-E16)/($J$4-E4)) -> #DIV/0! | F20: =(F16/F4)/(($J$16-F16)/($J$4-F4)) -> #DIV/0! | G20: =(G16/G4)/(($J$16-G16)/($J$4-G4)) -> #DIV/0! | H20: =(H16/H4)/(($J$16-H16)/($J$4-H4)) -> #DIV/0! | I20: =(I16/I4)/(($J$16-I16)/($J$4-I4)) -> #DIV/0! | J20: =AVERAGE(C20:I20) -> #DIV/0!
B21: Deviation from average (1) | C21: =C20-$J$20 -> #DIV/0! | D21: =D20-$J$20 -> #DIV/0! | E21: =E20-$J$20 -> #DIV/0! | F21: =F20-$J$20 -> #DIV/0! | G21: =G20-$J$20 -> #DIV/0! | H21: =H20-$J$20 -> #DIV/0! | I21: =I20-$J$20 -> #DIV/0!
B22: Relative Risk Ratio compared to white students | C22: =(C16/C4)/($I$16/$I$4) -> #DIV/0! | D22: =(D16/D4)/($I$16/$I$4) -> #DIV/0! | E22: =(E16/E4)/($I$16/$I$4) -> #DIV/0! | F22: =(F16/F4)/($I$16/$I$4) -> #DIV/0! | G22: =(G16/G4)/($I$16/$I$4) -> #DIV/0! | H22: =(H16/H4)/($I$16/$I$4) -> #DIV/0! | J22: =AVERAGE(C22:H22) -> #DIV/0!
B23: Deviation from white students (1) | C23: =C22-$I$20 -> #DIV/0! | D23: =D22-$I$20 -> #DIV/0! | E23: =E22-$I$20 -> #DIV/0! | F23: =F22-$I$20 -> #DIV/0! | G23: =G22-$I$20 -> #DIV/0! | H23: =H22-$I$20 -> #DIV/0!

Sheet Vacancy
A1: Vacancy:
A3: Business Rules: • Licensed staff includes any employee who is required to hold a current license, including, but not limited to, school administrators, teachers, nurses, counselors, psychologists, and social workers. • Unlicensed staff includes, but is not limited to, school paraprofessionals, police officers, resource officers, providers of security services, secretaries, bus drivers, members of the custodial or maintenance staff, and workers in food services. • Vacant is defined as an unfilled position, including positions filled by short- and long-term substitutes and external contractors.
B12: District Name | C12: District Code | D12: School Name | E12: School Code | F12: Number of Vacant Licensed Staff Positions | G12: Number of Vacant Unlicensed Staff Positions
A13: Quarter 1 | B13: FuturEdge | C13: 75 | D13: FuturEdge ES | E13: 401 | F13: 0 | G13: 0
A14: Quarter 2
A15: Quarter 3
A16: Quarter 4

Sheet Average Class Size
A1: Average Class Size
A2: Business Rules: • For all grades K-12, calculate the average daily enrollment (ADE) of students by grade per full-time educator teaching within their licensure area and under a qualifying endorsement. • Qualifying licenses/endorsements include: o For grades K-2: Early Childhood o For grades 3-6 in Elementary schools: Elementary o For grades 5-8 in Middle and Junior High schools: English/language arts, mathematics, science, social science, world languages o For grades 7-12 in High schools: biological science, English, general science, mathematics, physical science, social studies, and the following single subject endorsements: • Anthropology, biology, botany, chemistry, composition and rhetoric, computer science, earth science, economics, English or American literature, environmental science, geography, geology, health education, history of the US and the world, journalism and communication, linguistics, physics, physiology, political science, psychology, reading, sociology, speech, zoology, and world (foreign) languages. • For all student counts, use the ADE of students for the reporting quarter. • For all educator counts, only full-time educators teaching in a classroom within their licensure area and endorsement may be counted. o For example, music teachers could not be attributed toward elementary school classrooms (see Nevada Revised Statute (NRS) 388.700), and a math teacher covering a chemistry or earth science class could not be attributed toward a middle or high school classroom, etc. • For all elementary schools, and grades 5-6 when included in an elementary school, the average class size is calculated directly as ADE divided by applicable educator. o For example, 114 second-grade students and 5 full-time early childhood education licensed teachers make an average class size of 23. • If the school had 4 educators with early childhood education licenses and 1 educator with an elementary education license, the calculation would be made as 114 divided by 4 for an average class size of 29. • For all middle and junior high schools, the average class size is calculated as ADE divided by applicable educator and multiplied by 5 (applicable areas of endorsement). o For example, 215 sixth-grade students and 31 educators (6 Language Arts, 7 math, 7 social science, 6 science, and 5 world language) multiplied by 5 makes an average class size of 35. • For all high schools, the average class size is calculated as ADE divided by applicable educator and multiplied by 6 (the minimum number of periods for full time enrollment). o For example, 348 ninth-grade students and 48 applicable educators (9 English, 8 math, 4 biological science, 5 general science, 10 social studies, 2 health education, 1 journalism, 5 world languages, 3 computer science, 1 psychology) multiplied by 6 makes an average class size of 44. *K-8 elementary licensed teachers who teach in grades K-2 can count as teaching within their licensure area.
A23: Quarter 1 | B23: District Code | C23: District | D23: School Code | E23: School | F23: Kindergarten | G23: First Grade | H23: Second Grade | I23: Third Grade | J23: Fourth Grade | K23: Fifth Grade | L23: Sixth Grade | M23: Seventh Grade | N23: Eighth Grade | O23: Ninth Grade | P23: Tenth Grade | Q23: Eleventh Grade | R23: Twelfth Grade
B24: 75 | C24: FuturEdge | D24: 401 | E24: FuturEdge ES | F24: =I28 -> 16.255 | G24: =L28 -> 15.295 | H24: =O28 -> 13.89 | I24: =R28 -> 20.3 | J24: =U28 -> 16.88 | K24: =IF(W28>0, X28, AA28) -> 14.325 | L24: =IF(AC28>0, AD28, AG28) | M24: =IF(AI28>0, AJ28, AM28) | N24: =IF(AO28>0, AP28, AS28) | O24: =AV28 | P24: =AY28 | Q24: =BB28 | R24: =BE28
G26: Kindergarten | J26: First Grade | M26: Second Grade | P26: Third Grade | S26: Fourth Grade | V26: Fifth Grade (Elementary School) | Y26: Fifth Grade (Middle Schools) | AB26: Sixth Grade (Elementary School) | AE26: Sixth Grade (Middle Schools) | AH26: Seventh Grade (Middle/Junior High Schools) | AK26: Seventh Grade (High School) | AN26: Eighth Grade (Middle/Junior High Schools) | AQ26: Eighth Grade (High School) | AT26: Ninth Grade | AW26: Tenth Grade | AZ26: Eleventh Grade | BC26: Twelfth Grade
G27: Total Educators | H27: ADE | I27: Average Class Size | J27: Total Educators | K27: ADE | L27: Average Class Size | M27: Total Educators | N27: ADE | O27: Average Class Size | P27: Total Educators | Q27: ADE | R27: Average Class Size | S27: Total Educators | T27: ADE | U27: Average Class Size | V27: Total Educators | W27: ADE | X27: Average Class Size | Y27: Total Educators | Z27: ADE | AA27: Average Class Size | AB27: Total Educators | AC27: ADE | AD27: Average Class Size | AE27: Total Educators | AF27: ADE | AG27: Average Class Size | AH27: Total Educators | AI27: ADE | AJ27: Average Class Size | AK27: Total Educators | AL27: ADE | AM27: Average Class Size | AN27: Total Educators | AO27: ADE | AP27: Average Class Size | AQ27: Total Educators | AR27: ADE | AS27: Average Class Size | AT27: Total Educators | AU27: ADE | AV27: Average Class Size | AW27: Total Educators | AX27: ADE | AY27: Average Class Size | AZ27: Total Educators | BA27: ADE | BB27: Average Class Size | BC27: Total Educators | BD27: ADE | BE27: Average Class Size
F28: Input Here --> | G28: 2 | H28: 32.51 | I28: =H28/G28 -> 16.255 | J28: 2 | K28: 30.59 | L28: =K28/J28 -> 15.295 | M28: 1 | N28: 13.89 | O28: =N28/M28 -> 13.89 | P28: 1 | Q28: 20.3 | R28: =Q28/P28 -> 20.3 | S28: 2 | T28: 33.76 | U28: =T28/S28 -> 16.88 | V28: 2 | W28: 28.65 | X28: =W28/V28 -> 14.325 | Y28: 0 | Z28: 0 | AA28: =(Z28/Y28)*5 -> #DIV/0!
A30: Quarter 2 | B30: District Code | C30: District | D30: School Code | E30: School | F30: Kindergarten | G30: First Grade | H30: Second Grade | I30: Third Grade | J30: Fourth Grade | K30: Fifth Grade | L30: Sixth Grade | M30: Seventh Grade | N30: Eighth Grade | O30: Ninth Grade | P30: Tenth Grade | Q30: Eleventh Grade | R30: Twelfth Grade
F31: =I35 -> #DIV/0! | G31: =L35 -> #DIV/0! | H31: =O35 -> #DIV/0! | I31: =R35 -> #DIV/0! | J31: =U35 -> #DIV/0! | K31: =IF(W35>0, X35, AA35) -> #DIV/0! | L31: =IF(AC35>0, AD35, AG35) -> #DIV/0! | M31: =IF(AI35>0, AJ35, AM35) -> #DIV/0! | N31: =IF(AO35>0, AP35, AS35) -> #DIV/0! | O31: =AV35 -> #DIV/0! | P31: =AY35 -> #DIV/0! | Q31: =BB35 -> #DIV/0! | R31: =BE35 -> #DIV/0!
G33: Kindergarten | J33: First Grade | M33: Second Grade | P33: Third Grade | S33: Fourth Grade | V33: Fifth Grade (Elementary School) | Y33: Fifth Grade (Middle Schools) | AB33: Sixth Grade (Elementary School) | AE33: Sixth Grade (Middle Schools) | AH33: Seventh Grade (Middle/Junior High Schools) | AK33: Seventh Grade (High School) | AN33: Eighth Grade (Middle/Junior High Schools) | AQ33: Eighth Grade (High School) | AT33: Ninth Grade | AW33: Tenth Grade | AZ33: Eleventh Grade | BC33: Twelfth Grade
G34: Total Educators | H34: ADE | I34: Average Class Size | J34: Total Educators | K34: ADE | L34: Average Class Size | M34: Total Educators | N34: ADE | O34: Average Class Size | P34: Total Educators | Q34: ADE | R34: Average Class Size | S34: Total Educators | T34: ADE | U34: Average Class Size | V34: Total Educators | W34: ADE | X34: Average Class Size | Y34: Total Educators | Z34: ADE | AA34: Average Class Size | AB34: Total Educators | AC34: ADE | AD34: Average Class Size | AE34: Total Educators | AF34: ADE | AG34: Average Class Size | AH34: Total Educators | AI34: ADE | AJ34: Average Class Size | AK34: Total Educators | AL34: ADE | AM34: Average Class Size | AN34: Total Educators | AO34: ADE | AP34: Average Class Size | AQ34: Total Educators | AR34: ADE | AS34: Average Class Size | AT34: Total Educators | AU34: ADE | AV34: Average Class Size | AW34: Total Educators | AX34: ADE | AY34: Average Class Size | AZ34: Total Educators | BA34: ADE | BB34: Average Class Size | BC34: Total Educators | BD34: ADE | BE34: Average Class Size
F35: Input Here --> | G35: 0 | H35: 0 | I35: =H35/G35 -> #DIV/0! | J35: 0 | K35: 0 | L35: =K35/J35 -> #DIV/0! | M35: 0 | N35: 0 | O35: =N35/M35 -> #DIV/0! | P35: 0 | Q35: 0 | R35: =Q35/P35 -> #DIV/0! | S35: 0 | T35: 0 | U35: =T35/S35 -> #DIV/0! | V35: 0 | W35: 0 | X35: =W35/V35 -> #DIV/0! | Y35: 0 | Z35: 0 | AA35: =(Z35/Y35)*5 -> #DIV/0! | AB35: 0 | AC35: 0 | AD35: =AC35/AB35 -> #DIV/0! | AE35: 0 | AF35: 0 | AG35: =(AF35/AE35)*5 -> #DIV/0! | AH35: 0 | AI35: 0 | AJ35: =(AI35/AH35)*5 -> #DIV/0! | AK35: 0 | AL35: 0 | AM35: =(AL35/AK35)*6 -> #DIV/0! | AN35: 0 | AO35: 0 | AP35: =(AO35/AN35)*5 -> #DIV/0! | AQ35: 0 | AR35: 0 | AS35: =(AR35/AQ35)*6 -> #DIV/0! | AT35: 0 | AU35: 0 | AV35: =(AU35/AT35)*6 -> #DIV/0! | AW35: 0 | AX35: 0 | AY35: =(AX35/AW35)*6 -> #DIV/0! | AZ35: 0 | BA35: 0 | BB35: =(BA35/AZ35)*6 -> #DIV/0! | BC35: 0 | BD35: 0 | BE35: =(BD35/BC35)*6 -> #DIV/0!
A37: Quarter 3 | B37: District Code | C37: District | D37: School Code | E37: School | F37: Kindergarten | G37: First Grade | H37: Second Grade | I37: Third Grade | J37: Fourth Grade | K37: Fifth Grade | L37: Sixth Grade | M37: Seventh Grade | N37: Eighth Grade | O37: Ninth Grade | P37: Tenth Grade | Q37: Eleventh Grade | R37: Twelfth Grade
F38: =I42 -> #DIV/0! | G38: =L42 -> #DIV/0! | H38: =O42 -> #DIV/0! | I38: =R42 -> #DIV/0! | J38: =U42 -> #DIV/0! | K38: =IF(W42>0, X42, AA42) -> #DIV/0! | L38: =IF(AC42>0, AD42, AG42) -> #DIV/0! | M38: =IF(AI42>0, AJ42, AM42) -> #DIV/0! | N38: =IF(AO42>0, AP42, AS42) -> #DIV/0! | O38: =AV42 -> #DIV/0! | P38: =AY42 -> #DIV/0! | Q38: =BB42 -> #DIV/0! | R38: =BE42 -> #DIV/0!
G40: Kindergarten | J40: First Grade | M40: Second Grade | P40: Third Grade | S40: Fourth Grade | V40: Fifth Grade (Elementary School) | Y40: Fifth Grade (Middle Schools) | AB40: Sixth Grade (Elementary School) | AE40: Sixth Grade (Middle Schools) | AH40: Seventh Grade (Middle/Junior High Schools) | AK40: Seventh Grade (High School) | AN40: Eighth Grade (Middle/Junior High Schools) | AQ40: Eighth Grade (High School) | AT40: Ninth Grade | AW40: Tenth Grade | AZ40: Eleventh Grade | BC40: Twelfth Grade
G41: Total Educators | H41: ADE | I41: Average Class Size | J41: Total Educators | K41: ADE | L41: Average Class Size | M41: Total Educators | N41: ADE | O41: Average Class Size | P41: Total Educators | Q41: ADE | R41: Average Class Size | S41: Total Educators | T41: ADE | U41: Average Class Size | V41: Total Educators | W41: ADE | X41: Average Class Size | Y41: Total Educators | Z41: ADE | AA41: Average Class Size | AB41: Total Educators | AC41: ADE | AD41: Average Class Size | AE41: Total Educators | AF41: ADE | AG41: Average Class Size | AH41: Total Educators | AI41: ADE | AJ41: Average Class Size | AK41: Total Educators | AL41: ADE | AM41: Average Class Size | AN41: Total Educators | AO41: ADE | AP41: Average Class Size | AQ41: Total Educators | AR41: ADE | AS41: Average Class Size | AT41: Total Educators | AU41: ADE | AV41: Average Class Size | AW41: Total Educators | AX41: ADE | AY41: Average Class Size | AZ41: Total Educators | BA41: ADE | BB41: Average Class Size | BC41: Total Educators | BD41: ADE | BE41: Average Class Size
F42: Input Here --> | G42: 0 | H42: 0 | I42: =H42/G42 -> #DIV/0! | J42: 0 | K42: 0 | L42: =K42/J42 -> #DIV/0! | M42: 0 | N42: 0 | O42: =N42/M42 -> #DIV/0! | P42: 0 | Q42: 0 | R42: =Q42/P42 -> #DIV/0! | S42: 0 | T42: 0 | U42: =T42/S42 -> #DIV/0! | V42: 0 | W42: 0 | X42: =W42/V42 -> #DIV/0! | Y42: 0 | Z42: 0 | AA42: =(Z42/Y42)*5 -> #DIV/0! | AB42: 0 | AC42: 0 | AD42: =AC42/AB42 -> #DIV/0! | AE42: 0 | AF42: 0 | AG42: =(AF42/AE42)*5 -> #DIV/0! | AH42: 0 | AI42: 0 | AJ42: =(AI42/AH42)*5 -> #DIV/0! | AK42: 0 | AL42: 0 | AM42: =(AL42/AK42)*6 -> #DIV/0! | AN42: 0 | AO42: 0 | AP42: =(AO42/AN42)*5 -> #DIV/0! | AQ42: 0 | AR42: 0 | AS42: =(AR42/AQ42)*6 -> #DIV/0! | AT42: 0 | AU42: 0 | AV42: =(AU42/AT42)*6 -> #DIV/0! | AW42: 0 | AX42: 0 | AY42: =(AX42/AW42)*6 -> #DIV/0! | AZ42: 0 | BA42: 0 | BB42: =(BA42/AZ42)*6 -> #DIV/0! | BC42: 0 | BD42: 0 | BE42: =(BD42/BC42)*6 -> #DIV/0!
A44: Quarter 4 | B44: District Code | C44: District | D44: School Code | E44: School | F44: Kindergarten | G44: First Grade | H44: Second Grade | I44: Third Grade | J44: Fourth Grade | K44: Fifth Grade | L44: Sixth Grade | M44: Seventh Grade | N44: Eighth Grade | O44: Ninth Grade | P44: Tenth Grade | Q44: Eleventh Grade | R44: Twelfth Grade
F45: =I49 -> #DIV/0! | G45: =L49 -> #DIV/0! | H45: =O49 -> #DIV/0! | I45: =R49 -> #DIV/0! | J45: =U49 -> #DIV/0! | K45: =IF(W49>0, X49, AA49) -> #DIV/0! | L45: =IF(AC49>0, AD49, AG49) -> #DIV/0! | M45: =IF(AI49>0, AJ49, AM49) -> #DIV/0! | N45: =IF(AO49>0, AP49, AS49) -> #DIV/0! | O45: =AV49 -> #DIV/0! | P45: =AY49 -> #DIV/0! | Q45: =BB49 -> #DIV/0! | R45: =BE49 -> #DIV/0!
G47: Kindergarten | J47: First Grade | M47: Second Grade | P47: Third Grade | S47: Fourth Grade | V47: Fifth Grade (Elementary School) | Y47: Fifth Grade (Middle Schools) | AB47: Sixth Grade (Elementary School) | AE47: Sixth Grade (Middle Schools) | AH47: Seventh Grade (Middle/Junior High Schools) | AK47: Seventh Grade (High School) | AN47: Eighth Grade (Middle/Junior High Schools) | AQ47: Eighth Grade (High School) | AT47: Ninth Grade | AW47: Tenth Grade | AZ47: Eleventh Grade | BC47: Twelfth Grade
G48: Total Educators | H48: ADE | I48: Average Class Size | J48: Total Educators | K48: ADE | L48: Average Class Size | M48: Total Educators | N48: ADE | O48: Average Class Size | P48: Total Educators | Q48: ADE | R48: Average Class Size | S48: Total Educators | T48: ADE | U48: Average Class Size | V48: Total Educators | W48: ADE | X48: Average Class Size | Y48: Total Educators | Z48: ADE | AA48: Average Class Size | AB48: Total Educators | AC48: ADE | AD48: Average Class Size | AE48: Total Educators | AF48: ADE | AG48: Average Class Size | AH48: Total Educators | AI48: ADE | AJ48: Average Class Size | AK48: Total Educators | AL48: ADE | AM48: Average Class Size | AN48: Total Educators | AO48: ADE | AP48: Average Class Size | AQ48: Total Educators | AR48: ADE | AS48: Average Class Size | AT48: Total Educators | AU48: ADE | AV48: Average Class Size | AW48: Total Educators | AX48: ADE | AY48: Average Class Size | AZ48: Total Educators | BA48: ADE | BB48: Average Class Size | BC48: Total Educators | BD48: ADE | BE48: Average Class Size
F49: Input Here --> | G49: 0 | H49: 0 | I49: =H49/G49 -> #DIV/0! | J49: 0 | K49: 0 | L49: =K49/J49 -> #DIV/0! | M49: 0 | N49: 0 | O49: =N49/M49 -> #DIV/0! | P49: 0 | Q49: 0 | R49: =Q49/P49 -> #DIV/0! | S49: 0 | T49: 0 | U49: =T49/S49 -> #DIV/0! | V49: 0 | W49: 0 | X49: =W49/V49 -> #DIV/0! | Y49: 0 | Z49: 0 | AA49: =(Z49/Y49)*5 -> #DIV/0! | AB49: 0 | AC49: 0 | AD49: =AC49/AB49 -> #DIV/0! | AE49: 0 | AF49: 0 | AG49: =(AF49/AE49)*5 -> #DIV/0! | AH49: 0 | AI49: 0 | AJ49: =(AI49/AH49)*5 -> #DIV/0! | AK49: 0 | AL49: 0 | AM49: =(AL49/AK49)*6 -> #DIV/0! | AN49: 0 | AO49: 0 | AP49: =(AO49/AN49)*5 -> #DIV/0! | AQ49: 0 | AR49: 0 | AS49: =(AR49/AQ49)*6 -> #DIV/0! | AT49: 0 | AU49: 0 | AV49: =(AU49/AT49)*6 -> #DIV/0! | AW49: 0 | AX49: 0 | AY49: =(AX49/AW49)*6 -> #DIV/0! | AZ49: 0 | BA49: 0 | BB49: =(BA49/AZ49)*6 -> #DIV/0! | BC49: 0 | BD49: 0 | BE49: =(BD49/BC49)*6 -> #DIV/0!
A51: Annual Average | F51: =(F24+F31+F38+F45)/4 -> #DIV/0! | G51: =(G24+G31+G38+G45)/4 -> #DIV/0! | H51: =(H24+H31+H38+H45)/4 -> #DIV/0! | I51: =(I24+I31+I38+I45)/4 -> #DIV/0! | J51: =(J24+J31+J38+J45)/4 -> #DIV/0! | K51: =(K24+K31+K38+K45)/4 -> #DIV/0! | L51: =(L24+L31+L38+L45)/4 -> #DIV/0! | M51: =(M24+M31+M38+M45)/4 -> #DIV/0! | ... R51: =(R24+R31+R38+R45)/4 -> #DIV/0!

Sheet Pupil Placement
A1: Average Class Size
A2: Please input the number of students who were enrolled in another school due to a discipline incident. Only the aggressor(s), NOT the victim(s), should be counted.
A5: Quarter | B5: District Name | C5: District Code | D5: School Name | E5: School Code | F5: Total Number of Students Enrolled in Another School | G5: Black Students Enrolled in Another School | H5: White Students Enrolled in Another School | I5: Hispanic Students Enrolled in Another School | J5: Pacific Islander Students Enrolled in Another School | K5: Asian Students Enrolled in Another School | L5: American Indian Students Enrolled in Another School | M5: Two or More Race Students Enrolled in Another School | N5: FRL Students Enrolled in Another School | O5: IEP Students Enrolled in Another School | P5: EL Students Enrolled in Another School | Q5: Migrant Students Enrolled in Another School | R5: Foster Students Enrolled in Another School | S5: Military Connected Students Enrolled in Another School | T5: Homeless Students Enrolled in Another School | U5: Male Students Enrolled in Another School | V5: Female Students Enrolled in Another School | W5: Gender X Students Enrolled in Another School
A6: Quarter 1 | F6: 0 | G6: 0 | H6: 0 | I6: 0 | J6: 0 | K6: 0 | L6: 0 | M6: 0 | N6: 0 | O6: 0 | P6: 0 | Q6: 0 | R6: 0 | S6: 0 | T6: 0 | U6: 0 | V6: 0 | W6: 0
A7: Quarter 2 | F7: 0 | G7: 0 | H7: 0 | I7: 0 | J7: 0 | K7: 0 | L7: 0 | M7: 0 | N7: 0 | O7: 0 | P7: 0 | Q7: 0 | R7: 0 | S7: 0 | T7: 0 | U7: 0 | V7: 0 | W7: 0
A8: Quarter 3 | F8: 0 | G8: 0 | H8: 0 | I8: 0 | J8: 0 | K8: 0 | L8: 0 | M8: 0 | N8: 0 | O8: 0 | P8: 0 | Q8: 0 | R8: 0 | S8: 0 | T8: 0 | U8: 0 | V8: 0 | W8: 0
A9: Quarter 4 | F9: 0 | G9: 0 | H9: 0 | I9: 0 | J9: 0 | K9: 0 | L9: 0 | M9: 0 | N9: 0 | O9: 0 | P9: 0 | Q9: 0 | R9: 0 | S9: 0 | T9: 0 | U9: 0 | V9: 0 | W9: 0

Sheet Training Received
A1: Training Received
A3: Business Rules: The number of teachers and administrators in a school who have had AT LEAST two of the required training in NRS 388.133, which includes: • Training in the appropriate methods to facilitate positive human relations among pupils by eliminating the use of discrimination based on race, bullying, and cyber-bullying. • Training in methods to prevent, identify, and report incidents of discrimination based on race, bullying, and cyber-bulling. • Training concerning the needs of persons with diverse gender identities or expressions. • Training concerning the needs of pupils with disabilities and pupils with autism spectrum disorder. • Methods to promote a positive learning environment. • Methods to improve the school environment in a manner that will facilitate positive human relations among pupils. • Methods to teach skills to pupils so that the pupils are able to replace inappropriate behavior with positive behavior.
A18: Quarter | B18: District Name | C18: District Code | D18: School Name | E18: School Code | F18: Number of Teachers with Required Trainings | G18: Number of Administrators with Required Trainings
A19: Quarter 1 | B19: FuturEdge | C19: 75 | D19: FuturEdge ES | E19: 401 | F19: 11 | G19: 5
A20: Quarter 2
A21: Quarter 3
A22: Quarter 4

Sheet Ratios
B1: Ratios
B3: Business Rules: • The number of students enrolled in a school per the number of full-time school counselors, working within their endorsement. • The number of students enrolled in a school per the number of full-time school psychologists, working within their endorsement. • The number of students enrolled in a school per the number of full-time school social workers, working within their endorsement.
B11: Quarter | C11: District Name | D11: District Code | E11: School Name | F11: School Code | G11: Total Number of Students | H11: Number of School Counselors | I11: Number of School Psychologists | J11: Number of School Social Workers
B12: Quarter 1 | C12: FuturEdge | D12: 75 | E12: FuturEdge ES | F12: 401 | G12: 159.71 | H12: 1 | I12: 0.5 | J12: 0
B13: Quarter 2
B14: Quarter 3
B15: Quarter 4

Sheet ALL Discipline Tracking
A1: Instructions: | B1: All (Major + Minor + Suspension and Expulsion) Disproportionate Discipline Tracking - by race | K1: Instructions: | L1: All (Major + Minor + Suspension and Expulsion) Disproportionate Discipline Tracking - by sub-population
A2: 1. All discipline data (major ODR + minor ODR + suspension + expulsion) will auto populate from the previous sheets - there is nothing to input on this sheet | K2: 1. All discipline data (major ODR + minor ODR) will auto populate from the MINOR and MAJOR sheets - there is nothing to input on this sheet
C3: American Indian/ Alaskan Native | D3: Asian | E3: Black | F3: Hispanic/ Latino | G3: Two or More Races | H3: Pacific Islander | I3: White | J3: TOTAL | M3: EL | N3: Female | O3: Foster | P3: FRL | Q3: Gender Non-Conforming/ Trans/NB | R3: Homeless | S3: IEP | T3: Male | U3: MIG | V3: Military | W3: TOTAL
B4: Cumulative Discipline Referrals | L4: Cumulative Discipline Referrals
B5: Q1 | C5: ='MINOR Q1'!C6+'MAJOR Q1'!C6+'Q4 SUSPENSION AND EXPULSION'!C5 -> #VALUE! | D5: ='MINOR Q1'!D6+'MAJOR Q1'!D6+'Q4 SUSPENSION AND EXPULSION'!D5 -> 0 | E5: ='MINOR Q1'!E6+'MAJOR Q1'!E6+'Q4 SUSPENSION AND EXPULSION'!E5 -> #VALUE! | F5: ='MINOR Q1'!F6+'MAJOR Q1'!F6+'Q4 SUSPENSION AND EXPULSION'!F5 -> #VALUE! | G5: ='MINOR Q1'!G6+'MAJOR Q1'!G6+'Q4 SUSPENSION AND EXPULSION'!G5 -> #VALUE! | H5: ='MINOR Q1'!H6+'MAJOR Q1'!H6+'Q4 SUSPENSION AND EXPULSION'!H5 -> #VALUE! | I5: ='MINOR Q1'!I6+'MAJOR Q1'!I6+'Q4 SUSPENSION AND EXPULSION'!I5 -> #VALUE! | J5: =SUM(C5:I5) -> #VALUE! | L5: Q1 | M5: ='MINOR Q1'!M6+'MAJOR Q1'!M6+'Q4 SUSPENSION AND EXPULSION'!M5 -> #VALUE! | N5: ='MINOR Q2'!N6+'MAJOR Q2'!N6+#REF! -> #REF! | O5: ='MINOR Q1'!O6+'MAJOR Q1'!O6+'Q4 SUSPENSION AND EXPULSION'!O5 -> #VALUE! | P5: ='MINOR Q1'!P6+'MAJOR Q1'!P6+'Q4 SUSPENSION AND EXPULSION'!P5 -> #VALUE! | Q5: ='MINOR Q1'!Q6+'MAJOR Q1'!Q6+'Q4 SUSPENSION AND EXPULSION'!Q5 -> #VALUE! | R5: ='MINOR Q1'!R6+'MAJOR Q1'!R6+'Q4 SUSPENSION AND EXPULSION'!R5 -> #VALUE! | S5: ='MINOR Q1'!S6+'MAJOR Q1'!S6+'Q4 SUSPENSION AND EXPULSION'!S5 -> #VALUE! | T5: ='MINOR Q1'!T6+'MAJOR Q1'!T6+'Q4 SUSPENSION AND EXPULSION'!T5 -> #VALUE! | U5: ='MINOR Q1'!U6+'MAJOR Q1'!U6+'Q4 SUSPENSION AND EXPULSION'!U5 -> #VALUE! | V5: ='MINOR Q1'!V6+'MAJOR Q1'!V6+'Q4 SUSPENSION AND EXPULSION'!V5 -> #VALUE! | W5: =SUM(M5:V5) -> #VALUE!
B6: Q2 | C6: ='MINOR Q2'!C6+'MAJOR Q2'!C6+#REF! -> #REF! | D6: ='MINOR Q2'!D6+'MAJOR Q2'!D6+#REF! -> #REF! | E6: ='MINOR Q2'!E6+'MAJOR Q2'!E6+#REF! -> #VALUE! | F6: ='MINOR Q2'!F6+'MAJOR Q2'!F6+#REF! -> #REF! | G6: ='MINOR Q2'!G6+'MAJOR Q2'!G6+#REF! -> #REF! | H6: ='MINOR Q2'!H6+'MAJOR Q2'!H6+#REF! -> #REF! | I6: ='MINOR Q2'!I6+'MAJOR Q2'!I6+#REF! -> #REF! | J6: =SUM(C6:I6) -> #REF! | K6: Definitions: | L6: Q2 | M6: ='MINOR Q2'!M6+'MAJOR Q2'!M6+#REF! -> #REF! | N6: ='MINOR Q2'!N6+'MAJOR Q2'!N6+#REF! -> #REF! | O6: ='MINOR Q2'!O6+'MAJOR Q2'!O6+#REF! -> #REF! | P6: ='MINOR Q2'!P6+'MAJOR Q2'!P6+#REF! -> #REF! | Q6: ='MINOR Q2'!Q6+'MAJOR Q2'!Q6+#REF! -> #REF! | R6: ='MINOR Q2'!R6+'MAJOR Q2'!R6+#REF! -> #REF! | S6: ='MINOR Q2'!S6+'MAJOR Q2'!S6+#REF! -> #REF! | T6: ='MINOR Q2'!T6+'MAJOR Q2'!T6+#REF! -> #REF! | ... V6: ='MINOR Q2'!V6+'MAJOR Q2'!V6+#REF! -> #REF! | W6: =SUM(M6:V6) -> #REF!
B7: Q3 | C7: ='MINOR Q3'!C6+'MAJOR Q3'!C6+#REF! -> #REF! | D7: ='MINOR Q3'!D6+'MAJOR Q3'!D6+#REF! -> #REF! | E7: ='MINOR Q3'!E6+'MAJOR Q3'!E6+#REF! -> #VALUE! | F7: ='MINOR Q3'!F6+'MAJOR Q3'!F6+#REF! -> #REF! | G7: ='MINOR Q3'!G6+'MAJOR Q3'!G6+#REF! -> #REF! | H7: ='MINOR Q3'!H6+'MAJOR Q3'!H6+#REF! -> #REF! | I7: ='MINOR Q3'!I6+'MAJOR Q3'!I6+#REF! -> #REF! | J7: =SUM(C7:I7) -> #REF! | K7: ODR- Office discipline referral | L7: Q3 | M7: ='MINOR Q3'!M6+'MAJOR Q3'!M6+#REF! -> #REF! | N7: ='MINOR Q3'!N6+'MAJOR Q3'!N6+#REF! -> #REF! | O7: ='MINOR Q3'!O6+'MAJOR Q3'!O6+#REF! -> #REF! | P7: ='MINOR Q3'!P6+'MAJOR Q3'!P6+#REF! -> #REF! | Q7: ='MINOR Q3'!Q6+'MAJOR Q3'!Q6+#REF! -> #REF! | R7: ='MINOR Q3'!R6+'MAJOR Q3'!R6+#REF! -> #REF! | S7: ='MINOR Q3'!S6+'MAJOR Q3'!S6+#REF! -> #REF! | T7: ='MINOR Q3'!T6+'MAJOR Q3'!T6+#REF! -> #REF! | ... V7: ='MINOR Q3'!V6+'MAJOR Q3'!V6+#REF! -> #REF! | W7: =SUM(M7:V7) -> #REF!
A8: Definitions: | B8: Q4 | C8: ='MINOR Q4'!C6+'MAJOR Q4'!C6+#REF! -> #REF! | D8: ='MINOR Q4'!D6+'MAJOR Q4'!D6+#REF! -> #REF! | E8: ='MINOR Q4'!E6+'MAJOR Q4'!E6+#REF! -> #VALUE! | F8: ='MINOR Q4'!F6+'MAJOR Q4'!F6+#REF! -> #REF! | G8: ='MINOR Q4'!G6+'MAJOR Q4'!G6+#REF! -> #REF! | H8: ='MINOR Q4'!H6+'MAJOR Q4'!H6+#REF! -> #REF! | I8: ='MINOR Q4'!I6+'MAJOR Q4'!I6+#REF! -> #REF! | J8: =SUM(C8:I8) -> #REF! | K8: Risk Index- percentage of a group that receives an ODR | L8: Q4 | M8: ='MINOR Q4'!M6+'MAJOR Q4'!M6+#REF! -> #REF! | N8: ='MINOR Q4'!N6+'MAJOR Q4'!N6+#REF! -> #REF! | O8: ='MINOR Q4'!O6+'MAJOR Q4'!O6+#REF! -> #REF! | P8: ='MINOR Q4'!P6+'MAJOR Q4'!P6+#REF! -> #REF! | Q8: ='MINOR Q4'!Q6+'MAJOR Q4'!Q6+#REF! -> #REF! | R8: ='MINOR Q4'!R6+'MAJOR Q4'!R6+#REF! -> #REF! | S8: ='MINOR Q4'!S6+'MAJOR Q4'!S6+#REF! -> #REF! | T8: ='MINOR Q4'!T6+'MAJOR Q4'!T6+#REF! -> #REF! | ... V8: ='MINOR Q4'!V6+'MAJOR Q4'!V6+#REF! -> #REF! | W8: =SUM(M8:V8) -> #REF!
A9: ODR- Office discipline referral | B9: Total Disciplie Referrals (Q1 through Q4) | C9: =SUM(C5:C8) -> #VALUE! | D9: =SUM(D5:D8) -> #REF! | E9: =SUM(E5:E8) -> #VALUE! | F9: =SUM(F5:F8) -> #VALUE! | G9: =SUM(G5:G8) -> #VALUE! | H9: =SUM(H5:H8) -> #VALUE! | I9: =SUM(I5:I8) -> #VALUE! | L9: Total Disciplie Referrals (Q1 through Q4) | M9: =SUM(M5:M8) -> #VALUE! | N9: =SUM(N5:N8) -> #REF! | O9: =SUM(O5:O8) -> #VALUE! | P9: =SUM(P5:P8) -> #VALUE! | Q9: =SUM(Q5:Q8) -> #VALUE! | R9: =SUM(R5:R8) -> #VALUE! | S9: =SUM(S5:S8) -> #VALUE! | T9: =SUM(T5:T8) -> #VALUE! | ... V9: =SUM(V5:V8) -> #VALUE!
A10: Risk Index- percentage of a group that receives an ODR | K10: Risk Ratio- represents the likelihood of an ODR for one group in in relation to a comparison group
B11: Annual Risk Index for ODR | L11: Annual Risk Index for ODR
A12: Risk Ratio- represents the likelihood of an ODR for one group in in relation to a comparison group | B12: Q1 | C12: =AVERAGE('MINOR Q1'!C8,'MAJOR Q1'!C8,'Q4 SUSPENSION AND EXPULSION'!C9) -> #VALUE! | D12: =AVERAGE('MINOR Q1'!D8,'MAJOR Q1'!D8,'Q4 SUSPENSION AND EXPULSION'!D9) -> 0 | E12: =AVERAGE('MINOR Q1'!E8,'MAJOR Q1'!E8,'Q4 SUSPENSION AND EXPULSION'!E9) -> #VALUE! | F12: =AVERAGE('MINOR Q1'!F8,'MAJOR Q1'!F8,'Q4 SUSPENSION AND EXPULSION'!F9) -> #VALUE! | G12: =AVERAGE('MINOR Q1'!G8,'MAJOR Q1'!G8,'Q4 SUSPENSION AND EXPULSION'!G9) -> #VALUE! | H12: =AVERAGE('MINOR Q1'!H8,'MAJOR Q1'!H8,'Q4 SUSPENSION AND EXPULSION'!H9) -> #VALUE! | I12: =AVERAGE('MINOR Q1'!I8,'MAJOR Q1'!I8,'Q4 SUSPENSION AND EXPULSION'!I9) -> #VALUE! | L12: Q1 | M12: =AVERAGE('MINOR Q1'!M8,'MAJOR Q1'!M8,'Q4 SUSPENSION AND EXPULSION'!M9) -> #VALUE! | N12: =AVERAGE('MINOR Q1'!N8,'MAJOR Q1'!N8,'Q4 SUSPENSION AND EXPULSION'!N9) -> #VALUE! | O12: =AVERAGE('MINOR Q1'!O8,'MAJOR Q1'!O8,'Q4 SUSPENSION AND EXPULSION'!O9) -> #VALUE! | P12: =AVERAGE('MINOR Q1'!P8,'MAJOR Q1'!P8,'Q4 SUSPENSION AND EXPULSION'!P9) -> #VALUE! | Q12: =AVERAGE('MINOR Q1'!Q8,'MAJOR Q1'!Q8,'Q4 SUSPENSION AND EXPULSION'!Q9) -> #VALUE! | R12: =AVERAGE('MINOR Q1'!R8,'MAJOR Q1'!R8,'Q4 SUSPENSION AND EXPULSION'!R9) -> #VALUE! | S12: =AVERAGE('MINOR Q1'!S8,'MAJOR Q1'!S8,'Q4 SUSPENSION AND EXPULSION'!S9) -> #VALUE! | T12: =AVERAGE('MINOR Q1'!T8,'MAJOR Q1'!T8,'Q4 SUSPENSION AND EXPULSION'!W9) -> #VALUE! | U12: =AVERAGE('MINOR Q1'!U8,'MAJOR Q1'!U8,'Q4 SUSPENSION AND EXPULSION'!U9) -> #VALUE! | V12: =AVERAGE('MINOR Q1'!V8,'MAJOR Q1'!V8,'Q4 SUSPENSION AND EXPULSION'!V9) -> #VALUE!
B13: Q2 | C13: =AVERAGE('MINOR Q2'!C8,'MAJOR Q2'!C8,#REF!) -> #DIV/0! | D13: =AVERAGE('MINOR Q2'!D8,'MAJOR Q2'!D8,#REF!) -> #REF! | E13: =AVERAGE('MINOR Q2'!E8,'MAJOR Q2'!E8,#REF!) -> #VALUE! | F13: =AVERAGE('MINOR Q2'!F8,'MAJOR Q2'!F8,#REF!) -> #REF! | G13: =AVERAGE('MINOR Q2'!G8,'MAJOR Q2'!G8,#REF!) -> #REF! | H13: =AVERAGE('MINOR Q2'!H8,'MAJOR Q2'!H8,#REF!) -> #REF! | I13: =AVERAGE('MINOR Q2'!I8,'MAJOR Q2'!I8,#REF!) -> #REF! | K13: Risk index of target group / risk index of comparison group = risk ratio | L13: Q2 | M13: =AVERAGE('MINOR Q2'!M8,'MAJOR Q2'!M8,#REF!) -> #REF! | N13: =AVERAGE('MINOR Q2'!N8,'MAJOR Q2'!N8,#REF!) -> #REF! | O13: =AVERAGE('MINOR Q2'!O8,'MAJOR Q2'!O8,#REF!) -> #REF! | P13: =AVERAGE('MINOR Q2'!P8,'MAJOR Q2'!P8,#REF!) -> #REF! | Q13: =AVERAGE('MINOR Q2'!Q8,'MAJOR Q2'!Q8,#REF!) -> #REF! | R13: =AVERAGE('MINOR Q2'!R8,'MAJOR Q2'!R8,#REF!) -> #REF! | S13: =AVERAGE('MINOR Q2'!S8,'MAJOR Q2'!S8,#REF!) -> #REF! | T13: =AVERAGE('MINOR Q2'!T8,'MAJOR Q2'!T8,#REF!) -> #REF! | ... V13: =AVERAGE('MINOR Q2'!V8,'MAJOR Q2'!V8,#REF!) -> #REF!
B14: Q3 | C14: =AVERAGE('MINOR Q3'!C8,'MAJOR Q3'!C8,#REF!) -> #REF! | D14: =AVERAGE('MINOR Q3'!D8,'MAJOR Q3'!D8,#REF!) -> #REF! | E14: =AVERAGE('MINOR Q3'!E8,'MAJOR Q3'!E8,#REF!) -> #VALUE! | F14: =AVERAGE('MINOR Q3'!F8,'MAJOR Q3'!F8,#REF!) -> #REF! | G14: =AVERAGE('MINOR Q3'!G8,'MAJOR Q3'!G8,#REF!) -> #REF! | H14: =AVERAGE('MINOR Q3'!H8,'MAJOR Q3'!H8,#REF!) -> #REF! | I14: =AVERAGE('MINOR Q3'!I8,'MAJOR Q3'!I8,#REF!) -> #REF! | L14: Q3 | M14: =AVERAGE('MINOR Q3'!M8,'MAJOR Q3'!M8,#REF!) -> #REF! | N14: =AVERAGE('MINOR Q3'!N8,'MAJOR Q3'!N8,#REF!) -> #REF! | O14: =AVERAGE('MINOR Q3'!O8,'MAJOR Q3'!O8,#REF!) -> #REF! | P14: =AVERAGE('MINOR Q3'!P8,'MAJOR Q3'!P8,#REF!) -> #REF! | Q14: =AVERAGE('MINOR Q3'!Q8,'MAJOR Q3'!Q8,#REF!) -> #REF! | R14: =AVERAGE('MINOR Q3'!R8,'MAJOR Q3'!R8,#REF!) -> #REF! | S14: =AVERAGE('MINOR Q3'!S8,'MAJOR Q3'!S8,#REF!) -> #REF! | T14: =AVERAGE('MINOR Q3'!T8,'MAJOR Q3'!T8,#REF!) -> #REF! | ... V14: =AVERAGE('MINOR Q3'!V8,'MAJOR Q3'!V8,#REF!) -> #REF!
A15: Risk index of target group / risk index of comparison group = risk ratio | B15: Q4 | C15: =AVERAGE('MINOR Q4'!C8,'MAJOR Q4'!C8,#REF!) -> #REF! | D15: =AVERAGE('MINOR Q4'!D8,'MAJOR Q4'!D8,#REF!) -> #REF! | E15: =AVERAGE('MINOR Q4'!E8,'MAJOR Q4'!E8,#REF!) -> #VALUE! | F15: =AVERAGE('MINOR Q4'!F8,'MAJOR Q4'!F8,#REF!) -> #REF! | G15: =AVERAGE('MINOR Q4'!G8,'MAJOR Q4'!G8,#REF!) -> #REF! | H15: =AVERAGE('MINOR Q4'!H8,'MAJOR Q4'!H8,#REF!) -> #REF! | I15: =AVERAGE('MINOR Q4'!I8,'MAJOR Q4'!I8,#REF!) -> #REF! | L15: Q4 | M15: =AVERAGE('MINOR Q4'!M8,'MAJOR Q4'!M8,#REF!) -> #REF! | N15: =AVERAGE('MINOR Q4'!N8,'MAJOR Q4'!N8,#REF!) -> #REF! | O15: =AVERAGE('MINOR Q4'!O8,'MAJOR Q4'!O8,#REF!) -> #REF! | P15: =AVERAGE('MINOR Q4'!P8,'MAJOR Q4'!P8,#REF!) -> #REF! | Q15: =AVERAGE('MINOR Q4'!Q8,'MAJOR Q4'!Q8,#REF!) -> #REF! | R15: =AVERAGE('MINOR Q4'!R8,'MAJOR Q4'!R8,#REF!) -> #REF! | S15: =AVERAGE('MINOR Q4'!S8,'MAJOR Q4'!S8,#REF!) -> #REF! | T15: =AVERAGE('MINOR Q4'!T8,'MAJOR Q4'!T8,#REF!) -> #REF! | ... V15: =AVERAGE('MINOR Q4'!V8,'MAJOR Q4'!V8,#REF!) -> #REF!
B16: Average Annual Risk Index for ODR | C16: =AVERAGE(C5:C8)/('MINOR Q1'!C4+'MAJOR Q1'!C4+'Q4 SUSPENSION AND EXPULSION'!C4) -> #VALUE! | D16: =AVERAGE(D5:D8)/('MINOR Q1'!D4+'MAJOR Q1'!D4+'Q4 SUSPENSION AND EXPULSION'!D4) -> #REF! | E16: =AVERAGE(E5:E8)/('MINOR Q1'!E4+'MAJOR Q1'!E4+'Q4 SUSPENSION AND EXPULSION'!E4) -> #VALUE! | F16: =AVERAGE(F5:F8)/('MINOR Q1'!F4+'MAJOR Q1'!F4+'Q4 SUSPENSION AND EXPULSION'!F4) -> #VALUE! | G16: =AVERAGE(G5:G8)/('MINOR Q1'!G4+'MAJOR Q1'!G4+'Q4 SUSPENSION AND EXPULSION'!G4) -> #VALUE! | H16: =AVERAGE(H5:H8)/('MINOR Q1'!H4+'MAJOR Q1'!H4+'Q4 SUSPENSION AND EXPULSION'!H4) -> #VALUE! | I16: =AVERAGE(I5:I8)/('MINOR Q1'!I4+'MAJOR Q1'!I4+'Q4 SUSPENSION AND EXPULSION'!I4) -> #VALUE! | K16: Notes: | L16: Average Annual Risk Index for ODR | M16: =AVERAGE(M5:M8)/('MINOR Q1'!M4+'MAJOR Q1'!M4+'Q4 SUSPENSION AND EXPULSION'!M4) -> #VALUE! | N16: =AVERAGE(N5:N8)/('MINOR Q1'!N4+'MAJOR Q1'!N4+'Q4 SUSPENSION AND EXPULSION'!N4) -> #REF! | O16: =AVERAGE(O5:O8)/('MINOR Q1'!O4+'MAJOR Q1'!O4+'Q4 SUSPENSION AND EXPULSION'!O4) -> #VALUE! | P16: =AVERAGE(P5:P8)/('MINOR Q1'!P4+'MAJOR Q1'!P4+'Q4 SUSPENSION AND EXPULSION'!P4) -> #VALUE! | Q16: =AVERAGE(Q5:Q8)/('MINOR Q1'!Q4+'MAJOR Q1'!Q4+'Q4 SUSPENSION AND EXPULSION'!Q4) -> #VALUE! | R16: =AVERAGE(R5:R8)/('MINOR Q1'!R4+'MAJOR Q1'!R4+'Q4 SUSPENSION AND EXPULSION'!R4) -> #VALUE! | S16: =AVERAGE(S5:S8)/('MINOR Q1'!S4+'MAJOR Q1'!S4+'Q4 SUSPENSION AND EXPULSION'!S4) -> #VALUE! | T16: =AVERAGE(T5:T8)/('MINOR Q1'!T4+'MAJOR Q1'!T4+'Q4 SUSPENSION AND EXPULSION'!T4) -> #VALUE! | ... V16: =AVERAGE(V5:V8)/('MINOR Q1'!V4+'MAJOR Q1'!V4+'Q4 SUSPENSION AND EXPULSION'!V4) -> #VALUE!
K17: Risk Ratio - boxes highlighted in RED indicate a student group that has an above average chance of an ODR (compared to all students)
B18: Risk Ratio compared to all student | L18: Risk Ratio compared to all student
A19: Notes: | B19: Q1 | C19: =AVERAGE('MINOR Q1'!C10,'MAJOR Q1'!C10,'Q4 SUSPENSION AND EXPULSION'!C11) -> #VALUE! | D19: =AVERAGE('MINOR Q1'!D10,'MAJOR Q1'!D10,'Q4 SUSPENSION AND EXPULSION'!D11) -> #DIV/0! | E19: =AVERAGE('MINOR Q1'!E10,'MAJOR Q1'!E10,'Q4 SUSPENSION AND EXPULSION'!E11) -> #VALUE! | F19: =AVERAGE('MINOR Q1'!F10,'MAJOR Q1'!F10,'Q4 SUSPENSION AND EXPULSION'!F11) -> #VALUE! | G19: =AVERAGE('MINOR Q1'!G10,'MAJOR Q1'!G10,'Q4 SUSPENSION AND EXPULSION'!G11) -> #VALUE! | H19: =AVERAGE('MINOR Q1'!H10,'MAJOR Q1'!H10,'Q4 SUSPENSION AND EXPULSION'!H11) -> #VALUE! | I19: =AVERAGE('MINOR Q1'!I10,'MAJOR Q1'!I10,'Q4 SUSPENSION AND EXPULSION'!I11) -> #VALUE! | L19: Q1 | M19: =AVERAGE('MINOR Q1'!M10,'MAJOR Q1'!M10,'Q4 SUSPENSION AND EXPULSION'!M11) -> #VALUE! | N19: =AVERAGE('MINOR Q1'!N10,'MAJOR Q1'!N10,'Q4 SUSPENSION AND EXPULSION'!N11) -> #VALUE! | O19: =AVERAGE('MINOR Q1'!O10,'MAJOR Q1'!O10,'Q4 SUSPENSION AND EXPULSION'!O11) -> #VALUE! | P19: =AVERAGE('MINOR Q1'!P10,'MAJOR Q1'!P10,'Q4 SUSPENSION AND EXPULSION'!P11) -> #VALUE! | Q19: =AVERAGE('MINOR Q1'!Q10,'MAJOR Q1'!Q10,'Q4 SUSPENSION AND EXPULSION'!Q11) -> #VALUE! | R19: =AVERAGE('MINOR Q1'!R10,'MAJOR Q1'!R10,'Q4 SUSPENSION AND EXPULSION'!R11) -> #VALUE! | S19: =AVERAGE('MINOR Q1'!S10,'MAJOR Q1'!S10,'Q4 SUSPENSION AND EXPULSION'!S11) -> #VALUE! | T19: =AVERAGE('MINOR Q1'!T10,'MAJOR Q1'!T10,'Q4 SUSPENSION AND EXPULSION'!W11) -> #VALUE! | U19: =AVERAGE('MINOR Q1'!U10,'MAJOR Q1'!U10,'Q4 SUSPENSION AND EXPULSION'!U11) -> #VALUE! | V19: =AVERAGE('MINOR Q1'!V10,'MAJOR Q1'!V10,'Q4 SUSPENSION AND EXPULSION'!V11) -> #VALUE!
A20: Risk Ratio - boxes highlighted in RED indicate a student group that has an above average chance of an ODR (compared to all students or compared to white students) | B20: Q2 | C20: =AVERAGE('MINOR Q2'!C10,'MAJOR Q2'!C10,#REF!) -> #DIV/0! | D20: =AVERAGE('MINOR Q2'!D10,'MAJOR Q2'!D10,#REF!) -> #REF! | E20: =AVERAGE('MINOR Q2'!E10,'MAJOR Q2'!E10,#REF!) -> #VALUE! | F20: =AVERAGE('MINOR Q2'!F10,'MAJOR Q2'!F10,#REF!) -> #REF! | G20: =AVERAGE('MINOR Q2'!G10,'MAJOR Q2'!G10,#REF!) -> #REF! | H20: =AVERAGE('MINOR Q2'!H10,'MAJOR Q2'!H10,#REF!) -> #REF! | I20: =AVERAGE('MINOR Q2'!I10,'MAJOR Q2'!I10,#REF!) -> #REF! | L20: Q2 | M20: =AVERAGE('MINOR Q2'!M10,'MAJOR Q2'!M10,#REF!) -> #REF! | N20: =AVERAGE('MINOR Q2'!N10,'MAJOR Q2'!N10,#REF!) -> #REF! | O20: =AVERAGE('MINOR Q2'!O10,'MAJOR Q2'!O10,#REF!) -> #REF! | P20: =AVERAGE('MINOR Q2'!P10,'MAJOR Q2'!P10,#REF!) -> #REF! | Q20: =AVERAGE('MINOR Q2'!Q10,'MAJOR Q2'!Q10,#REF!) -> #REF! | R20: =AVERAGE('MINOR Q2'!R10,'MAJOR Q2'!R10,#REF!) -> #REF! | S20: =AVERAGE('MINOR Q2'!S10,'MAJOR Q2'!S10,#REF!) -> #REF! | T20: =AVERAGE('MINOR Q2'!T10,'MAJOR Q2'!T10,#REF!) -> #REF! | ... V20: =AVERAGE('MINOR Q2'!V10,'MAJOR Q2'!V10,#REF!) -> #REF!
B21: Q3 | C21: =AVERAGE('MINOR Q3'!C10,'MAJOR Q3'!C10,#REF!) -> #VALUE! | D21: =AVERAGE('MINOR Q3'!D10,'MAJOR Q3'!D10,#REF!) -> #REF! | E21: =AVERAGE('MINOR Q3'!E10,'MAJOR Q3'!E10,#REF!) -> #VALUE! | F21: =AVERAGE('MINOR Q3'!F10,'MAJOR Q3'!F10,#REF!) -> #REF! | G21: =AVERAGE('MINOR Q3'!G10,'MAJOR Q3'!G10,#REF!) -> #REF! | H21: =AVERAGE('MINOR Q3'!H10,'MAJOR Q3'!H10,#REF!) -> #REF! | I21: =AVERAGE('MINOR Q3'!I10,'MAJOR Q3'!I10,#REF!) -> #REF! | L21: Q3 | M21: =AVERAGE('MINOR Q3'!M10,'MAJOR Q3'!M10,#REF!) -> #REF! | N21: =AVERAGE('MINOR Q3'!N10,'MAJOR Q3'!N10,#REF!) -> #REF! | O21: =AVERAGE('MINOR Q3'!O10,'MAJOR Q3'!O10,#REF!) -> #REF! | P21: =AVERAGE('MINOR Q3'!P10,'MAJOR Q3'!P10,#REF!) -> #REF! | Q21: =AVERAGE('MINOR Q3'!Q10,'MAJOR Q3'!Q10,#REF!) -> #REF! | R21: =AVERAGE('MINOR Q3'!R10,'MAJOR Q3'!R10,#REF!) -> #REF! | S21: =AVERAGE('MINOR Q3'!S10,'MAJOR Q3'!S10,#REF!) -> #REF! | T21: =AVERAGE('MINOR Q3'!T10,'MAJOR Q3'!T10,#REF!) -> #REF! | ... V21: =AVERAGE('MINOR Q3'!V10,'MAJOR Q3'!V10,#REF!) -> #REF!
B22: Q4 | C22: =AVERAGE('MINOR Q4'!C10,'MAJOR Q4'!C10,#REF!) -> #REF! | D22: =AVERAGE('MINOR Q4'!D10,'MAJOR Q4'!D10,#REF!) -> #REF! | E22: =AVERAGE('MINOR Q4'!E10,'MAJOR Q4'!E10,#REF!) -> #VALUE! | F22: =AVERAGE('MINOR Q4'!F10,'MAJOR Q4'!F10,#REF!) -> #REF! | G22: =AVERAGE('MINOR Q4'!G10,'MAJOR Q4'!G10,#REF!) -> #REF! | H22: =AVERAGE('MINOR Q4'!H10,'MAJOR Q4'!H10,#REF!) -> #REF! | I22: =AVERAGE('MINOR Q4'!I10,'MAJOR Q4'!I10,#REF!) -> #REF! | L22: Q4 | M22: =AVERAGE('MINOR Q4'!M10,'MAJOR Q4'!M10,#REF!) -> #REF! | N22: =AVERAGE('MINOR Q4'!N10,'MAJOR Q4'!N10,#REF!) -> #REF! | O22: =AVERAGE('MINOR Q4'!O10,'MAJOR Q4'!O10,#REF!) -> #REF! | P22: =AVERAGE('MINOR Q4'!P10,'MAJOR Q4'!P10,#REF!) -> #REF! | Q22: =AVERAGE('MINOR Q4'!Q10,'MAJOR Q4'!Q10,#REF!) -> #REF! | R22: =AVERAGE('MINOR Q4'!R10,'MAJOR Q4'!R10,#REF!) -> #REF! | S22: =AVERAGE('MINOR Q4'!S10,'MAJOR Q4'!S10,#REF!) -> #REF! | T22: =AVERAGE('MINOR Q4'!T10,'MAJOR Q4'!T10,#REF!) -> #REF! | ... V22: =AVERAGE('MINOR Q4'!V10,'MAJOR Q4'!V10,#REF!) -> #REF!
B23: Deviation from all students (1) | K23: Risk Ratio Comparison Graphs - Negative values indicate student population has a lower chance of an ODR than the comparison group of "all students". Positive values indicate student population has a higher chance of an ODR than comparison group. | L23: Deviation from all students (1)
B24: Q1 | C24: =1-C19 -> #VALUE! | D24: =1-D19 -> #DIV/0! | E24: =1-E19 -> #VALUE! | F24: =1-F19 -> #VALUE! | G24: =1-G19 -> #VALUE! | H24: =1-H19 -> #VALUE! | I24: =1-I19 -> #VALUE! | L24: Q1 | M24: =1-M19 -> #VALUE! | N24: =1-N19 -> #VALUE! | O24: =1-O19 -> #VALUE! | P24: =1-P19 -> #VALUE! | Q24: =1-Q19 -> #VALUE! | R24: =1-R19 -> #VALUE! | S24: =1-S19 -> #VALUE! | T24: =1-T19 -> #VALUE! | ... V24: =1-V19 -> #VALUE!
B25: Q2 | C25: =1-C20 -> #DIV/0! | D25: =1-D20 -> #REF! | E25: =1-E20 -> #VALUE! | F25: =1-F20 -> #REF! | G25: =1-G20 -> #REF! | H25: =1-H20 -> #REF! | I25: =1-I20 -> #REF! | L25: Q2 | M25: =1-M20 -> #REF! | N25: =1-N20 -> #REF! | O25: =1-O20 -> #REF! | P25: =1-P20 -> #REF! | Q25: =1-Q20 -> #REF! | R25: =1-R20 -> #REF! | S25: =1-S20 -> #REF! | T25: =1-T20 -> #REF! | ... V25: =1-V20 -> #REF!
A26: Risk Ratio Comparison Graphs - Negative values indicate student population has a higher chance of an ODR than comparison group (either all students or white students) Positive values indicate student population has a lower chance of an ODR than comparison group | B26: Q3 | C26: =1-C21 -> #VALUE! | D26: =1-D21 -> #REF! | E26: =1-E21 -> #VALUE! | F26: =1-F21 -> #REF! | G26: =1-G21 -> #REF! | H26: =1-H21 -> #REF! | I26: =1-I21 -> #REF! | L26: Q3 | M26: =1-M21 -> #REF! | N26: =1-N21 -> #REF! | O26: =1-O21 -> #REF! | P26: =1-P21 -> #REF! | Q26: =1-Q21 -> #REF! | R26: =1-R21 -> #REF! | S26: =1-S21 -> #REF! | T26: =1-T21 -> #REF! | ... V26: =1-V21 -> #REF!
B27: Q4 | C27: =B242-C22 -> #REF! | D27: =C242-D22 -> #REF! | E27: =D242-E22 -> #VALUE! | F27: =E242-F22 -> #REF! | G27: =F242-G22 -> #REF! | H27: =G242-H22 -> #REF! | I27: =H242-I22 -> #REF! | L27: Q4 | M27: =1-M22 -> #REF! | N27: =1-N22 -> #REF! | O27: =1-O22 -> #REF! | P27: =1-P22 -> #REF! | Q27: =1-Q22 -> #REF! | R27: =1-R22 -> #REF! | S27: =1-S22 -> #REF! | T27: =1-T22 -> #REF! | ... V27: =1-V22 -> #REF!
B28: Risk Ratio compared to white students
B29: Q1 | C29: =AVERAGE('MINOR Q1'!C12,'MAJOR Q1'!C12,'Q4 SUSPENSION AND EXPULSION'!C13) -> #VALUE! | D29: =AVERAGE('MINOR Q1'!D12,'MAJOR Q1'!D12,'Q4 SUSPENSION AND EXPULSION'!D13) -> #DIV/0! | E29: =AVERAGE('MINOR Q1'!E12,'MAJOR Q1'!E12,'Q4 SUSPENSION AND EXPULSION'!E13) -> #DIV/0! | F29: =AVERAGE('MINOR Q1'!F12,'MAJOR Q1'!F12,'Q4 SUSPENSION AND EXPULSION'!F13) -> #VALUE! | G29: =AVERAGE('MINOR Q1'!G12,'MAJOR Q1'!G12,'Q4 SUSPENSION AND EXPULSION'!G13) -> #VALUE! | H29: =AVERAGE('MINOR Q1'!H12,'MAJOR Q1'!H12,'Q4 SUSPENSION AND EXPULSION'!H13) -> #VALUE!
B30: Q2 | C30: =AVERAGE('MINOR Q2'!C12,'MAJOR Q2'!C12,#REF!) -> #DIV/0! | D30: =AVERAGE('MINOR Q2'!D12,'MAJOR Q2'!D12,#REF!) -> #REF! | E30: =AVERAGE('MINOR Q2'!E12,'MAJOR Q2'!E12,#REF!) -> #VALUE! | F30: =AVERAGE('MINOR Q2'!F12,'MAJOR Q2'!F12,#REF!) -> #REF! | G30: =AVERAGE('MINOR Q2'!G12,'MAJOR Q2'!G12,#REF!) -> #REF! | H30: =AVERAGE('MINOR Q2'!H12,'MAJOR Q2'!H12,#REF!) -> #REF!
B31: Q3 | C31: =AVERAGE('MINOR Q3'!C12,'MAJOR Q3'!C12,#REF!) -> #DIV/0! | D31: =AVERAGE('MINOR Q3'!D12,'MAJOR Q3'!D12,#REF!) -> #REF! | E31: =AVERAGE('MINOR Q3'!E12,'MAJOR Q3'!E12,#REF!) -> #VALUE! | F31: =AVERAGE('MINOR Q3'!F12,'MAJOR Q3'!F12,#REF!) -> #REF! | G31: =AVERAGE('MINOR Q3'!G12,'MAJOR Q3'!G12,#REF!) -> #REF! | H31: =AVERAGE('MINOR Q3'!H12,'MAJOR Q3'!H12,#REF!) -> #REF!
B32: Q4 | C32: =AVERAGE('MINOR Q4'!C12,'MAJOR Q4'!C12,#REF!) -> #REF! | D32: =AVERAGE('MINOR Q4'!D12,'MAJOR Q4'!D12,#REF!) -> #REF! | E32: =AVERAGE('MINOR Q4'!E12,'MAJOR Q4'!E12,#REF!) -> #VALUE! | F32: =AVERAGE('MINOR Q4'!F12,'MAJOR Q4'!F12,#REF!) -> #REF! | G32: =AVERAGE('MINOR Q4'!G12,'MAJOR Q4'!G12,#REF!) -> #REF! | H32: =AVERAGE('MINOR Q4'!H12,'MAJOR Q4'!H12,#REF!) -> #REF!
B33: Deviation from white students
B34: Q1 | C34: =I19-C29 -> #VALUE! | D34: =I19-D29 -> #VALUE! | E34: =I19-E29 -> #VALUE! | F34: =I19-F29 -> #VALUE! | G34: =I19-G29 -> #VALUE! | H34: =I19-H29 -> #VALUE!
B35: Q2 | C35: =I20-C29 -> #REF! | D35: =I20-D29 -> #REF! | E35: =I20-E29 -> #REF! | F35: =I20-F29 -> #REF! | G35: =I20-G29 -> #REF! | H35: =I20-H29 -> #REF!
B36: Q3 | C36: =I21-C31 -> #REF! | D36: =I21-D31 -> #REF! | E36: =I21-E31 -> #REF! | F36: =I21-F31 -> #REF! | G36: =I21-G31 -> #REF! | H36: =I21-H31 -> #REF!
B37: Q4 | C37: =I22-C32 -> #REF! | D37: =I22-D32 -> #REF! | E37: =I22-E32 -> #REF! | F37: =I22-F32 -> #REF! | G37: =I22-G32 -> #REF! | H37: =I22-H32 -> #REF!
