Workbook

Sheet AB285 Requirements
A12: AB 285 Disproportionate Data Tracking Template
B14: School Year: | C14: 26-27 | E14: School Name: | F14: FuturEdge Academy ES | G14: School Code: | H14: 75401
E16: District: | F16: FuturEdge Charter Academy | G16: District Code: | H16: 75
B18: Contact Name: | C18: Kristen Guthrie | F18: Contact Email: | G18: kristen.guthrie@futuredgeacademy.org
B21: With the passage of Assembly Bill (AB) 285 during the 82nd Legislative Session (2023), each public school is
B22: required to collect quarterly data related to student discipline and the progressive discipline of pupils and onsite
B23: review of disciplinary decisions. The metrics include:
B25: The number of expulsions and suspensions of pupils
B26: The number of vacant staff positions in the school
B27: The average class size for each grade in the school
B28: The implementation of each progressive discipline plan based on restorative justice
B29: The training received by teachers and administrators regarding each progressive discipline plan based on restoravive justice
B30: The number of placements of pupils in another school
B31: The ratio of pupils to school counselors, school psychologists, and school social workers
B33: The data must be aggregated by the types of offense and into the following subgroups:
B35: Pupils who are economically disadvantaged
... B69: eschaldach@unr.edu

Sheet Standardized Definitions
A1: Standardized Discipline Definitions
A3: Disparities in school discipline - The consequences experienced by subgroups of students (e.g., based on
A4: race/ethnicity, disability, and sexual orientation) who are disproportionately or differentially disciplined
A5: at school, including minor behavior incidents and major behavior referrals, and are overrepresented in
A6: rates of exclusionary discipline (school suspension and expulsion).
A8: Disproportionality - A particular group (based on any personal characteristic) being represented in a
A9: given category at a significantly higher or lower rate than other groups.
A10: https://safesupportivelearning.ed.gov/addressing-root-causes-disparities-school-discipline
A12: Standardized Definitions for Student Offenses and Sanctions
A13: The passage of Assembly Bill (AB) 490 in 2019 amended Chapter 385A of Nevada Revised Statutes (NRS) by adding a new section regarding the collection and reporting of student discipline data. Section 2 of NRS 385A.840 requires the Nevada Department of Education (NDE) to “establish standard definitions of an offense for which a pupil may be disciplined and any related sanctions.

Sheet INPUT HERE
B2: School Name | C2: School Year | D2: EntityID | E2: Contact Person | F2: Contact Email
B3: FuturEdge Charter Academy | C3: 2026-2027 | D3: 75401 | E3: Kristen Guthrie | F3: kristen.guthrie@futuredgeacademy.org
B5: Instructions: 1. Input enrollment by subgroup. Students can fall into more than one category - for example, if a student is a female with an IEP, add one to both female and to IEP. Data will auto populate into "Suspension and Expulsion" tabs below. 2. In the bullying and cyberbullying sections, enter data based on subgroup. Note that if a student has more than one incident of bullying or cyberbullying, input the number of incidents for that quarter. 3. Input Suspensions and Expulsions. Note that if a student has more than one suspension/expulsion, input the number of suspensions or expulsions that student has for that quarter. 4. The total number of students who were suspended or expelled will autopopulate on this sheet in the column labeled "Total" as well as on the "Suspension and Expulsion" tabs. 5. This sheet has rows for Quarter 1, Quarter 2, Quarter 3, and Quarter 4. Fill in this sheet throughout the year, only using as many terms as is applicable to you. If you have questions about technical assistance for using this sheet, contact Emily Schaldach at eschaldach@unr.edu. If you have questions about reporting requirements, email Lexi Kovalovich at lexi.kovalovich@doe.nv.gov | BN5: Instructions: 1. Input enrollment by subgroup. Students can fall into more than one category - for example, if a student is a female with an IEP, add one to both female and to IEP. Enrollement number will autopopulate into the "Suspension and Expulsion" tabs. 2. Input the number of bullying and cyberbullying incidents, per the table based on subgroup. Note that if a student has more than one incident of bullying or cyberbullying, input the number of incidents for that quarter. 3. Input Suspensions and Expulsions. Note that if a student has more than one suspension/expulsion, input the number of suspensions or expulsions that student has for that quarter. 4. The total number of students who were suspended or expelled will autopopulate on this sheet in the column labeled "Total" as well as on the "Suspension and Expulsion" tabs. 5. This sheet has rows for Quarter 1, Quarter 2, Quarter 3, and Quarter 4. Fill in this sheet throughout the year, only using as many terms as is applicable to you. If you have questions about technical assistance for using this sheet, contact Emily Schaldach at eschaldach@unr.edu. If you have questions about reporting requirements, email Lexi Kovalovich at lexi.kovalovich@doe.nv.gov
C6: QUARTER 1 | D6: TOTAL STUDENT POPULATION NUMBERS (Q1) | G6: BULLYING AND CYBER BULLYING (Q1) | AA6: SUSPENSIONS (Q1) | AQ6: EXPULSIONS (Q1) | BG6: Subgroup | BH6: Total Number of Students Deemed Habitual Disciplinary Problems NRS 392.4655 (Q1) | BJ6: Subgroup | BK6: Total Number of Students Suspended (Q1) | BL6: Total Number of Students Expelled (Q1)
D7: Subgroup | E7: Student population by subgroup/race | G7: Subgroup | H7: Bullying Behaviors - Number of Bullying Incidents | Q7: Bullying Behaviors - Number of Cyber Bullying Incidents | AA7: Subgroup | AB7: Violent Behaviors | AE7: Substance Use Behaviors | AH7: Weapons Involved Behaviors | AJ7: Prohibited Behaviors | AK7: Disruptions of Class/School Activities | AL7: Threat Behaviors | AM7: Violations of School Rules | AN7: Attendance Related Behaviors (attendance code only) | AO7: Total Number of Students Who Were Suspended (all behaviors/ reasons) | AQ7: Subgroup | AR7: Violent Behaviors | AU7: Substance Use Behaviors | AX7: Weapons Involved Behaviors | AZ7: Prohibited Behaviors | BA7: Disruptions of Class/School Activities | BB7: Threat Behaviors | BC7: Violations of School Rules | BD7: Attendance Related Behaviors (attendance code only) | BE7: Total Number of Students who were expelled (all behaviors/ reasons)
H8: Reported Incidents | I8: Reported Students | J8: Incidents with discrimination Based on Race | K8: Determined to be Unsubstantiated Bullying Incidents | L8: Determined to be Substantiated Bullying Incidents | M8: Of Unsubstantiated How Many Students Were Suspended | N8: Of Subsantiated How Many Students Were Suspended | O8: Of Unsubstantiated How Many Students Were Expelled | P8: Of Substantiated How Many Students Were Expelled | Q8: Reported Incidents | R8: Reported Students | S8: Discrimination Based on Race | T8: Determined to be Unsubstantiated Bullying | U8: Determined to be Substantiated Bullying | V8: Of Unsubstantiated How Many Students Were Suspended | W8: Of Substantiated How Many Students Were Suspended | X8: Of Unsubstantiated How Many Students Were Expelled | Y8: Of Substantiated How Many Students Were Expelled | AB8: Violence to Other Students | AC8: Violence to School Staff | AD8: Sexual Assault | AE8: Distribution of Controlled Substances | AF8: Possession or Use of Controlled Substances | AG8: Possession or Use of Alcoholic Beverages | AH8: Possession of Non-Firearm Weapons | AI8: Possession of Firearms (Guns Free School Act) | AJ8: Code of Honor Violations | AR8: Violence to Other Students | AS8: Violence to School Staff | AT8: Sexual Assault | AU8: Distribution of Controlled Substances | AV8: Possession or Use of Controlled Substances | AW8: Possession or Use of Alcoholic Beverages | AX8: Possession of Weapons | AY8: Possession of Firearms (Guns Free School Act) | AZ8: Code of Honor Violations
D10: Total Q1 Enrollment | E10: =SUM(E11:E13) -> 165
D11: Male | E11: 85 | G11: Male | H11: 1 | I11: 3 | J11: 0 | K11: 1 | L11: 0 | M11: 0 | N11: 0 | O11: 0 | P11: 0 | Q11: 0 | R11: 0 | S11: 0 | T11: 0 | U11: 0 | V11: 0 | W11: 0 | X11: 0 | Y11: 0 | AA11: Male | AB11: 0 | AC11: 0 | AD11: 0 | AE11: 0 | AF11: 0 | AG11: 0 | AH11: 0 | AI11: 0 | AJ11: 0 | AK11: 0 | AL11: 1 | AM11: 0 | AN11: 0 | AO11: 1 | AQ11: Male | AR11: 0 | AS11: 0 | AT11: 0 | AU11: 0 | AV11: 0 | AW11: 0 | AX11: 0 | AY11: 0 | AZ11: 0 | BA11: 0 | BB11: 0 | BC11: 0 | BD11: 0 | BE11: 0 | BG11: Male | BH11: 0 | BJ11: Male | BK11: =AO11 -> 1 | BL11: =BE11 -> 0
D12: Female | E12: 80 | G12: Female | H12: 0 | I12: 0 | J12: 0 | K12: 0 | L12: 0 | M12: 0 | N12: 0 | O12: 0 | P12: 0 | Q12: 0 | R12: 0 | S12: 0 | T12: 0 | U12: 0 | V12: 0 | W12: 0 | X12: 0 | Y12: 0 | AA12: Female | AB12: 0 | AC12: 0 | AD12: 0 | AE12: 0 | AF12: 0 | AG12: 0 | AH12: 0 | AI12: 0 | AJ12: 0 | AK12: 0 | AL12: 1 | AM12: 1 | AN12: 0 | AO12: 2 | AQ12: Female | AR12: 0 | AS12: 0 | AT12: 0 | AU12: 0 | AV12: 0 | AW12: 0 | AX12: 0 | AY12: 0 | AZ12: 0 | BA12: 0 | BB12: 0 | BC12: 0 | BD12: 0 | BE12: 0 | BG12: Female | BH12: 0 | BJ12: Female | BK12: =AO12 -> 2 | BL12: =BE12 -> 0
D13: Gender Non-Conforming/ Trans/NB | E13: 0 | G13: Gender Non-Conforming/ Trans/NB | H13: 0 | I13: 0 | J13: 0 | K13: 0 | L13: 0 | M13: 0 | N13: 0 | O13: 0 | P13: 0 | Q13: 0 | R13: 0 | S13: 0 | T13: 0 | U13: 0 | V13: 0 | W13: 0 | X13: 0 | Y13: 0 | AA13: Gender Non-Conforming/ Trans/NB | AB13: 0 | AC13: 0 | AD13: 0 | AE13: 0 | AF13: 0 | AG13: 0 | AH13: 0 | AI13: 0 | AJ13: 0 | AK13: 0 | AL13: 0 | AM13: 0 | AN13: 0 | AO13: 0 | AQ13: Gender Non-Conforming/ Trans/NB | AR13: 0 | AS13: 0 | AT13: 0 | AU13: 0 | AV13: 0 | AW13: 0 | AX13: 0 | AY13: 0 | AZ13: 0 | BA13: 0 | BB13: 0 | BC13: 0 | BD13: 0 | BE13: 0 | BG13: Gender Non-Conforming/ Trans/NB | BH13: 0 | BJ13: Gender Non-Conforming/ Trans/NB | BK13: =AO13 -> 0 | BL13: =BE13 -> 0
D14: American Indian | E14: 1 | G14: American Indian | H14: 0 | I14: 0 | J14: 0 | K14: 0 | L14: 0 | M14: 0 | N14: 0 | O14: 0 | P14: 0 | Q14: 0 | R14: 0 | S14: 0 | T14: 0 | U14: 0 | V14: 0 | W14: 0 | X14: 0 | Y14: 0 | AA14: American Indian | AB14: 0 | AC14: 0 | AD14: 0 | AE14: 0 | AF14: 0 | AG14: 0 | AH14: 0 | AI14: 0 | AJ14: 0 | AK14: 0 | AL14: 0 | AM14: 0 | AN14: 0 | AO14: 0 | AQ14: American Indian | AR14: 0 | AS14: 0 | AT14: 0 | AU14: 0 | AV14: 0 | AW14: 0 | AX14: 0 | AY14: 0 | AZ14: 0 | BA14: 0 | BB14: 0 | BC14: 0 | BD14: 0 | BE14: 0 | BG14: American Indian | BH14: 0 | BJ14: American Indian | BK14: =AO14 -> 0 | BL14: =BE14 -> 0
D15: Asian | E15: 0 | G15: Asian | H15: 0 | I15: 0 | J15: 0 | K15: 0 | L15: 0 | M15: 0 | N15: 0 | O15: 0 | P15: 0 | Q15: 0 | R15: 0 | S15: 0 | T15: 0 | U15: 0 | V15: 0 | W15: 0 | X15: 0 | Y15: 0 | AA15: Asian | AB15: 0 | AC15: 0 | AD15: 0 | AE15: 0 | AF15: 0 | AG15: 0 | AH15: 0 | AI15: 0 | AJ15: 0 | AK15: 0 | AL15: 0 | AM15: 0 | AN15: 0 | AO15: 0 | AQ15: Asian | AR15: 0 | AS15: 0 | AT15: 0 | AU15: 0 | AV15: 0 | AW15: 0 | AX15: 0 | AY15: 0 | AZ15: 0 | BA15: 0 | BB15: 0 | BC15: 0 | BD15: 0 | BE15: 0 | BG15: Asian | BH15: 0 | BJ15: Asian | BK15: =AO15 -> 0 | BL15: =BE15 -> 0
D16: Black | E16: 101 | G16: Black | H16: 0 | I16: 0 | J16: 0 | K16: 0 | L16: 0 | M16: 0 | N16: 0 | O16: 0 | P16: 0 | Q16: 0 | R16: 0 | S16: 0 | T16: 0 | U16: 0 | V16: 0 | W16: 0 | X16: 0 | Y16: 0 | AA16: Black | AB16: 0 | AC16: 0 | AD16: 0 | AE16: 0 | AF16: 0 | AG16: 0 | AH16: 0 | AI16: 0 | AJ16: 0 | AK16: 0 | AL16: 1 | AM16: 1 | AN16: 0 | AO16: 2 | AQ16: Black | AR16: 0 | AS16: 0 | AT16: 0 | AU16: 0 | AV16: 0 | AW16: 0 | AX16: 0 | AY16: 0 | AZ16: 0 | BA16: 0 | BB16: 0 | BC16: 0 | BD16: 0 | BE16: 0 | BG16: Black | BH16: 0 | BJ16: Black | BK16: =AO16 -> 2 | BL16: =BE16 -> 0
D17: Hispanic/Latino | E17: 40 | G17: Hispanic/Latino | H17: 0 | I17: 0 | J17: 0 | K17: 0 | L17: 0 | M17: 0 | N17: 0 | O17: 0 | P17: 0 | Q17: 0 | R17: 0 | S17: 0 | T17: 0 | U17: 0 | V17: 0 | W17: 0 | X17: 0 | Y17: 0 | AA17: Hispanic/Latino | AB17: 0 | AC17: 0 | AD17: 0 | AE17: 0 | AF17: 0 | AG17: 0 | AH17: 0 | AI17: 0 | AJ17: 0 | AK17: 0 | AL17: 0 | AM17: 0 | AN17: 0 | AO17: 0 | AQ17: Hispanic/Latino | AR17: 0 | AS17: 0 | AT17: 0 | AU17: 0 | AV17: 0 | AW17: 0 | AX17: 0 | AY17: 0 | AZ17: 0 | BA17: 0 | BB17: 0 | BC17: 0 | BD17: 0 | BE17: 0 | BG17: Hispanic/Latino | BH17: 0 | BJ17: Hispanic/Latino | BK17: =AO17 -> 0 | BL17: =BE17 -> 0
D18: Two or More | E18: 17 | G18: Two or More | H18: 0 | I18: 0 | J18: 0 | K18: 0 | L18: 0 | M18: 0 | N18: 0 | O18: 0 | P18: 0 | Q18: 0 | R18: 0 | S18: 0 | T18: 0 | U18: 0 | V18: 0 | W18: 0 | X18: 0 | Y18: 0 | AA18: Two or More | AB18: 0 | AC18: 0 | AD18: 0 | AE18: 0 | AF18: 0 | AG18: 0 | AH18: 0 | AI18: 0 | AJ18: 0 | AK18: 0 | AL18: 0 | AM18: 1 | AN18: 0 | AO18: 1 | AQ18: Two or More | AR18: 0 | AS18: 0 | AT18: 0 | AU18: 0 | AV18: 0 | AW18: 0 | AX18: 0 | AY18: 0 | AZ18: 0 | BA18: 0 | BB18: 0 | BC18: 0 | BD18: 0 | BE18: 0 | BG18: Two or More | BH18: 0 | BJ18: Two or More | BK18: =AO18 -> 1 | BL18: =BE18 -> 0
D19: Pacific Islander | E19: 0 | G19: Pacific Islander | H19: 0 | I19: 0 | J19: 0 | K19: 0 | L19: 0 | M19: 0 | N19: 0 | O19: 0 | P19: 0 | Q19: 0 | R19: 0 | S19: 0 | T19: 0 | U19: 0 | V19: 0 | W19: 0 | X19: 0 | Y19: 0 | AA19: Pacific Islander | AB19: 0 | AC19: 0 | AD19: 0 | AE19: 0 | AF19: 0 | AG19: 0 | AH19: 0 | AI19: 0 | AJ19: 0 | AK19: 0 | AL19: 0 | AM19: 0 | AN19: 0 | AO19: 0 | AQ19: Pacific Islander | AR19: 0 | AS19: 0 | AT19: 0 | AU19: 0 | AV19: 0 | AW19: 0 | AX19: 0 | AY19: 0 | AZ19: 0 | BA19: 0 | BB19: 0 | BC19: 0 | BD19: 0 | BE19: 0 | BG19: Pacific Islander | BH19: 0 | BJ19: Pacific Islander | BK19: =AO19 -> 0 | BL19: =BE19 -> 0
D20: White | E20: 6 | G20: White | H20: 0 | I20: 0 | J20: 0 | K20: 0 | L20: 0 | M20: 0 | N20: 0 | O20: 0 | P20: 0 | Q20: 0 | R20: 0 | S20: 0 | T20: 0 | U20: 0 | V20: 0 | W20: 0 | X20: 0 | Y20: 0 | AA20: White | AB20: 0 | AC20: 0 | AD20: 0 | AE20: 0 | AF20: 0 | AG20: 0 | AH20: 0 | AI20: 0 | AJ20: 0 | AK20: 0 | AL20: 0 | AM20: 0 | AN20: 0 | AO20: 0 | AQ20: White | AR20: 0 | AS20: 0 | AT20: 0 | AU20: 0 | AV20: 0 | AW20: 0 | AX20: 0 | AY20: 0 | AZ20: 0 | BA20: 0 | BB20: 0 | BC20: 0 | BD20: 0 | BE20: 0 | BG20: White | BH20: 0 | BJ20: White | BK20: =AO20 -> 0 | BL20: =BE20 -> 0
D21: EL | E21: 6 | G21: EL | H21: 0 | I21: 0 | J21: 0 | K21: 0 | L21: 0 | M21: 0 | N21: 0 | O21: 0 | P21: 0 | Q21: 0 | R21: 0 | S21: 0 | T21: 0 | U21: 0 | V21: 0 | W21: 0 | X21: 0 | Y21: 0 | AA21: EL | AB21: 0 | AC21: 0 | AD21: 0 | AE21: 0 | AF21: 0 | AG21: 0 | AH21: 0 | AI21: 0 | AJ21: 0 | AK21: 0 | AL21: 0 | AM21: 0 | AN21: 0 | AO21: 0 | AQ21: EL | AR21: 0 | AS21: 0 | AT21: 0 | AU21: 0 | AV21: 0 | AW21: 0 | AX21: 0 | AY21: 0 | AZ21: 0 | BA21: 0 | BB21: 0 | BC21: 0 | BD21: 0 | BE21: 0 | BG21: EL | BH21: 0 | BJ21: EL | BK21: =AO21 -> 0 | BL21: =BE21 -> 0
D22: Foster | E22: 0 | G22: Foster | H22: 0 | I22: 0 | J22: 0 | K22: 0 | L22: 0 | M22: 0 | N22: 0 | O22: 0 | P22: 0 | Q22: 0 | R22: 0 | S22: 0 | T22: 0 | U22: 0 | V22: 0 | W22: 0 | X22: 0 | Y22: 0 | AA22: Foster | AB22: 0 | AC22: 0 | AD22: 0 | AE22: 0 | AF22: 0 | AG22: 0 | AH22: 0 | AI22: 0 | AJ22: 0 | AK22: 0 | AL22: 0 | AM22: 0 | AN22: 0 | AO22: 0 | AQ22: Foster | AR22: 0 | AS22: 0 | AT22: 0 | AU22: 0 | AV22: 0 | AW22: 0 | AX22: 0 | AY22: 0 | AZ22: 0 | BA22: 0 | BB22: 0 | BC22: 0 | BD22: 0 | BE22: 0 | BG22: Foster | BH22: 0 | BJ22: Foster | BK22: =AO22 -> 0 | BL22: =BE22 -> 0
... D27: Military | E27: 2 | G27: Military | H27: 0 | I27: 0 | J27: 0 | K27: 0 | L27: 0 | M27: 0 | N27: 0 | O27: 0 | P27: 0 | Q27: 0 | R27: 0 | S27: 0 | T27: 0 | U27: 0 | V27: 0 | W27: 0 | X27: 0 | Y27: 0 | AA27: Military | AB27: 0 | AC27: 0 | AD27: 0 | AE27: 0 | AF27: 0 | AG27: 0 | AH27: 0 | AI27: 0 | AJ27: 0 | AK27: 0 | AL27: 0 | AM27: 0 | AN27: 0 | AO27: 0 | AQ27: Military | AR27: 0 | AS27: 0 | AT27: 0 | AU27: 0 | AV27: 0 | AW27: 0 | AX27: 0 | AY27: 0 | AZ27: 0 | BA27: 0 | BB27: 0 | BC27: 0 | BD27: 0 | BE27: 0 | BG27: Military | BH27: 0 | BJ27: Military | BK27: =AO27 -> 0 | BL27: =BE27 -> 0
C31: QUARTER 2 | D31: TOTAL STUDENT POPULATION NUMBERS (Q2) | G31: BULLYING AND CYBER BULLYING (Q2) | AA31: SUSPENSIONS (Q2) | AQ31: EXPULSIONS (Q2) | BG31: Subgroup | BH31: Total Number of Students Deemed Habitual Disciplinary Problems NRS 392.4655 (Q2) | BJ31: Subgroup | BK31: Total Number of Students Suspended (Q2) | BL31: Total Number of Students Expelled (Q2)
D32: Subgroup | E32: Student population by subgroup/race | G32: Subgroup | H32: Bullying Behaviors - Number of Bullying Incidents | Q32: Bullying Behaviors - Number of Cyber Bullying Incidents | AA32: Subgroup | AB32: Violent Behaviors | AE32: Substance Use Behaviors | AH32: Weapons Involved Behaviors | AJ32: Prohibited Behaviors | AK32: Disruptions of Class/School Activities | AL32: Threat Behaviors | AM32: Violations of School Rules | AN32: Attendance Related Behaviors (attendance code only) | AO32: Total Number of Students Who Were Suspended (all behaviors/ reasons) | AQ32: Subgroup | AR32: Violent Behaviors | AU32: Substance Use Behaviors | AX32: Weapons Involved Behaviors | AZ32: Prohibited Behaviors | BA32: Disruptions of Class/School Activities | BB32: Threat Behaviors | BC32: Violations of School Rules | BD32: Attendance Related Behaviors (attendance code only) | BE32: Total Number of Students who were expelled (all behaviors/ reasons)
H33: Reported Incidents | I33: Reported Students | J33: Incidents with discrimination Based on Race | K33: Determined to be Unsubstantiated Bullying Incidents | L33: Determined to be Substantiated Bullying Incidents | M33: Of Unsubstantiated How Many Students Were Suspended | N33: Of Subsantiated How Many Students Were Suspended | O33: Of Unsubstantiated How Many Students Were Expelled | P33: Of Substantiated How Many Students Were Expelled | Q33: Reported Incidents | R33: Reported Students | S33: Discrimination Based on Race | T33: Determined to be Unsubstantiated Bullying | U33: Determined to be Substantiated Bullying | V33: Of Unsubstantiated How Many Students Were Suspended | W33: Of Substantiated How Many Students Were Suspended | X33: Of Unsubstantiated How Many Students Were Expelled | Y33: Of Substantiated How Many Students Were Expelled | AB33: Violence to Other Students | AC33: Violence to School Staff | AD33: Sexual Assault | AE33: Distribution of Controlled Substances | AF33: Possession or Use of Controlled Substances | AG33: Possession or Use of Alcoholic Beverages | AH33: Possession of Non-Firearm Weapons | AI33: Possession of Firearms (Guns Free School Act) | AJ33: Code of Honor Violations | AR33: Violence to Other Students | AS33: Violence to School Staff | AT33: Sexual Assault | AU33: Distribution of Controlled Substances | AV33: Possession or Use of Controlled Substances | AW33: Possession or Use of Alcoholic Beverages | AX33: Possession of Weapons | AY33: Possession of Firearms (Guns Free School Act) | AZ33: Code of Honor Violations
D35: Total Q2 Enrollment | E35: =SUM(E36:E38) -> 0
D36: Male | G36: Male | AA36: Male | AQ36: Male | BG36: Male | BH36: 0 | BJ36: Male | BK36: =AO36 | BL36: =BE36
D37: Female | G37: Female | AA37: Female | AQ37: Female | BG37: Female | BH37: 0 | BJ37: Female | BK37: =AO37 | BL37: =BE37
D38: Gender Non-Conforming/ Trans/NB | G38: Gender Non-Conforming/ Trans/NB | AA38: Gender Non-Conforming/ Trans/NB | AQ38: Gender Non-Conforming/ Trans/NB | BG38: Gender Non-Conforming/ Trans/NB | BH38: 0 | BJ38: Gender Non-Conforming/ Trans/NB | BK38: =AO38 | BL38: =BE38
D39: American Indian | G39: American Indian | AA39: American Indian | AQ39: American Indian | BG39: American Indian | BH39: 0 | BJ39: American Indian | BK39: =AO39 | BL39: =BE39
D40: Asian | G40: Asian | AA40: Asian | AQ40: Asian | BG40: Asian | BH40: 0 | BJ40: Asian | BK40: =AO40 | BL40: =BE40
D41: Black | G41: Black | AA41: Black | AQ41: Black | BG41: Black | BH41: 0 | BJ41: Black | BK41: =AO41 | BL41: =BE41
D42: Hispanic/Latino | G42: Hispanic/Latino | AA42: Hispanic/Latino | AQ42: Hispanic/Latino | BG42: Hispanic/Latino | BH42: 0 | BJ42: Hispanic/Latino | BK42: =AO42 | BL42: =BE42
D43: Two or More | G43: Two or More | AA43: Two or More | AQ43: Two or More | BG43: Two or More | BH43: 0 | BJ43: Two or More | BK43: =AO43 | BL43: =BE43
D44: Pacific Islander | G44: Pacific Islander | AA44: Pacific Islander | AQ44: Pacific Islander | BG44: Pacific Islander | BH44: 0 | BJ44: Pacific Islander | BK44: =AO44 | BL44: =BE44
D45: White | G45: White | AA45: White | AQ45: White | BG45: White | BH45: 0 | BJ45: White | BK45: =AO45 | BL45: =BE45
D46: EL | G46: EL | AA46: EL | AQ46: EL | BG46: EL | BH46: 0 | BJ46: EL | BK46: =AO46 | BL46: =BE46
D47: Foster | G47: Foster | AA47: Foster | AQ47: Foster | BG47: Foster | BH47: 0 | BJ47: Foster | BK47: =AO47 | BL47: =BE47
... D52: Military | G52: Military | AA52: Military | AQ52: Military | BG52: Military | BH52: 0 | BJ52: Military | BK52: =AO52 | BL52: =BE52
C56: QUARTER 3 | D56: TOTAL STUDENT POPULATION NUMBERS (Q3) | G56: BULLYING AND CYBER BULLYING (Q3) | AA56: SUSPENSIONS (Q3) | AQ56: EXPULSIONS (Q3) | BG56: Subgroup | BH56: Total Number of Students Deemed Habitual Disciplinary Problems NRS 392.4655 (Q3) | BJ56: Subgroup | BK56: Total Number of Students Suspended (Q3) | BL56: Total Number of Students Expelled (Q3)
D57: Subgroup | E57: Student population by subgroup/race | G57: Subgroup | H57: Bullying Behaviors - Number of Bullying Incidents | Q57: Bullying Behaviors - Number of Cyber Bullying Incidents | AA57: Subgroup | AB57: Violent Behaviors | AE57: Substance Use Behaviors | AH57: Weapons Involved Behaviors | AJ57: Prohibited Behaviors | AK57: Disruptions of Class/School Activities | AL57: Threat Behaviors | AM57: Violations of School Rules | AN57: Attendance Related Behaviors (attendance code only) | AO57: Total Number of Students Who Were Suspended (all behaviors/ reasons) | AQ57: Subgroup | AR57: Violent Behaviors | AU57: Substance Use Behaviors | AX57: Weapons Involved Behaviors | AZ57: Prohibited Behaviors | BA57: Disruptions of Class/School Activities | BB57: Threat Behaviors | BC57: Violations of School Rules | BD57: Attendance Related Behaviors (attendance code only) | BE57: Total Number of Students who were expelled (all behaviors/ reasons)
H58: Reported Incidents | I58: Reported Students | J58: Incidents with discrimination Based on Race | K58: Determined to be Unsubstantiated Bullying Incidents | L58: Determined to be Substantiated Bullying Incidents | M58: Of Unsubstantiated How Many Students Were Suspended | N58: Of Subsantiated How Many Students Were Suspended | O58: Of Unsubstantiated How Many Students Were Expelled | P58: Of Substantiated How Many Students Were Expelled | Q58: Reported Incidents | R58: Reported Students | S58: Discrimination Based on Race | T58: Determined to be Unsubstantiated Bullying | U58: Determined to be Substantiated Bullying | V58: Of Unsubstantiated How Many Students Were Suspended | W58: Of Substantiated How Many Students Were Suspended | X58: Of Unsubstantiated How Many Students Were Expelled | Y58: Of Substantiated How Many Students Were Expelled | AB58: Violence to Other Students | AC58: Violence to School Staff | AD58: Sexual Assault | AE58: Distribution of Controlled Substances | AF58: Possession or Use of Controlled Substances | AG58: Possession or Use of Alcoholic Beverages | AH58: Possession of Non-Firearm Weapons | AI58: Possession of Firearms (Guns Free School Act) | AJ58: Code of Honor Violations | AR58: Violence to Other Students | AS58: Violence to School Staff | AT58: Sexual Assault | AU58: Distribution of Controlled Substances | AV58: Possession or Use of Controlled Substances | AW58: Possession or Use of Alcoholic Beverages | AX58: Possession of Weapons | AY58: Possession of Firearms (Guns Free School Act) | AZ58: Code of Honor Violations
...

Sheet MINOR Q1
A1: Instructions: | B1: Minor Disproportionate Discipline Tracking and Implementation - by race | K1: Instructions: | L1: Disproportionate Data Tracking and Implementation - by sub-population
A2: 1. Enrollment and Minor ODRs will autopopulate from the INPUT HERE sheet. Percentage, Risk Index, Risk Ratio, and deviations will auto populate and update graphs. | B2: Total School Enrollment | C2: =SUM(C4:I4) -> 0 | K2: 1. Input enrollment by sub-population (students can fall in more than one category - for example if a student is female with an IEP, add one to both female and IEP) >>>
C3: American Indian/ Alaskan Native | D3: Asian | E3: Black | F3: Hispanic/ Latino | G3: Two or More Races | H3: Pacific Islander | I3: White | J3: TOTAL | M3: EL | N3: Female | O3: Foster | P3: FRL | Q3: Gender Non-Conforming/ Trans/NB | R3: Homeless | S3: IEP | T3: Male | U3: MIG | V3: Military
B4: Student Enrollment by Race | C4: ='INPUT HERE'!E4 | D4: ='INPUT HERE'!F4 | E4: ='INPUT HERE'!G4 | F4: ='INPUT HERE'!H4 | G4: ='INPUT HERE'!I4 | H4: ='INPUT HERE'!J4 | I4: ='INPUT HERE'!K4 | J4: =SUM(C4:I4) -> 0 | L4: Student Enrollment by sub-population | M4: ='INPUT HERE'!P4 | N4: ='INPUT HERE'!Q4 | O4: ='INPUT HERE'!R4 | P4: ='INPUT HERE'!S4 | Q4: ='INPUT HERE'!T4 | R4: ='INPUT HERE'!U4 | S4: ='INPUT HERE'!V4 | T4: ='INPUT HERE'!W4 | ... V4: ='INPUT HERE'!Y4
J5: AVERAGE | W5: AVERAGE
B6: Minor ODR by Race (# of students with ODR) | C6: ='INPUT HERE'!E6 | D6: ='INPUT HERE'!F6 | E6: ='INPUT HERE'!G6 -> BULLYING AND CYBER BULLYING (Q1) | F6: ='INPUT HERE'!H6 | G6: ='INPUT HERE'!I6 | H6: ='INPUT HERE'!J6 | I6: ='INPUT HERE'!K6 | K6: 2. Input ODR by sub-population into blue cells, if a student has more than one ODR, input 1 | L6: Minor ODR by sub-population (# of students with ODR) | M6: ='INPUT HERE'!P6 | N6: ='INPUT HERE'!Q6 | O6: ='INPUT HERE'!R6 | P6: ='INPUT HERE'!S6 | Q6: ='INPUT HERE'!T6 | R6: ='INPUT HERE'!U6 | S6: ='INPUT HERE'!V6 | T6: ='INPUT HERE'!W6 | ... V6: ='INPUT HERE'!Y6
B7: Percentage of enrolled students with ODRs by race | C7: =IF(C6,C6/C4,0) -> 0 | D7: =IF(D6,D6/D4,0) -> 0 | E7: =IF(E6,E6/E4,0) -> #VALUE! | F7: =IF(F6,F6/F4,0) -> 0 | G7: =IF(G6,G6/G4,0) -> 0 | H7: =IF(H6,H6/H4,0) -> 0 | I7: =IF(I6,I6/I4,0) -> 0 | J7: =AVERAGE(C7:I7) -> #VALUE! | L7: Percentage of enrolled students with ODRs by sub population | M7: =IF(M4,M6/M4,0) -> 0 | N7: =IF(N4,N6/N4,0) -> 0 | O7: =IF(O4,O6/O4,0) -> 0 | P7: =IF(P4,P6/P4,0) -> 0 | Q7: =IF(Q4,Q6/Q4,0) -> 0 | R7: =IF(R4,R6/R4,0) -> 0 | S7: =IF(S4,S6/S4,0) -> 0 | T7: =IF(T4,T6/T4,0) -> 0 | ... V7: =IF(V4,V6/V4,0) -> 0 | W7: =AVERAGE(M7:V7) -> 0
B8: Risk Index for ODR | C8: =IF(C6,C6/C4,0) -> 0 | D8: =IF(D6,D6/D4,0) -> 0 | E8: =IF(E6,E6/E4,0) -> #VALUE! | F8: =IF(F6,F6/F4,0) -> 0 | G8: =IF(G6,G6/G4,0) -> 0 | H8: =IF(H6,H6/H4,0) -> 0 | I8: =IF(I6,I6/I4,0) -> 0 | J8: =AVERAGE(C8:I8) -> #VALUE! | L8: Risk Index for ODR | M8: =IF(M4,M6/M4,0) -> 0 | N8: =IF(N4,N6/N4,0) -> 0 | O8: =IF(O4,O6/O4,0) -> 0 | P8: =IF(P4,P6/P4,0) -> 0 | Q8: =IF(Q4,Q6/Q4,0) -> 0 | R8: =IF(R4,R6/R4,0) -> 0 | S8: =IF(S4,S6/S4,0) -> 0 | T8: =IF(T4,T6/T4,0) -> 0 | ... V8: =IF(V4,V6/V4,0) -> 0 | W8: =AVERAGE(M8:V8) -> 0
J9: AVERAGE | W9: AVERAGE
B10: Risk Ratio compared to all student | C10: =IF(C8,C8/J8,0) -> 0 | D10: =IF(D8,D8/J8,0) -> 0 | E10: =IF(E8,E8/J8,0) -> #VALUE! | F10: =IF(F8,F8/J8,0) -> 0 | G10: =IF(G8,G8/J8,0) -> 0 | H10: =IF(H8,H8/J8,0) -> 0 | I10: =IF(I8,I8/J8,0) -> 0 | J10: =AVERAGE(C10:I10) -> #VALUE! | K10: 3. Percentage, Risk Index, Risk Ratio, and deviations will auto populate | L10: Risk Ratio compared to all students | M10: =IF(M8,M8/W8,0) -> 0 | N10: =IF(N8,N8/W8,0) -> 0 | O10: =IF(O8,O8/W8,0) -> 0 | P10: =IF(P8,P8/W8,0) -> 0 | Q10: =IF(Q8,Q8/W8,0) -> 0 | R10: =IF(R8,R8/W8,0) -> 0 | S10: =IF(S8,S8/W8,0) -> 0 | T10: =IF(T8,T8/W8,0) -> 0 | U10: =IF(U8,U8/W8,0) -> 0 | V10: =IF(V8,V8/W8,0) -> 0 | W10: =AVERAGE(M10:V10) -> 0
B11: Deviation from average (1) | C11: =C10-$J$10 -> #VALUE! | D11: =D10-$J$10 -> #VALUE! | E11: =E10-$J$10 -> #VALUE! | F11: =F10-$J$10 -> #VALUE! | G11: =G10-$J$10 -> #VALUE! | H11: =H10-$J$10 -> #VALUE! | I11: =I10-$J$10 -> #VALUE! | L11: Deviation from average (1) | M11: =M10-$J$10 -> #VALUE! | N11: =N10-$J$10 -> #VALUE! | O11: =O10-$J$10 -> #VALUE! | P11: =P10-$J$10 -> #VALUE! | Q11: =Q10-$J$10 -> #VALUE! | R11: =R10-$J$10 -> #VALUE! | S11: =S10-$J$10 -> #VALUE! | T11: =T10-$J$10 -> #VALUE! | ... V11: =V10-$J$10 -> #VALUE!
B12: Risk Ratio compared to white students | C12: =IF(I8,C8/I8,0) -> 0 | D12: =IF(I8,D8/I8,0) -> 0 | E12: =IF(I8,E8/I8,0) -> 0 | F12: =IF(I8,F8/I8,0) -> 0 | G12: =IF(I8,G8/I8,0) -> 0 | H12: =IF(I8,H8/I8,0) -> 0 | J12: =AVERAGE(C12:I12) -> 0
A13: Definitions: | B13: Deviation from white students (1) | C13: =C12-J12 -> 0 | D13: =D12-J12 -> 0 | E13: =E12-J12 -> 0 | F13: =F12-J12 -> 0 | G13: =G12-J12 -> 0 | H13: =H12-J12 -> 0 | K13: Definitions:
A14: ODR- Office discipline referral | K14: ODR- Office discipline referral
A15: Risk Index- percentage of a group that receives an ODR | K15: Risk Index- percentage of a group that receives an ODR
A17: Risk Ratio- represents the likelihood of an ODR for one group in in relation to a comparison group | K17: Risk Ratio- represents the likelihood of an ODR for one group in in relation to a comparison group
A20: Risk index of target group / risk index of comparison group = risk ratio | K20: Risk index of target group / risk index of comparison group = risk ratio
A23: Notes: | K23: Notes:
A24: Risk Ratio - boxes highlighted in RED indicate a student group that has an above average chance of an ODR (compared to all students or compared to white students) | K24: Risk Ratio - boxes highlighted in RED indicate a student group that has an above average chance of an ODR (compared to all students)
A30: Risk Ratio Comparison Graphs - Negative (green) values indicate student population has a lower chance of an ODR than comparison group (either all students or white students) Positive (red) values indicate student population has a higher chance of an ODR than comparison group | K30: Risk Ratio Comparison Graphs - Negative (green) values indicate student population has a lower chance of an ODR than the comparison group of "all students". Positive (red) values indicate student population has a higher chance of an ODR than comparison group

Sheet MINOR Q2
A1: Instructions: | B1: Minor Disproportionate Discipline Tracking and Implementation - by race | K1: Instructions: | L1: Disproportionate Data Tracking and Implementation - by sub-population
A2: 1. Input total School Enrollment >> | B2: Total School Enrollment | C2: =SUM(C4:I4) -> 0 | K2: 1. Input enrollment by sub-population (students can fall in more than one category - for example if a student is female with an IEP, add one to both female and IEP) >>>
C3: American Indian/ Alaskan Native | D3: Asian | E3: Black | F3: Hispanic/ Latino | G3: Two or More Races | H3: Pacific Islander | I3: White | J3: TOTAL | M3: EL | N3: Female | O3: Foster | P3: FRL | Q3: Gender Non-Conforming/ Trans/NB | R3: Homeless | S3: IEP | T3: Male | U3: MIG | V3: Military
A4: 2. Input enrollment by race >> | B4: Student Enrollment by Race | C4: ='INPUT HERE'!E15 -> 0 | D4: ='INPUT HERE'!F15 | E4: ='INPUT HERE'!G15 -> Asian | F4: ='INPUT HERE'!H15 -> 0 | G4: ='INPUT HERE'!I15 -> 0 | H4: ='INPUT HERE'!J15 -> 0 | I4: ='INPUT HERE'!K15 -> 0 | J4: =SUM(C4:I4) -> 0 | L4: Student Enrollment by sub-population | M4: ='INPUT HERE'!P15 -> 0 | N4: ='INPUT HERE'!Q15 -> 0 | O4: ='INPUT HERE'!R15 -> 0 | P4: ='INPUT HERE'!S15 -> 0 | Q4: ='INPUT HERE'!T15 -> 0 | R4: ='INPUT HERE'!U15 -> 0 | S4: ='INPUT HERE'!V15 -> 0 | T4: ='INPUT HERE'!W15 -> 0 | ... V4: ='INPUT HERE'!Y15 -> 0
J5: AVERAGE | W5: AVERAGE
A6: 3. Input ODR by Race, if a student has more than one ODR, input 1 | B6: Minor ODR by Race (# of students with ODR) | C6: ='INPUT HERE'!E17 -> 40 | D6: ='INPUT HERE'!F17 | E6: ='INPUT HERE'!G17 -> Hispanic/Latino | F6: ='INPUT HERE'!H17 -> 0 | G6: ='INPUT HERE'!I17 -> 0 | H6: ='INPUT HERE'!J17 -> 0 | I6: ='INPUT HERE'!K17 -> 0 | K6: 2. Input ODR by sub-population into blue cells, if a student has more than one ODR, input 1 | L6: Minor ODR by sub-population (# of students with ODR) | M6: ='INPUT HERE'!P17 -> 0 | N6: ='INPUT HERE'!Q17 -> 0 | O6: ='INPUT HERE'!R17 -> 0 | P6: ='INPUT HERE'!S17 -> 0 | Q6: ='INPUT HERE'!T17 -> 0 | R6: ='INPUT HERE'!U17 -> 0 | S6: ='INPUT HERE'!V17 -> 0 | T6: ='INPUT HERE'!W17 -> 0 | ... V6: ='INPUT HERE'!Y17 -> 0
B7: Percentage of enrolled students with ODRs by race | C7: =IF(C6,C6/C4,0) -> #DIV/0! | D7: =IF(D6,D6/D4,0) -> 0 | E7: =IF(E6,E6/E4,0) -> #VALUE! | F7: =IF(F6,F6/F4,0) -> 0 | G7: =IF(G6,G6/G4,0) -> 0 | H7: =IF(H6,H6/H4,0) -> 0 | I7: =IF(I6,I6/I4,0) -> 0 | J7: =AVERAGE(C7:I7) -> #DIV/0! | L7: Percentage of enrolled students with ODRs by sub population | M7: =IF(M6,M6/M4,0) -> 0 | N7: =IF(N6,N6/N4,0) -> 0 | O7: =IF(O6,O6/O4,0) -> 0 | P7: =IF(P6,P6/P4,0) -> 0 | Q7: =IF(Q6,Q6/Q4,0) -> 0 | R7: =IF(R6,R6/R4,0) -> 0 | S7: =IF(S6,S6/S4,0) -> 0 | T7: =IF(T6,T6/T4,0) -> 0 | ... V7: =IF(V6,V6/V4,0) -> 0 | W7: =AVERAGE(M7:V7) -> 0
B8: Risk Index for ODR | C8: =IF(C6,C6/C4,0) -> #DIV/0! | D8: =IF(D6,D6/D4,0) -> 0 | E8: =IF(E6,E6/E4,0) -> #VALUE! | F8: =IF(F6,F6/F4,0) -> 0 | G8: =IF(G6,G6/G4,0) -> 0 | H8: =IF(H6,H6/H4,0) -> 0 | I8: =IF(I6,I6/I4,0) -> 0 | J8: =AVERAGE(C8:I8) -> #DIV/0! | L8: Risk Index for ODR | M8: =IF(M6,M6/M4,0) -> 0 | N8: =IF(N6,N6/N4,0) -> 0 | O8: =IF(O6,O6/O4,0) -> 0 | P8: =IF(P6,P6/P4,0) -> 0 | Q8: =IF(Q6,Q6/Q4,0) -> 0 | R8: =IF(R6,R6/R4,0) -> 0 | S8: =IF(S6,S6/S4,0) -> 0 | T8: =IF(T6,T6/T4,0) -> 0 | ... V8: =IF(V6,V6/V4,0) -> 0 | W8: =AVERAGE(M8:V8) -> 0
A9: 4. Percentage, Risk Index, Risk Ratio, and deviations will auto populate | J9: AVERAGE | W9: AVERAGE
B10: Risk Ratio compared to all student | C10: =IF(C8,C8/J8,0) -> #DIV/0! | D10: =IF(D8,D8/J8,0) -> 0 | E10: =IF(E8,E8/J8,0) -> #VALUE! | F10: =IF(F8,F8/J8,0) -> 0 | G10: =IF(G8,G8/J8,0) -> 0 | H10: =IF(H8,H8/J8,0) -> 0 | I10: =IF(I8,I8/J8,0) -> 0 | J10: =AVERAGE(C10:I10) -> #DIV/0! | K10: 3. Percentage, Risk Index, Risk Ratio, and deviations will auto populate | L10: Risk Ratio compared to all students | M10: =IF(M8,M8/W8,0) -> 0 | N10: =IF(N8,N8/W8,0) -> 0 | O10: =IF(O8,O8/W8,0) -> 0 | P10: =IF(P8,P8/W8,0) -> 0 | Q10: =IF(Q8,Q8/W8,0) -> 0 | R10: =IF(R8,R8/W8,0) -> 0 | S10: =IF(S8,S8/W8,0) -> 0 | T10: =IF(T8,T8/W8,0) -> 0 | U10: =IF(U8,U8/W8,0) -> 0 | V10: =IF(V8,V8/W8,0) -> 0 | W10: =AVERAGE(M10:V10) -> 0
B11: Deviation from average (1) | C11: =C10-$J$10 -> #DIV/0! | D11: =D10-$J$10 -> #DIV/0! | E11: =E10-$J$10 -> #VALUE! | F11: =F10-$J$10 -> #DIV/0! | G11: =G10-$J$10 -> #DIV/0! | H11: =H10-$J$10 -> #DIV/0! | I11: =I10-$J$10 -> #DIV/0! | L11: Deviation from average (1) | M11: =M10-$J$10 -> #DIV/0! | N11: =N10-$J$10 -> #DIV/0! | O11: =O10-$J$10 -> #DIV/0! | P11: =P10-$J$10 -> #DIV/0! | Q11: =Q10-$J$10 -> #DIV/0! | R11: =R10-$J$10 -> #DIV/0! | S11: =S10-$J$10 -> #DIV/0! | T11: =T10-$J$10 -> #DIV/0! | ... V11: =V10-$J$10 -> #DIV/0!
B12: Risk Ratio compared to white students | C12: =IF(C8,C8/I8,0) -> #DIV/0! | D12: =IF(D8,D8/I8,0) -> 0 | E12: =IF(E8,E8/I8,0) -> #VALUE! | F12: =IF(F8,F8/I8,0) -> 0 | G12: =IF(G8,G8/I8,0) -> 0 | H12: =IF(H8,H8/I8,0) -> 0 | J12: =AVERAGE(C12:I12) -> #DIV/0!
A13: Definitions: | B13: Deviation from white students (1) | C13: =C12-J12 -> #DIV/0! | D13: =D12-J12 -> #DIV/0! | E13: =E12-J12 -> #VALUE! | F13: =F12-J12 -> #DIV/0! | G13: =G12-J12 -> #DIV/0! | H13: =H12-J12 -> #DIV/0! | K13: Definitions:
A14: ODR- Office discipline referral | K14: ODR- Office discipline referral
A15: Risk Index- percentage of a group that receives an ODR | K15: Risk Index- percentage of a group that receives an ODR
A17: Risk Ratio- represents the likelihood of an ODR for one group in in relation to a comparison group | K17: Risk Ratio- represents the likelihood of an ODR for one group in in relation to a comparison group
A20: Risk index of target group / risk index of comparison group = risk ratio | K20: Risk index of target group / risk index of comparison group = risk ratio
A23: Notes: | K23: Notes:
A24: Risk Ratio - boxes highlighted in RED indicate a student group that has an above average chance of an ODR (compared to all students or compared to white students) | K24: Risk Ratio - boxes highlighted in RED indicate a student group that has an above average chance of an ODR (compared to all students)
A30: Risk Ratio Comparison Graphs - Negative (green) values indicate student population has a lower chance of an ODR than comparison group (either all students or white students) Positive (red) values indicate student population has a higher chance of an ODR than comparison group | K30: Risk Ratio Comparison Graphs - Negative (green) values indicate student population has a lower chance of an ODR than the comparison group of "all students". Positive (red) values indicate student population has a higher chance of an ODR than comparison group

Sheet MINOR Q3
A1: Instructions: | B1: Minor Disproportionate Discipline Tracking and Implementation - by race | K1: Instructions: | L1: Disproportionate Data Tracking and Implementation - by sub-population
A2: 1. Input total School Enrollment >> | B2: Total School Enrollment | C2: =SUM(C4:I4) -> 18 | K2: 1. Input enrollment by sub-population (students can fall in more than one category - for example if a student is female with an IEP, add one to both female and IEP) >>>
C3: American Indian/ Alaskan Native | D3: Asian | E3: Black | F3: Hispanic/ Latino | G3: Two or More Races | H3: Pacific Islander | I3: White | J3: TOTAL | M3: EL | N3: Female | O3: Foster | P3: FRL | Q3: Gender Non-Conforming/ Trans/NB | R3: Homeless | S3: IEP | T3: Male | U3: MIG | V3: Military
A4: 2. Input enrollment by race >> | B4: Student Enrollment by Race | C4: ='INPUT HERE'!E25 -> 18 | D4: ='INPUT HERE'!F25 | E4: ='INPUT HERE'!G25 -> IEP | F4: ='INPUT HERE'!H25 -> 0 | G4: ='INPUT HERE'!I25 -> 0 | H4: ='INPUT HERE'!J25 -> 0 | I4: ='INPUT HERE'!K25 -> 0 | J4: =SUM(C4:I4) -> 18 | L4: Student Enrollment by sub-population | M4: ='INPUT HERE'!P25 -> 0 | N4: ='INPUT HERE'!Q25 -> 0 | O4: ='INPUT HERE'!R25 -> 0 | P4: ='INPUT HERE'!S25 -> 0 | Q4: ='INPUT HERE'!T25 -> 0 | R4: ='INPUT HERE'!U25 -> 0 | S4: ='INPUT HERE'!V25 -> 0 | T4: ='INPUT HERE'!W25 -> 0 | ... V4: ='INPUT HERE'!Y25 -> 0
J5: AVERAGE | W5: AVERAGE
A6: 3. Input ODR by Race, if a student has more than one ODR, input 1 | B6: Minor ODR by Race (# of students with ODR) | C6: ='INPUT HERE'!E27 -> 2 | D6: ='INPUT HERE'!F27 | E6: ='INPUT HERE'!G27 -> Military | F6: ='INPUT HERE'!H27 -> 0 | G6: ='INPUT HERE'!I27 -> 0 | H6: ='INPUT HERE'!J27 -> 0 | I6: ='INPUT HERE'!K27 -> 0 | K6: 2. Input ODR by sub-population into blue cells, if a student has more than one ODR, input 1 | L6: Minor ODR by sub-population (# of students with ODR) | M6: ='INPUT HERE'!P27 -> 0 | N6: ='INPUT HERE'!Q27 -> 0 | O6: ='INPUT HERE'!R27 -> 0 | P6: ='INPUT HERE'!S27 -> 0 | Q6: ='INPUT HERE'!T27 -> 0 | R6: ='INPUT HERE'!U27 -> 0 | S6: ='INPUT HERE'!V27 -> 0 | T6: ='INPUT HERE'!W27 -> 0 | ... V6: ='INPUT HERE'!Y27 -> 0
B7: Percentage of enrolled students with ODRs by race | C7: =IF(C6,C6/C4,0) -> 0.11111111 | D7: =IF(D6,D6/D4,0) -> 0 | E7: =IF(E6,E6/E4,0) -> #VALUE! | F7: =IF(F6,F6/F4,0) -> 0 | G7: =IF(G6,G6/G4,0) -> 0 | H7: =IF(H6,H6/H4,0) -> 0 | I7: =IF(I6,I6/I4,0) -> 0 | J7: =AVERAGE(C7:I7) -> #VALUE! | L7: Percentage of enrolled students with ODRs by sub population | M7: =IF(M6,M6/M4,0) -> 0 | N7: =IF(N6,N6/N4,0) -> 0 | O7: =IF(O6,O6/O4,0) -> 0 | P7: =IF(P6,P6/P4,0) -> 0 | Q7: =IF(Q6,Q6/Q4,0) -> 0 | R7: =IF(R6,R6/R4,0) -> 0 | S7: =IF(S6,S6/S4,0) -> 0 | T7: =IF(T6,T6/T4,0) -> 0 | ... V7: =IF(V6,V6/V4,0) -> 0 | W7: =AVERAGE(M7:V7) -> 0
B8: Risk Index for ODR | C8: =IF(C6,C6/C4,0) -> 0.11111111 | D8: =IF(D6,D6/D4,0) -> 0 | E8: =IF(E6,E6/E4,0) -> #VALUE! | F8: =IF(F6,F6/F4,0) -> 0 | G8: =IF(G6,G6/G4,0) -> 0 | H8: =IF(H6,H6/H4,0) -> 0 | I8: =IF(I6,I6/I4,0) -> 0 | J8: =AVERAGE(C8:I8) -> #VALUE! | L8: Risk Index for ODR | M8: =IF(M6,M6/M4,0) -> 0 | N8: =IF(N6,N6/N4,0) -> 0 | O8: =IF(O6,O6/O4,0) -> 0 | P8: =IF(P6,P6/P4,0) -> 0 | Q8: =IF(Q6,Q6/Q4,0) -> 0 | R8: =IF(R6,R6/R4,0) -> 0 | S8: =IF(S6,S6/S4,0) -> 0 | T8: =IF(T6,T6/T4,0) -> 0 | ... V8: =IF(V6,V6/V4,0) -> 0 | W8: =AVERAGE(M8:V8) -> 0
A9: 4. Percentage, Risk Index, Risk Ratio, and deviations will auto populate | J9: AVERAGE | W9: AVERAGE
B10: Risk Ratio compared to all student | C10: =IF(C8,C8/J8,0) -> #VALUE! | D10: =IF(D8,D8/J8,0) -> 0 | E10: =IF(E8,E8/J8,0) -> #VALUE! | F10: =IF(F8,F8/J8,0) -> 0 | G10: =IF(G8,G8/J8,0) -> 0 | H10: =IF(H8,H8/J8,0) -> 0 | I10: =IF(I8,I8/J8,0) -> 0 | J10: =AVERAGE(C10:I10) -> #VALUE! | K10: 3. Percentage, Risk Index, Risk Ratio, and deviations will auto populate | L10: Risk Ratio compared to all students | M10: =IF(M8,M8/W8,0) -> 0 | N10: =IF(N8,N8/W8,0) -> 0 | O10: =IF(O8,O8/W8,0) -> 0 | P10: =IF(P8,P8/W8,0) -> 0 | Q10: =IF(Q8,Q8/W8,0) -> 0 | R10: =IF(R8,R8/W8,0) -> 0 | S10: =IF(S8,S8/W8,0) -> 0 | T10: =IF(T8,T8/W8,0) -> 0 | U10: =IF(U8,U8/W8,0) -> 0 | V10: =IF(V8,V8/W8,0) -> 0 | W10: =AVERAGE(M10:V10) -> 0
B11: Deviation from average (1) | C11: =C10-$J$10 -> #VALUE! | D11: =D10-$J$10 -> #VALUE! | E11: =E10-$J$10 -> #VALUE! | F11: =F10-$J$10 -> #VALUE! | G11: =G10-$J$10 -> #VALUE! | H11: =H10-$J$10 -> #VALUE! | I11: =I10-$J$10 -> #VALUE! | L11: Deviation from average (1) | M11: =M10-$J$10 -> #VALUE! | N11: =N10-$J$10 -> #VALUE! | O11: =O10-$J$10 -> #VALUE! | P11: =P10-$J$10 -> #VALUE! | Q11: =Q10-$J$10 -> #VALUE! | R11: =R10-$J$10 -> #VALUE! | S11: =S10-$J$10 -> #VALUE! | T11: =T10-$J$10 -> #VALUE! | ... V11: =V10-$J$10 -> #VALUE!
B12: Risk Ratio compared to white students | C12: =IF(C8,C8/I8,0) -> #DIV/0! | D12: =IF(D8,D8/I8,0) -> 0 | E12: =IF(E8,E8/I8,0) -> #VALUE! | F12: =IF(F8,F8/I8,0) -> 0 | G12: =IF(G8,G8/I8,0) -> 0 | H12: =IF(H8,H8/I8,0) -> 0 | J12: =AVERAGE(C12:I12) -> #DIV/0!
A13: Definitions: | B13: Deviation from white students (1) | C13: =C12-J12 -> #DIV/0! | D13: =D12-J12 -> #DIV/0! | E13: =E12-J12 -> #VALUE! | F13: =F12-J12 -> #DIV/0! | G13: =G12-J12 -> #DIV/0! | H13: =H12-J12 -> #DIV/0! | K13: Definitions:
A14: ODR- Office discipline referral | K14: ODR- Office discipline referral
A15: Risk Index- percentage of a group that receives an ODR | K15: Risk Index- percentage of a group that receives an ODR
A17: Risk Ratio- represents the likelihood of an ODR for one group in in relation to a comparison group | K17: Risk Ratio- represents the likelihood of an ODR for one group in in relation to a comparison group
A20: Risk index of target group / risk index of comparison group = risk ratio | K20: Risk index of target group / risk index of comparison group = risk ratio
A23: Notes: | K23: Notes:
A24: Risk Ratio - boxes highlighted in RED indicate a student group that has an above average chance of an ODR (compared to all students or compared to white students) | K24: Risk Ratio - boxes highlighted in RED indicate a student group that has an above average chance of an ODR (compared to all students)
A30: Risk Ratio Comparison Graphs - Negative (green) values indicate student population has a lower chance of an ODR than comparison group (either all students or white students) Positive (red) values indicate student population has a higher chance of an ODR than comparison group | K30: Risk Ratio Comparison Graphs - Negative (green) values indicate student population has a lower chance of an ODR than the comparison group of "all students". Positive (red) values indicate student population has a higher chance of an ODR than comparison group

Sheet MINOR Q4
A1: Instructions: | B1: Minor Disproportionate Discipline Tracking and Implementation - by race | K1: Instructions: | L1: Disproportionate Data Tracking and Implementation - by sub-population
A2: 1. Input total School Enrollment >> | B2: Total School Enrollment | C2: =SUM(C4:I4) -> 0 | K2: 1. Input enrollment by sub-population (students can fall in more than one category - for example if a student is female with an IEP, add one to both female and IEP) >>>
C3: American Indian/ Alaskan Native | D3: Asian | E3: Black | F3: Hispanic/ Latino | G3: Two or More Races | H3: Pacific Islander | I3: White | J3: TOTAL | M3: EL | N3: Female | O3: Foster | P3: FRL | Q3: Gender Non-Conforming/ Trans/NB | R3: Homeless | S3: IEP | T3: Male | U3: MIG | V3: Military
A4: 2. Input enrollment by race >> | B4: Student Enrollment by Race | C4: ='INPUT HERE'!E34 | D4: ='INPUT HERE'!F34 | E4: ='INPUT HERE'!G34 | F4: ='INPUT HERE'!H34 | G4: ='INPUT HERE'!I34 | H4: ='INPUT HERE'!J34 | I4: ='INPUT HERE'!K34 | J4: =SUM(C4:I4) -> 0 | L4: Student Enrollment by sub-population | M4: ='INPUT HERE'!P34 | N4: ='INPUT HERE'!Q34 | O4: ='INPUT HERE'!R34 | P4: ='INPUT HERE'!S34 | Q4: ='INPUT HERE'!T34 | R4: ='INPUT HERE'!U34 | S4: ='INPUT HERE'!V34 | T4: ='INPUT HERE'!W34 | ... V4: ='INPUT HERE'!Y34
J5: AVERAGE | W5: AVERAGE
A6: 3. Input ODR by Race, if a student has more than one ODR, input 1 | B6: Minor ODR by Race (# of students with ODR) | C6: ='INPUT HERE'!E37 | D6: ='INPUT HERE'!F37 | E6: ='INPUT HERE'!G37 -> Female | F6: ='INPUT HERE'!H37 | G6: ='INPUT HERE'!I37 | H6: ='INPUT HERE'!J37 | I6: ='INPUT HERE'!K37 | K6: 2. Input ODR by sub-population into blue cells, if a student has more than one ODR, input 1 | L6: Minor ODR by sub-population (# of students with ODR) | M6: ='INPUT HERE'!P37 | N6: ='INPUT HERE'!Q37 | O6: ='INPUT HERE'!R37 | P6: ='INPUT HERE'!S37 | Q6: ='INPUT HERE'!T37 | R6: ='INPUT HERE'!U37 | S6: ='INPUT HERE'!V37 | T6: ='INPUT HERE'!W37 | ... V6: ='INPUT HERE'!Y37
B7: Percentage of enrolled students with ODRs by race | C7: =IF(C6,C6/C4,0) -> 0 | D7: =IF(D6,D6/D4,0) -> 0 | E7: =IF(E6,E6/E4,0) -> #VALUE! | F7: =IF(F6,F6/F4,0) -> 0 | G7: =IF(G6,G6/G4,0) -> 0 | H7: =IF(H6,H6/H4,0) -> 0 | I7: =IF(I6,I6/I4,0) -> 0 | J7: =AVERAGE(C7:I7) -> #VALUE! | L7: Percentage of enrolled students with ODRs by sub population | M7: =IF(M6,M6/M4,0) -> 0 | N7: =IF(N6,N6/N4,0) -> 0 | O7: =IF(O6,O6/O4,0) -> 0 | P7: =IF(P6,P6/P4,0) -> 0 | Q7: =IF(Q6,Q6/Q4,0) -> 0 | R7: =IF(R6,R6/R4,0) -> 0 | S7: =IF(S6,S6/S4,0) -> 0 | T7: =IF(T6,T6/T4,0) -> 0 | ... V7: =IF(V6,V6/V4,0) -> 0 | W7: =AVERAGE(M7:V7) -> 0
B8: Risk Index for ODR | C8: =IF(C6,C6/C4,0) -> 0 | D8: =IF(D6,D6/D4,0) -> 0 | E8: =IF(E6,E6/E4,0) -> #VALUE! | F8: =IF(F6,F6/F4,0) -> 0 | G8: =IF(G6,G6/G4,0) -> 0 | H8: =IF(H6,H6/H4,0) -> 0 | I8: =IF(I6,I6/I4,0) -> 0 | J8: =AVERAGE(C8:I8) -> #VALUE! | L8: Risk Index for ODR | M8: =IF(M6,M6/M4,0) -> 0 | N8: =IF(N6,N6/N4,0) -> 0 | O8: =IF(O6,O6/O4,0) -> 0 | P8: =IF(P6,P6/P4,0) -> 0 | Q8: =IF(Q6,Q6/Q4,0) -> 0 | R8: =IF(R6,R6/R4,0) -> 0 | S8: =IF(S6,S6/S4,0) -> 0 | T8: =IF(T6,T6/T4,0) -> 0 | ... V8: =IF(V6,V6/V4,0) -> 0 | W8: =AVERAGE(M8:V8) -> 0
A9: 4. Percentage, Risk Index, Risk Ratio, and deviations will auto populate | J9: AVERAGE | W9: AVERAGE
B10: Risk Ratio compared to all student | C10: =IF(C8,C8/J8,0) -> 0 | D10: =IF(D8,D8/J8,0) -> 0 | E10: =IF(E8,E8/J8,0) -> #VALUE! | F10: =IF(F8,F8/J8,0) -> 0 | G10: =IF(G8,G8/J8,0) -> 0 | H10: =IF(H8,H8/J8,0) -> 0 | I10: =IF(I8,I8/J8,0) -> 0 | J10: =AVERAGE(C10:I10) -> #VALUE! | K10: 3. Percentage, Risk Index, Risk Ratio, and deviations will auto populate | L10: Risk Ratio compared to all students | M10: =IF(M8,M8/$W$8,0) -> 0 | N10: =IF(N8,N8/$W$8,0) -> 0 | O10: =IF(O8,O8/$W$8,0) -> 0 | P10: =IF(P8,P8/$W$8,0) -> 0 | Q10: =IF(Q8,Q8/$W$8,0) -> 0 | R10: =IF(R8,R8/$W$8,0) -> 0 | S10: =IF(S8,S8/$W$8,0) -> 0 | T10: =IF(T8,T8/$W$8,0) -> 0 | ... V10: =IF(V8,V8/$W$8,0) -> 0 | W10: =AVERAGE(M10:V10) -> 0
B11: Deviation from average (1) | C11: =C10-$J$10 -> #VALUE! | D11: =D10-$J$10 -> #VALUE! | E11: =E10-$J$10 -> #VALUE! | F11: =F10-$J$10 -> #VALUE! | G11: =G10-$J$10 -> #VALUE! | H11: =H10-$J$10 -> #VALUE! | I11: =I10-$J$10 -> #VALUE! | L11: Deviation from average (1) | M11: =M10-$J$10 -> #VALUE! | N11: =N10-$J$10 -> #VALUE! | O11: =O10-$J$10 -> #VALUE! | P11: =P10-$J$10 -> #VALUE! | Q11: =Q10-$J$10 -> #VALUE! | R11: =R10-$J$10 -> #VALUE! | S11: =S10-$J$10 -> #VALUE! | T11: =T10-$J$10 -> #VALUE! | ... V11: =V10-$J$10 -> #VALUE!
B12: Risk Ratio compared to white students | C12: =IF(C8,C8/$I$8,0) -> 0 | D12: =IF(D8,D8/$I$8,0) -> 0 | E12: =IF(E8,E8/$I$8,0) -> #VALUE! | F12: =IF(F8,F8/$I$8,0) -> 0 | G12: =IF(G8,G8/$I$8,0) -> 0 | H12: =IF(H8,H8/$I$8,0) -> 0 | J12: =AVERAGE(C12:I12) -> #VALUE!
A13: Definitions: | B13: Deviation from white students (1) | C13: =C12-J12 -> #VALUE! | D13: =D12-J12 -> #VALUE! | E13: =E12-J12 -> #VALUE! | F13: =F12-J12 -> #VALUE! | G13: =G12-J12 -> #VALUE! | H13: =H12-J12 -> #VALUE! | K13: Definitions:
A14: ODR- Office discipline referral | K14: ODR- Office discipline referral
A15: Risk Index- percentage of a group that receives an ODR | K15: Risk Index- percentage of a group that receives an ODR
A17: Risk Ratio- represents the likelihood of an ODR for one group in in relation to a comparison group | K17: Risk Ratio- represents the likelihood of an ODR for one group in in relation to a comparison group
A20: Risk index of target group / risk index of comparison group = risk ratio | K20: Risk index of target group / risk index of comparison group = risk ratio
A23: Notes: | K23: Notes:
A24: Risk Ratio - boxes highlighted in RED indicate a student group that has an above average chance of an ODR (compared to all students or compared to white students) | K24: Risk Ratio - boxes highlighted in RED indicate a student group that has an above average chance of an ODR (compared to all students)
A30: Risk Ratio Comparison Graphs - Negative (green) values indicate student population has a lower chance of an ODR than comparison group (either all students or white students) Positive (red) values indicate student population has a higher chance of an ODR than comparison group | K30: Risk Ratio Comparison Graphs - Negative (green) values indicate student population has a lower chance of an ODR than the comparison group of "all students". Positive (red) values indicate student population has a higher chance of an ODR than comparison group

Sheet MAJOR Q1
A1: Instructions: | B1: Major Disproportionate Discipline Tracking and Implementation - by race | K1: Instructions: | L1: Disproportionate Data Tracking and Implementation- by sub-population
A2: 1. Input total School Enrollment >> (note that 100 is hypothetical) | B2: Total School Enrollment | C2: =SUM(C4:I4) -> 0 | K2: 1. Input enrollment by sub-population (students can fall in more than one category - for example if a student is female with an IEP, add one to both female and IEP) >>>
C3: American Indian/ Alaskan Native | D3: Asian | E3: Black | F3: Hispanic/ Latino | G3: Two or More Races | H3: Pacific Islander | I3: White | J3: TOTAL | M3: EL | N3: Female | O3: Foster | P3: FRL | Q3: Gender Non-Conforming/ Trans/NB | R3: Homeless | S3: IEP | T3: Male | U3: MIG | V3: Military
A4: 2. Input enrollment by race >> | B4: Student Enrollment by Race | C4: ='INPUT HERE'!E4 | D4: ='INPUT HERE'!F4 | E4: ='INPUT HERE'!G4 | F4: ='INPUT HERE'!H4 | G4: ='INPUT HERE'!I4 | H4: ='INPUT HERE'!J4 | I4: ='INPUT HERE'!K4 | J4: =SUM(C4:I4) -> 0 | L4: Student Enrollment by sub-population | M4: ='INPUT HERE'!P4 | N4: ='INPUT HERE'!Q4 | O4: ='INPUT HERE'!R4 | P4: ='INPUT HERE'!S4 | Q4: ='INPUT HERE'!T4 | R4: ='INPUT HERE'!U4 | S4: ='INPUT HERE'!V4 | T4: ='INPUT HERE'!W4 | ... V4: ='INPUT HERE'!Y4
J5: AVERAGE | W5: AVERAGE
A6: 3. Input ODR by Race, if a student has more than one ODR, input 1 | B6: Major ODR by Race (# of students with ODR) | C6: ='INPUT HERE'!E7 -> Student population by subgroup/race | D6: ='INPUT HERE'!F8 | E6: ='INPUT HERE'!G8 | F6: ='INPUT HERE'!H8 -> Reported Incidents | G6: ='INPUT HERE'!I8 -> Reported Students | H6: ='INPUT HERE'!J8 -> Incidents with discrimination Based on Race | I6: ='INPUT HERE'!K8 -> Determined to be Unsubstantiated Bullying Incidents | K6: 2. Input ODR by sub-population into blue cells, if a student has more than one ODR, input 1 | L6: Major ODR by sub-population (# of students with ODR) | M6: ='INPUT HERE'!P8 -> Of Substantiated How Many Students Were Expelled | N6: ='INPUT HERE'!Q8 -> Reported Incidents | O6: ='INPUT HERE'!R8 -> Reported Students | P6: ='INPUT HERE'!S8 -> Discrimination Based on Race | Q6: ='INPUT HERE'!T8 -> Determined to be Unsubstantiated Bullying | R6: ='INPUT HERE'!U8 -> Determined to be Substantiated Bullying | S6: ='INPUT HERE'!V8 -> Of Unsubstantiated How Many Students Were Suspended | T6: ='INPUT HERE'!W8 -> Of Substantiated How Many Students Were Suspended | ... V6: ='INPUT HERE'!Y8 -> Of Substantiated How Many Students Were Expelled
B7: Percentage of enrolled students with ODRs by race | C7: =IF(C6,C6/C4,0) -> #VALUE! | D7: =IF(D6,D6/D4,0) -> 0 | E7: =IF(E6,E6/E4,0) -> 0 | F7: =IF(F6,F6/F4,0) -> #VALUE! | G7: =IF(G6,G6/G4,0) -> #VALUE! | H7: =IF(H6,H6/H4,0) -> #VALUE! | I7: =IF(I6,I6/I4,0) -> #VALUE! | J7: =AVERAGE(C7:I7) -> #VALUE! | L7: Percentage of enrolled students with ODRs by sub population | M7: =IF(M6,M6/M4,0) -> #VALUE! | N7: =IF(N6,N6/N4,0) -> #VALUE! | O7: =IF(O6,O6/O4,0) -> #VALUE! | P7: =IF(P6,P6/P4,0) -> #VALUE! | Q7: =IF(Q6,Q6/Q4,0) -> #VALUE! | R7: =IF(R6,R6/R4,0) -> #VALUE! | S7: =IF(S6,S6/S4,0) -> #VALUE! | T7: =IF(T6,T6/T4,0) -> #VALUE! | ... V7: =IF(V6,V6/V4,0) -> #VALUE! | W7: =AVERAGE(M7:V7) -> #VALUE!
B8: Risk Index for ODR | C8: =IF(C6,C6/C4,0) -> #VALUE! | D8: =IF(D6,D6/D4,0) -> 0 | E8: =IF(E6,E6/E4,0) -> 0 | F8: =IF(F6,F6/F4,0) -> #VALUE! | G8: =IF(G6,G6/G4,0) -> #VALUE! | H8: =IF(H6,H6/H4,0) -> #VALUE! | I8: =IF(I6,I6/I4,0) -> #VALUE! | J8: =AVERAGE(C8:I8) -> #VALUE! | L8: Risk Index for ODR | M8: =IF(M6,M6/M4,0) -> #VALUE! | N8: =IF(N6,N6/N4,0) -> #VALUE! | O8: =IF(O6,O6/O4,0) -> #VALUE! | P8: =IF(P6,P6/P4,0) -> #VALUE! | Q8: =IF(Q6,Q6/Q4,0) -> #VALUE! | R8: =IF(R6,R6/R4,0) -> #VALUE! | S8: =IF(S6,S6/S4,0) -> #VALUE! | T8: =IF(T6,T6/T4,0) -> #VALUE! | ... V8: =IF(V6,V6/V4,0) -> #VALUE! | W8: =AVERAGE(M8:V8) -> #VALUE!
A9: 4. Percentage, Risk Index, Risk Ratio, and deviations will auto populate | J9: AVERAGE | W9: AVERAGE
B10: Risk Ratio compared to all student | C10: =IF(C8,C8/$J$8,0) -> #VALUE! | D10: =IF(D8,D8/$J$8,0) -> 0 | E10: =IF(E8,E8/$J$8,0) -> 0 | F10: =IF(F8,F8/$J$8,0) -> #VALUE! | G10: =IF(G8,G8/$J$8,0) -> #VALUE! | H10: =IF(H8,H8/$J$8,0) -> #VALUE! | I10: =IF(I8,I8/$J$8,0) -> #VALUE! | J10: =AVERAGE(C10:I10) -> #VALUE! | K10: 3. Percentage, Risk Index, Risk Ratio, and deviations will auto populate | L10: Risk Ratio compared to all students | M10: =IF(M8,M8/$W$8,0) -> #VALUE! | N10: =IF(N8,N8/$W$8,0) -> #VALUE! | O10: =IF(O8,O8/$W$8,0) -> #VALUE! | P10: =IF(P8,P8/$W$8,0) -> #VALUE! | Q10: =IF(Q8,Q8/$W$8,0) -> #VALUE! | R10: =IF(R8,R8/$W$8,0) -> #VALUE! | S10: =IF(S8,S8/$W$8,0) -> #VALUE! | T10: =IF(T8,T8/$W$8,0) -> #VALUE! | ... V10: =IF(V8,V8/$W$8,0) -> #VALUE! | W10: =AVERAGE(M10:V10) -> #VALUE!
B11: Deviation from average (1) | C11: =C10-$J$10 -> #VALUE! | D11: =D10-$J$10 -> #VALUE! | E11: =E10-$J$10 -> #VALUE! | F11: =F10-$J$10 -> #VALUE! | G11: =G10-$J$10 -> #VALUE! | H11: =H10-$J$10 -> #VALUE! | I11: =I10-$J$10 -> #VALUE! | L11: Deviation from average (1) | M11: =M10-$J$10 -> #VALUE! | N11: =N10-$J$10 -> #VALUE! | O11: =O10-$J$10 -> #VALUE! | P11: =P10-$J$10 -> #VALUE! | Q11: =Q10-$J$10 -> #VALUE! | R11: =R10-$J$10 -> #VALUE! | S11: =S10-$J$10 -> #VALUE! | T11: =T10-$J$10 -> #VALUE! | ... V11: =V10-$J$10 -> #VALUE!
B12: Risk Ratio compared to white students | C12: =IF(C8,C8/$I$8,0) -> #VALUE! | D12: =IF(D8,D8/$I$8,0) -> 0 | E12: =IF(E8,E8/$I$8,0) -> 0 | F12: =IF(F8,F8/$I$8,0) -> #VALUE! | G12: =IF(G8,G8/$I$8,0) -> #VALUE! | H12: =IF(H8,H8/$I$8,0) -> #VALUE! | J12: =AVERAGE(C12:I12) -> #VALUE!
A13: Definitions: | B13: Deviation from white students (1) | C13: =C12-J12 -> #VALUE! | D13: =D12-J12 -> #VALUE! | E13: =E12-J12 -> #VALUE! | F13: =F12-J12 -> #VALUE! | G13: =G12-J12 -> #VALUE! | H13: =H12-J12 -> #VALUE! | K13: Definitions:
A14: ODR- Office discipline referral | K14: ODR- Office discipline referral
A15: Risk Index- percentage of a group that receives an ODR | K15: Risk Index- percentage of a group that receives an ODR
A17: Risk Ratio- represents the likelihood of an ODR for one group in in relation to a comparison group | K17: Risk Ratio- represents the likelihood of an ODR for one group in in relation to a comparison group
A20: Risk index of target group / risk index of comparison group = risk ratio | K20: Risk index of target group / risk index of comparison group = risk ratio
A23: Notes: | K23: Notes:
A24: Risk Ratio - boxes highlighted in RED indicate a student group that has an above average chance of an ODR (compared to all students or compared to white students) | K24: Risk Ratio - boxes highlighted in RED indicate a student group that has an above average chance of an ODR (compared to all students)
A30: Risk Ratio Comparison Graphs - Negative (green) values indicate student population has a lower chance of an ODR than comparison group (either all students or white students) Positive (red) values indicate student population has a higher chance of an ODR than comparison group | K30: Risk Ratio Comparison Graphs - Negative (green) values indicate student population has a lower chance of an ODR than the comparison group of "all students". Positive (red) values indicate student population has a higher chance of an ODR than comparison group

Sheet MAJOR Q2
A1: Instructions: | B1: Major Disproportionate Discipline Tracking and Implementation - by race | K1: Instructions: | L1: Disproportionate Data Tracking and Implementation - by sub-population
A2: 1. Input total School Enrollment >> | B2: Total School Enrollment | C2: =SUM(C4:I4) -> 0 | K2: 1. Input enrollment by sub-population (students can fall in more than one category - for example if a student is female with an IEP, add one to both female and IEP) >>>
C3: American Indian/ Alaskan Native | D3: Asian | E3: Black | F3: Hispanic/ Latino | G3: Two or More Races | H3: Pacific Islander | I3: White | J3: TOTAL | M3: EL | N3: Female | O3: Foster | P3: FRL | Q3: Gender Non-Conforming/ Trans/NB | R3: Homeless | S3: IEP | T3: Male | U3: MIG | V3: Military
A4: 2. Input enrollment by race >> | B4: Student Enrollment by Race | C4: ='INPUT HERE'!E15 -> 0 | D4: ='INPUT HERE'!F15 | E4: ='INPUT HERE'!G15 -> Asian | F4: ='INPUT HERE'!H15 -> 0 | G4: ='INPUT HERE'!I15 -> 0 | H4: ='INPUT HERE'!J15 -> 0 | I4: ='INPUT HERE'!K15 -> 0 | J4: =SUM(C4:I4) -> 0 | L4: Student Enrollment by sub-population | M4: ='INPUT HERE'!P15 -> 0 | N4: ='INPUT HERE'!Q15 -> 0 | O4: ='INPUT HERE'!R15 -> 0 | P4: ='INPUT HERE'!S15 -> 0 | Q4: ='INPUT HERE'!T15 -> 0 | R4: ='INPUT HERE'!U15 -> 0 | S4: ='INPUT HERE'!V15 -> 0 | T4: ='INPUT HERE'!W15 -> 0 | ... V4: ='INPUT HERE'!Y15 -> 0
J5: AVERAGE | W5: AVERAGE
A6: 3. Input ODR by Race, if a student has more than one ODR, input 1 | B6: Major ODR by Race (# of students with ODR) | C6: ='INPUT HERE'!E19 -> 0 | D6: ='INPUT HERE'!F19 | E6: ='INPUT HERE'!G19 -> Pacific Islander | F6: ='INPUT HERE'!H19 -> 0 | G6: ='INPUT HERE'!I19 -> 0 | H6: ='INPUT HERE'!J19 -> 0 | I6: ='INPUT HERE'!K19 -> 0 | K6: 2. Input ODR by sub-population into blue cells, if a student has more than one ODR, input 1 | L6: Major ODR by sub-population (# of students with ODR) | M6: ='INPUT HERE'!P19 -> 0 | N6: ='INPUT HERE'!Q19 -> 0 | O6: ='INPUT HERE'!R19 -> 0 | P6: ='INPUT HERE'!S19 -> 0 | Q6: ='INPUT HERE'!T19 -> 0 | R6: ='INPUT HERE'!U19 -> 0 | S6: ='INPUT HERE'!V19 -> 0 | T6: ='INPUT HERE'!W19 -> 0 | ... V6: ='INPUT HERE'!Y19 -> 0
